Workbook

Sheet Info-sivu
B5: Infrarakentamisen päästö- ja kustannuslaskentatyökalu
B7: Tämä päästö- ja kustannuslaskentatyökalu on rakennettu Utajärven kiertotalouden käsikirja -projektin yhteydessä.
B8: Käsikirjan ja laskentatyökälun merkittävin sovelluskohde on rakennusten purkamisessa syntyvän kierrätettävän materiaalin hyödyntäminen Utajärven teollisuusalueen infrarakentamisessa.
B9: Laskentatyökalun tavoitteena on todentaa kierrätysmateriaalien hyödyntämisen kannattavuus ja vaikuttavuus niin ilmaston kuin talouden näkökulmasta.
B10: Laskentatyökalu tulee olemaan kiinteä osa Utajärven teollisuusalueen infrahankkeiden suunnitteluprosessia ja sitä käyttämällä työkalun käyttäjä saa käsityksen eri toimintamallien päästö- ja kustannustasosta.
B13: Päästölaskentatyökalu pohjautuu kestävän rakentamisen standardin EN 15978 moduuleihin A1-A5.
B14: Moduulien selitykset:
B15: A1-A3 Tuotetaso
B16: A1 Raaka-aineiden tuotanto
B17: A2 Kuljetus
B18: A3 Valmistus
B19: A4-A5 Rakentaminen
... B21: A5 Rakennusprosessi
B25: Ohjeistus päästölaskentaosion täyttöön: | J25: Ohjeistus kustannuslaskentaosion täyttöön:
B53: This calculator has been created during spring 2022 by AFRY Finland Oy (“AFRY”). AFRY is neither responsible for the reliability of the initial data filled by the user, nor shall it be held liable for the emission factors and estimates for cost calculation used in the calculator. The emission factors and estimates for cost calculation were selected from publicly open sources or they are based on public sources and interviews conducted for this project. Thus, AFRY can't assure the reliability of the data generated by other parties.
B55: This calculator has been prepared for the municipality of Utajärvi (the “Recipient”). The Recipient may freely distribute this calculator to their partner companies, authorities and other municipalities (the “Calculator user”), taking into account the pre-agreed transferability objectives. The Recipient and the Calculator user can use the calculator to determine carbon footprints and costs of their construction operations or other infrastructure projects.
B57: The Recipient and the Calculator user are allowed to update the data and develop the calculator at their own risk. All other use is strictly prohibited (e.g. resale or sales of the calculation services). By accepting delivery of this calculator, the Recipient acknowledges and agrees to the terms of this disclaimer. The Recipient and the Calculator user are solely responsible for the use, the results and the correctness of their calculations.
B59: Nothing in this calculator is or shall be relied upon as a promise or representation of future events or results. AFRY has prepared this calculator based on available information at the time of its preparation and has no duty to update this calculator unless separately agreed with the Recipient.
B61: AFRY is not responsible for any changes made to the calculator by the Recipient or the Calculator user. Also, the Recipient is neither responsible for the data in the calculator, nor shall it be held liable for the results and information gained by the use of the calculator by the Calculator user. The Calculator user is solely responsible for the use, the results and the correctness of the calculations.
B62: ​
B64: ​

Sheet Laskentasivu
F2: Skenaario 1 -päästölaskenta | G2: Skenaarion nimi: | T2: Skenaario 1 - kustannuslaskenta
F3: 1. Materiaalien päästöt ja kuljetukset
F4: Materiaalit, A1 ja A3 | G4: Määrä | H4: Yksikkö | J4: Materiaalien kuljetustapa, A2 ja A4 | K4: Kuljetuskilometrit | L4: Yksikkö | M4: Päästöt yhteensä materiaalikohtaisesti (kgCO2e) | N4: Materiaalin päästöt (kgCO2e) | O4: Kuljetuksen päästöt (kgCO2e) | U4: Materiaalin yksikkökustannukset | V4: Yksikkö | X4: Kuljetussäde | Y4: Yksikkö | Z4: Kuljetettava määrä vuodessa | AA4: Yksikkö | AB4: Kuljetuksien kustannukset | AC4: Yksikkö | AE4: Kustannukset yhteensä materiaalikohtaisesti (e) | AF4: Materiaalin kustannus (e) | AG4: Kuljetuksen kustannus (e)
F5: Neitseelliset materiaalit
F6: Valitse neitseellinen materiaali | H6: Materiaalin yksikkö | J6: Valitse kuljetustapa | L6: km | M6: {=_xlfn.IFS(F6<>"Valitse neitseellinen materiaali",N6+O6,F6="Valitse neitseellinen materiaali","")} | N6: {=_xlfn.IFS(H6="kg",VLOOKUP(F6,Päästökertoimet!$C$35:$I$59,2,FALSE)*G6,H6="m3",VLOOKUP(F6,Päästökertoimet!$C$35:$I$59,6,FALSE)*G6,F6="Valitse neitseellinen materiaali","")} | O6: {=_xlfn.IFS(H6="kg",VLOOKUP(Laskentasivu!J6,Päästökertoimet!$M$5:$O$29,2,FALSE)*K6*(G6/1000),H6="m3",VLOOKUP(Laskentasivu!J6,Päästökertoimet!$M$5:$O$29,2,FALSE)*K6*G6*VLOOKUP(F6,Päästökertoimet!$C$35:$I$59,4,FALSE)/1000,F6="Valitse neitseellinen materiaali","")} | T6: =F6 -> Valitse neitseellinen materiaali | U6: {=IF(V6<>"",_xlfn.XLOOKUP(T6,Kustannukset!$B$15:$B$70,_xlfn.XLOOKUP(Laskentasivu!V6,Kustannukset!$C$14:$E$14,Kustannukset!$C$15:$E$70)),"")} | V6: {=_xlfn.IFS(H6="kg",Aputaulukko!$F$11,H6="m3",Aputaulukko!$F$12,H6="Materiaalin yksikkö","")} | Y6: km | AA6: t/vuosi | AB6: =IF(Z6<>"",SUMIFS(Kustannukset!$C$78:$C$92,Kustannukset!$B$78:$B$92,Laskentasivu!J6,Kustannukset!$E$78:$E$92,Laskentasivu!X6,Kustannukset!$G$78:$G$92,Laskentasivu!Z6),"") | AC6: e/km | AE6: =AF6+AG6 -> 0 | AF6: {=_xlfn.IFS(V6="e/kg",IF(H6="kg",U6*G6),V6="e/m3",IF(H6="m3",U6*G6),V6="",0)} -> 0 | AG6: {=_xlfn.IFS(AND(AB6<>"",H6="kg"),K6*AB6*((G6/1000)/VLOOKUP(J6,Kustannukset!$B$79:$K$92,9,FALSE)),AND(AB6<>"",H6="m3"),K6*AB6*((G6*VLOOKUP(F6,Päästökertoimet!$C$5:$I$59,4,FALSE)/1000)/VLOOKUP(J6,Kustannukset!$B$79:$K$92,9,FALSE)),AB6="",0)} -> 0
F7: Valitse neitseellinen materiaali | H7: Materiaalin yksikkö | J7: Valitse kuljetustapa | L7: km | M7: {=_xlfn.IFS(F7<>"Valitse neitseellinen materiaali",N7+O7,F7="Valitse neitseellinen materiaali","")} | N7: {=_xlfn.IFS(H7="kg",VLOOKUP(F7,Päästökertoimet!$C$35:$I$59,2,FALSE)*G7,H7="m3",VLOOKUP(F7,Päästökertoimet!$C$35:$I$59,6,FALSE)*G7,F7="Valitse neitseellinen materiaali","")} | O7: {=_xlfn.IFS(H7="kg",VLOOKUP(Laskentasivu!J7,Päästökertoimet!$M$5:$O$29,2,FALSE)*K7*(G7/1000),H7="m3",VLOOKUP(Laskentasivu!J7,Päästökertoimet!$M$5:$O$29,2,FALSE)*K7*G7*VLOOKUP(F7,Päästökertoimet!$C$35:$I$59,4,FALSE)/1000,F7="Valitse neitseellinen materiaali","")} | T7: =F7 -> Valitse neitseellinen materiaali | U7: {=IF(V7<>"",_xlfn.XLOOKUP(T7,Kustannukset!$B$15:$B$70,_xlfn.XLOOKUP(Laskentasivu!V7,Kustannukset!$C$14:$E$14,Kustannukset!$C$15:$E$70)),"")} | V7: {=_xlfn.IFS(H7="kg",Aputaulukko!$F$11,H7="m3",Aputaulukko!$F$12,H7="Materiaalin yksikkö","")} | Y7: km | AA7: t/vuosi | AB7: =IF(Z7<>"",SUMIFS(Kustannukset!$C$78:$C$92,Kustannukset!$B$78:$B$92,Laskentasivu!J7,Kustannukset!$E$78:$E$92,Laskentasivu!X7,Kustannukset!$G$78:$G$92,Laskentasivu!Z7),"") | AC7: e/km | AE7: =AF7+AG7 -> 0 | AF7: {=_xlfn.IFS(V7="e/kg",IF(H7="kg",U7*G7),V7="e/m3",IF(H7="m3",U7*G7),V7="",0)} -> 0 | AG7: {=_xlfn.IFS(AND(AB7<>"",H7="kg"),K7*AB7*((G7/1000)/VLOOKUP(J7,Kustannukset!$B$79:$K$92,9,FALSE)),AND(AB7<>"",H7="m3"),K7*AB7*((G7*VLOOKUP(F7,Päästökertoimet!$C$5:$I$59,4,FALSE)/1000)/VLOOKUP(J7,Kustannukset!$B$79:$K$92,9,FALSE)),AB7="",0)} -> 0
F8: Valitse neitseellinen materiaali | H8: Materiaalin yksikkö | J8: Valitse kuljetustapa | L8: km | M8: {=_xlfn.IFS(F8<>"Valitse neitseellinen materiaali",N8+O8,F8="Valitse neitseellinen materiaali","")} | N8: {=_xlfn.IFS(H8="kg",VLOOKUP(F8,Päästökertoimet!$C$35:$I$59,2,FALSE)*G8,H8="m3",VLOOKUP(F8,Päästökertoimet!$C$35:$I$59,6,FALSE)*G8,F8="Valitse neitseellinen materiaali","")} | O8: {=_xlfn.IFS(H8="kg",VLOOKUP(Laskentasivu!J8,Päästökertoimet!$M$5:$O$29,2,FALSE)*K8*(G8/1000),H8="m3",VLOOKUP(Laskentasivu!J8,Päästökertoimet!$M$5:$O$29,2,FALSE)*K8*G8*VLOOKUP(F8,Päästökertoimet!$C$35:$I$59,4,FALSE)/1000,F8="Valitse neitseellinen materiaali","")} | T8: =F8 -> Valitse neitseellinen materiaali | U8: {=IF(V8<>"",_xlfn.XLOOKUP(T8,Kustannukset!$B$15:$B$70,_xlfn.XLOOKUP(Laskentasivu!V8,Kustannukset!$C$14:$E$14,Kustannukset!$C$15:$E$70)),"")} | V8: {=_xlfn.IFS(H8="kg",Aputaulukko!$F$11,H8="m3",Aputaulukko!$F$12,H8="Materiaalin yksikkö","")} | Y8: km | AA8: t/vuosi | AB8: =IF(Z8<>"",SUMIFS(Kustannukset!$C$78:$C$92,Kustannukset!$B$78:$B$92,Laskentasivu!J8,Kustannukset!$E$78:$E$92,Laskentasivu!X8,Kustannukset!$G$78:$G$92,Laskentasivu!Z8),"") | AC8: e/km | AE8: =AF8+AG8 -> 0 | AF8: {=_xlfn.IFS(V8="e/kg",IF(H8="kg",U8*G8),V8="e/m3",IF(H8="m3",U8*G8),V8="",0)} -> 0 | AG8: {=_xlfn.IFS(AND(AB8<>"",H8="kg"),K8*AB8*((G8/1000)/VLOOKUP(J8,Kustannukset!$B$79:$K$92,9,FALSE)),AND(AB8<>"",H8="m3"),K8*AB8*((G8*VLOOKUP(F8,Päästökertoimet!$C$5:$I$59,4,FALSE)/1000)/VLOOKUP(J8,Kustannukset!$B$79:$K$92,9,FALSE)),AB8="",0)} -> 0
F9: Valitse neitseellinen materiaali | H9: Materiaalin yksikkö | J9: Valitse kuljetustapa | L9: km | M9: {=_xlfn.IFS(F9<>"Valitse neitseellinen materiaali",N9+O9,F9="Valitse neitseellinen materiaali","")} | N9: {=_xlfn.IFS(H9="kg",VLOOKUP(F9,Päästökertoimet!$C$35:$I$59,2,FALSE)*G9,H9="m3",VLOOKUP(F9,Päästökertoimet!$C$35:$I$59,6,FALSE)*G9,F9="Valitse neitseellinen materiaali","")} | O9: {=_xlfn.IFS(H9="kg",VLOOKUP(Laskentasivu!J9,Päästökertoimet!$M$5:$O$29,2,FALSE)*K9*(G9/1000),H9="m3",VLOOKUP(Laskentasivu!J9,Päästökertoimet!$M$5:$O$29,2,FALSE)*K9*G9*VLOOKUP(F9,Päästökertoimet!$C$35:$I$59,4,FALSE)/1000,F9="Valitse neitseellinen materiaali","")} | T9: =F9 -> Valitse neitseellinen materiaali | U9: {=IF(V9<>"",_xlfn.XLOOKUP(T9,Kustannukset!$B$15:$B$70,_xlfn.XLOOKUP(Laskentasivu!V9,Kustannukset!$C$14:$E$14,Kustannukset!$C$15:$E$70)),"")} | V9: {=_xlfn.IFS(H9="kg",Aputaulukko!$F$11,H9="m3",Aputaulukko!$F$12,H9="Materiaalin yksikkö","")} | Y9: km | AA9: t/vuosi | AB9: =IF(Z9<>"",SUMIFS(Kustannukset!$C$78:$C$92,Kustannukset!$B$78:$B$92,Laskentasivu!J9,Kustannukset!$E$78:$E$92,Laskentasivu!X9,Kustannukset!$G$78:$G$92,Laskentasivu!Z9),"") | AC9: e/km | AE9: =AF9+AG9 -> 0 | AF9: {=_xlfn.IFS(V9="e/kg",IF(H9="kg",U9*G9),V9="e/m3",IF(H9="m3",U9*G9),V9="",0)} -> 0 | AG9: {=_xlfn.IFS(AND(AB9<>"",H9="kg"),K9*AB9*((G9/1000)/VLOOKUP(J9,Kustannukset!$B$79:$K$92,9,FALSE)),AND(AB9<>"",H9="m3"),K9*AB9*((G9*VLOOKUP(F9,Päästökertoimet!$C$5:$I$59,4,FALSE)/1000)/VLOOKUP(J9,Kustannukset!$B$79:$K$92,9,FALSE)),AB9="",0)} -> 0
F10: Valitse neitseellinen materiaali | H10: Materiaalin yksikkö | J10: Valitse kuljetustapa | L10: km | M10: {=_xlfn.IFS(F10<>"Valitse neitseellinen materiaali",N10+O10,F10="Valitse neitseellinen materiaali","")} | N10: {=_xlfn.IFS(H10="kg",VLOOKUP(F10,Päästökertoimet!$C$35:$I$59,2,FALSE)*G10,H10="m3",VLOOKUP(F10,Päästökertoimet!$C$35:$I$59,6,FALSE)*G10,F10="Valitse neitseellinen materiaali","")} | O10: {=_xlfn.IFS(H10="kg",VLOOKUP(Laskentasivu!J10,Päästökertoimet!$M$5:$O$29,2,FALSE)*K10*(G10/1000),H10="m3",VLOOKUP(Laskentasivu!J10,Päästökertoimet!$M$5:$O$29,2,FALSE)*K10*G10*VLOOKUP(F10,Päästökertoimet!$C$35:$I$59,4,FALSE)/1000,F10="Valitse neitseellinen materiaali","")} | T10: =F10 -> Valitse neitseellinen materiaali | U10: {=IF(V10<>"",_xlfn.XLOOKUP(T10,Kustannukset!$B$15:$B$70,_xlfn.XLOOKUP(Laskentasivu!V10,Kustannukset!$C$14:$E$14,Kustannukset!$C$15:$E$70)),"")} | V10: {=_xlfn.IFS(H10="kg",Aputaulukko!$F$11,H10="m3",Aputaulukko!$F$12,H10="Materiaalin yksikkö","")} | Y10: km | AA10: t/vuosi | AB10: =IF(Z10<>"",SUMIFS(Kustannukset!$C$78:$C$92,Kustannukset!$B$78:$B$92,Laskentasivu!J10,Kustannukset!$E$78:$E$92,Laskentasivu!X10,Kustannukset!$G$78:$G$92,Laskentasivu!Z10),"") | AC10: e/km | AE10: =AF10+AG10 -> 0 | AF10: {=_xlfn.IFS(V10="e/kg",IF(H10="kg",U10*G10),V10="e/m3",IF(H10="m3",U10*G10),V10="",0)} -> 0 | AG10: {=_xlfn.IFS(AND(AB10<>"",H10="kg"),K10*AB10*((G10/1000)/VLOOKUP(J10,Kustannukset!$B$79:$K$92,9,FALSE)),AND(AB10<>"",H10="m3"),K10*AB10*((G10*VLOOKUP(F10,Päästökertoimet!$C$5:$I$59,4,FALSE)/1000)/VLOOKUP(J10,Kustannukset!$B$79:$K$92,9,FALSE)),AB10="",0)} -> 0
F11: Valitse neitseellinen materiaali | H11: Materiaalin yksikkö | J11: Valitse kuljetustapa | L11: km | M11: {=_xlfn.IFS(F11<>"Valitse neitseellinen materiaali",N11+O11,F11="Valitse neitseellinen materiaali","")} | N11: {=_xlfn.IFS(H11="kg",VLOOKUP(F11,Päästökertoimet!$C$35:$I$59,2,FALSE)*G11,H11="m3",VLOOKUP(F11,Päästökertoimet!$C$35:$I$59,6,FALSE)*G11,F11="Valitse neitseellinen materiaali","")} | O11: {=_xlfn.IFS(H11="kg",VLOOKUP(Laskentasivu!J11,Päästökertoimet!$M$5:$O$29,2,FALSE)*K11*(G11/1000),H11="m3",VLOOKUP(Laskentasivu!J11,Päästökertoimet!$M$5:$O$29,2,FALSE)*K11*G11*VLOOKUP(F11,Päästökertoimet!$C$35:$I$59,4,FALSE)/1000,F11="Valitse neitseellinen materiaali","")} | T11: =F11 -> Valitse neitseellinen materiaali | U11: {=IF(V11<>"",_xlfn.XLOOKUP(T11,Kustannukset!$B$15:$B$70,_xlfn.XLOOKUP(Laskentasivu!V11,Kustannukset!$C$14:$E$14,Kustannukset!$C$15:$E$70)),"")} | V11: {=_xlfn.IFS(H11="kg",Aputaulukko!$F$11,H11="m3",Aputaulukko!$F$12,H11="Materiaalin yksikkö","")} | Y11: km | AA11: t/vuosi | AB11: =IF(Z11<>"",SUMIFS(Kustannukset!$C$78:$C$92,Kustannukset!$B$78:$B$92,Laskentasivu!J11,Kustannukset!$E$78:$E$92,Laskentasivu!X11,Kustannukset!$G$78:$G$92,Laskentasivu!Z11),"") | AC11: e/km | AE11: =AF11+AG11 -> 0 | AF11: {=_xlfn.IFS(V11="e/kg",IF(H11="kg",U11*G11),V11="e/m3",IF(H11="m3",U11*G11),V11="",0)} -> 0 | AG11: {=_xlfn.IFS(AND(AB11<>"",H11="kg"),K11*AB11*((G11/1000)/VLOOKUP(J11,Kustannukset!$B$79:$K$92,9,FALSE)),AND(AB11<>"",H11="m3"),K11*AB11*((G11*VLOOKUP(F11,Päästökertoimet!$C$5:$I$59,4,FALSE)/1000)/VLOOKUP(J11,Kustannukset!$B$79:$K$92,9,FALSE)),AB11="",0)} -> 0
F12: Valitse neitseellinen materiaali | H12: Materiaalin yksikkö | J12: Valitse kuljetustapa | L12: km | M12: {=_xlfn.IFS(F12<>"Valitse neitseellinen materiaali",N12+O12,F12="Valitse neitseellinen materiaali","")} | N12: {=_xlfn.IFS(H12="kg",VLOOKUP(F12,Päästökertoimet!$C$35:$I$59,2,FALSE)*G12,H12="m3",VLOOKUP(F12,Päästökertoimet!$C$35:$I$59,6,FALSE)*G12,F12="Valitse neitseellinen materiaali","")} | O12: {=_xlfn.IFS(H12="kg",VLOOKUP(Laskentasivu!J12,Päästökertoimet!$M$5:$O$29,2,FALSE)*K12*(G12/1000),H12="m3",VLOOKUP(Laskentasivu!J12,Päästökertoimet!$M$5:$O$29,2,FALSE)*K12*G12*VLOOKUP(F12,Päästökertoimet!$C$35:$I$59,4,FALSE)/1000,F12="Valitse neitseellinen materiaali","")} | T12: =F12 -> Valitse neitseellinen materiaali | U12: {=IF(V12<>"",_xlfn.XLOOKUP(T12,Kustannukset!$B$15:$B$70,_xlfn.XLOOKUP(Laskentasivu!V12,Kustannukset!$C$14:$E$14,Kustannukset!$C$15:$E$70)),"")} | V12: {=_xlfn.IFS(H12="kg",Aputaulukko!$F$11,H12="m3",Aputaulukko!$F$12,H12="Materiaalin yksikkö","")} | Y12: km | AA12: t/vuosi | AB12: =IF(Z12<>"",SUMIFS(Kustannukset!$C$78:$C$92,Kustannukset!$B$78:$B$92,Laskentasivu!J12,Kustannukset!$E$78:$E$92,Laskentasivu!X12,Kustannukset!$G$78:$G$92,Laskentasivu!Z12),"") | AC12: e/km | AE12: =AF12+AG12 -> 0 | AF12: {=_xlfn.IFS(V12="e/kg",IF(H12="kg",U12*G12),V12="e/m3",IF(H12="m3",U12*G12),V12="",0)} -> 0 | AG12: {=_xlfn.IFS(AND(AB12<>"",H12="kg"),K12*AB12*((G12/1000)/VLOOKUP(J12,Kustannukset!$B$79:$K$92,9,FALSE)),AND(AB12<>"",H12="m3"),K12*AB12*((G12*VLOOKUP(F12,Päästökertoimet!$C$5:$I$59,4,FALSE)/1000)/VLOOKUP(J12,Kustannukset!$B$79:$K$92,9,FALSE)),AB12="",0)} -> 0
F13: Valitse neitseellinen materiaali | H13: Materiaalin yksikkö | J13: Valitse kuljetustapa | L13: km | M13: {=_xlfn.IFS(F13<>"Valitse neitseellinen materiaali",N13+O13,F13="Valitse neitseellinen materiaali","")} | N13: {=_xlfn.IFS(H13="kg",VLOOKUP(F13,Päästökertoimet!$C$35:$I$59,2,FALSE)*G13,H13="m3",VLOOKUP(F13,Päästökertoimet!$C$35:$I$59,6,FALSE)*G13,F13="Valitse neitseellinen materiaali","")} | O13: {=_xlfn.IFS(H13="kg",VLOOKUP(Laskentasivu!J13,Päästökertoimet!$M$5:$O$29,2,FALSE)*K13*(G13/1000),H13="m3",VLOOKUP(Laskentasivu!J13,Päästökertoimet!$M$5:$O$29,2,FALSE)*K13*G13*VLOOKUP(F13,Päästökertoimet!$C$35:$I$59,4,FALSE)/1000,F13="Valitse neitseellinen materiaali","")} | T13: =F13 -> Valitse neitseellinen materiaali | U13: {=IF(V13<>"",_xlfn.XLOOKUP(T13,Kustannukset!$B$15:$B$70,_xlfn.XLOOKUP(Laskentasivu!V13,Kustannukset!$C$14:$E$14,Kustannukset!$C$15:$E$70)),"")} | V13: {=_xlfn.IFS(H13="kg",Aputaulukko!$F$11,H13="m3",Aputaulukko!$F$12,H13="Materiaalin yksikkö","")} | Y13: km | AA13: t/vuosi | AB13: =IF(Z13<>"",SUMIFS(Kustannukset!$C$78:$C$92,Kustannukset!$B$78:$B$92,Laskentasivu!J13,Kustannukset!$E$78:$E$92,Laskentasivu!X13,Kustannukset!$G$78:$G$92,Laskentasivu!Z13),"") | AC13: e/km | AE13: =AF13+AG13 -> 0 | AF13: {=_xlfn.IFS(V13="e/kg",IF(H13="kg",U13*G13),V13="e/m3",IF(H13="m3",U13*G13),V13="",0)} -> 0 | AG13: {=_xlfn.IFS(AND(AB13<>"",H13="kg"),K13*AB13*((G13/1000)/VLOOKUP(J13,Kustannukset!$B$79:$K$92,9,FALSE)),AND(AB13<>"",H13="m3"),K13*AB13*((G13*VLOOKUP(F13,Päästökertoimet!$C$5:$I$59,4,FALSE)/1000)/VLOOKUP(J13,Kustannukset!$B$79:$K$92,9,FALSE)),AB13="",0)} -> 0
F14: Valitse neitseellinen materiaali | H14: Materiaalin yksikkö | J14: Valitse kuljetustapa | L14: km | M14: {=_xlfn.IFS(F14<>"Valitse neitseellinen materiaali",N14+O14,F14="Valitse neitseellinen materiaali","")} | N14: {=_xlfn.IFS(H14="kg",VLOOKUP(F14,Päästökertoimet!$C$35:$I$59,2,FALSE)*G14,H14="m3",VLOOKUP(F14,Päästökertoimet!$C$35:$I$59,6,FALSE)*G14,F14="Valitse neitseellinen materiaali","")} | O14: {=_xlfn.IFS(H14="kg",VLOOKUP(Laskentasivu!J14,Päästökertoimet!$M$5:$O$29,2,FALSE)*K14*(G14/1000),H14="m3",VLOOKUP(Laskentasivu!J14,Päästökertoimet!$M$5:$O$29,2,FALSE)*K14*G14*VLOOKUP(F14,Päästökertoimet!$C$35:$I$59,4,FALSE)/1000,F14="Valitse neitseellinen materiaali","")} | T14: =F14 -> Valitse neitseellinen materiaali | U14: {=IF(V14<>"",_xlfn.XLOOKUP(T14,Kustannukset!$B$15:$B$70,_xlfn.XLOOKUP(Laskentasivu!V14,Kustannukset!$C$14:$E$14,Kustannukset!$C$15:$E$70)),"")} | V14: {=_xlfn.IFS(H14="kg",Aputaulukko!$F$11,H14="m3",Aputaulukko!$F$12,H14="Materiaalin yksikkö","")} | Y14: km | AA14: t/vuosi | AB14: =IF(Z14<>"",SUMIFS(Kustannukset!$C$78:$C$92,Kustannukset!$B$78:$B$92,Laskentasivu!J14,Kustannukset!$E$78:$E$92,Laskentasivu!X14,Kustannukset!$G$78:$G$92,Laskentasivu!Z14),"") | AC14: e/km | AE14: =AF14+AG14 -> 0 | AF14: {=_xlfn.IFS(V14="e/kg",IF(H14="kg",U14*G14),V14="e/m3",IF(H14="m3",U14*G14),V14="",0)} -> 0 | AG14: {=_xlfn.IFS(AND(AB14<>"",H14="kg"),K14*AB14*((G14/1000)/VLOOKUP(J14,Kustannukset!$B$79:$K$92,9,FALSE)),AND(AB14<>"",H14="m3"),K14*AB14*((G14*VLOOKUP(F14,Päästökertoimet!$C$5:$I$59,4,FALSE)/1000)/VLOOKUP(J14,Kustannukset!$B$79:$K$92,9,FALSE)),AB14="",0)} -> 0
F15: Valitse neitseellinen materiaali | H15: Materiaalin yksikkö | J15: Valitse kuljetustapa | L15: km | M15: {=_xlfn.IFS(F15<>"Valitse neitseellinen materiaali",N15+O15,F15="Valitse neitseellinen materiaali","")} | N15: {=_xlfn.IFS(H15="kg",VLOOKUP(F15,Päästökertoimet!$C$35:$I$59,2,FALSE)*G15,H15="m3",VLOOKUP(F15,Päästökertoimet!$C$35:$I$59,6,FALSE)*G15,F15="Valitse neitseellinen materiaali","")} | O15: {=_xlfn.IFS(H15="kg",VLOOKUP(Laskentasivu!J15,Päästökertoimet!$M$5:$O$29,2,FALSE)*K15*(G15/1000),H15="m3",VLOOKUP(Laskentasivu!J15,Päästökertoimet!$M$5:$O$29,2,FALSE)*K15*G15*VLOOKUP(F15,Päästökertoimet!$C$35:$I$59,4,FALSE)/1000,F15="Valitse neitseellinen materiaali","")} | T15: =F15 -> Valitse neitseellinen materiaali | U15: {=IF(V15<>"",_xlfn.XLOOKUP(T15,Kustannukset!$B$15:$B$70,_xlfn.XLOOKUP(Laskentasivu!V15,Kustannukset!$C$14:$E$14,Kustannukset!$C$15:$E$70)),"")} | V15: {=_xlfn.IFS(H15="kg",Aputaulukko!$F$11,H15="m3",Aputaulukko!$F$12,H15="Materiaalin yksikkö","")} | Y15: km | AA15: t/vuosi | AB15: =IF(Z15<>"",SUMIFS(Kustannukset!$C$78:$C$92,Kustannukset!$B$78:$B$92,Laskentasivu!J15,Kustannukset!$E$78:$E$92,Laskentasivu!X15,Kustannukset!$G$78:$G$92,Laskentasivu!Z15),"") | AC15: e/km | AE15: =AF15+AG15 -> 0 | AF15: {=_xlfn.IFS(V15="e/kg",IF(H15="kg",U15*G15),V15="e/m3",IF(H15="m3",U15*G15),V15="",0)} -> 0 | AG15: {=_xlfn.IFS(AND(AB15<>"",H15="kg"),K15*AB15*((G15/1000)/VLOOKUP(J15,Kustannukset!$B$79:$K$92,9,FALSE)),AND(AB15<>"",H15="m3"),K15*AB15*((G15*VLOOKUP(F15,Päästökertoimet!$C$5:$I$59,4,FALSE)/1000)/VLOOKUP(J15,Kustannukset!$B$79:$K$92,9,FALSE)),AB15="",0)} -> 0
F16: Valitse neitseellinen materiaali | H16: Materiaalin yksikkö | J16: Valitse kuljetustapa | L16: km | M16: {=_xlfn.IFS(F16<>"Valitse neitseellinen materiaali",N16+O16,F16="Valitse neitseellinen materiaali","")} | N16: {=_xlfn.IFS(H16="kg",VLOOKUP(F16,Päästökertoimet!$C$35:$I$59,2,FALSE)*G16,H16="m3",VLOOKUP(F16,Päästökertoimet!$C$35:$I$59,6,FALSE)*G16,F16="Valitse neitseellinen materiaali","")} | O16: {=_xlfn.IFS(H16="kg",VLOOKUP(Laskentasivu!J16,Päästökertoimet!$M$5:$O$29,2,FALSE)*K16*(G16/1000),H16="m3",VLOOKUP(Laskentasivu!J16,Päästökertoimet!$M$5:$O$29,2,FALSE)*K16*G16*VLOOKUP(F16,Päästökertoimet!$C$35:$I$59,4,FALSE)/1000,F16="Valitse neitseellinen materiaali","")} | T16: =F16 -> Valitse neitseellinen materiaali | U16: {=IF(V16<>"",_xlfn.XLOOKUP(T16,Kustannukset!$B$15:$B$70,_xlfn.XLOOKUP(Laskentasivu!V16,Kustannukset!$C$14:$E$14,Kustannukset!$C$15:$E$70)),"")} | V16: {=_xlfn.IFS(H16="kg",Aputaulukko!$F$11,H16="m3",Aputaulukko!$F$12,H16="Materiaalin yksikkö","")} | Y16: km | AA16: t/vuosi | AB16: =IF(Z16<>"",SUMIFS(Kustannukset!$C$78:$C$92,Kustannukset!$B$78:$B$92,Laskentasivu!J16,Kustannukset!$E$78:$E$92,Laskentasivu!X16,Kustannukset!$G$78:$G$92,Laskentasivu!Z16),"") | AC16: e/km | AE16: =AF16+AG16 -> 0 | AF16: {=_xlfn.IFS(V16="e/kg",IF(H16="kg",U16*G16),V16="e/m3",IF(H16="m3",U16*G16),V16="",0)} -> 0 | AG16: {=_xlfn.IFS(AND(AB16<>"",H16="kg"),K16*AB16*((G16/1000)/VLOOKUP(J16,Kustannukset!$B$79:$K$92,9,FALSE)),AND(AB16<>"",H16="m3"),K16*AB16*((G16*VLOOKUP(F16,Päästökertoimet!$C$5:$I$59,4,FALSE)/1000)/VLOOKUP(J16,Kustannukset!$B$79:$K$92,9,FALSE)),AB16="",0)} -> 0
F17: Valitse neitseellinen materiaali | H17: Materiaalin yksikkö | J17: Valitse kuljetustapa | L17: km | M17: {=_xlfn.IFS(F17<>"Valitse neitseellinen materiaali",N17+O17,F17="Valitse neitseellinen materiaali","")} | N17: {=_xlfn.IFS(H17="kg",VLOOKUP(F17,Päästökertoimet!$C$35:$I$59,2,FALSE)*G17,H17="m3",VLOOKUP(F17,Päästökertoimet!$C$35:$I$59,6,FALSE)*G17,F17="Valitse neitseellinen materiaali","")} | O17: {=_xlfn.IFS(H17="kg",VLOOKUP(Laskentasivu!J17,Päästökertoimet!$M$5:$O$29,2,FALSE)*K17*(G17/1000),H17="m3",VLOOKUP(Laskentasivu!J17,Päästökertoimet!$M$5:$O$29,2,FALSE)*K17*G17*VLOOKUP(F17,Päästökertoimet!$C$35:$I$59,4,FALSE)/1000,F17="Valitse neitseellinen materiaali","")} | T17: =F17 -> Valitse neitseellinen materiaali | U17: {=IF(V17<>"",_xlfn.XLOOKUP(T17,Kustannukset!$B$15:$B$70,_xlfn.XLOOKUP(Laskentasivu!V17,Kustannukset!$C$14:$E$14,Kustannukset!$C$15:$E$70)),"")} | V17: {=_xlfn.IFS(H17="kg",Aputaulukko!$F$11,H17="m3",Aputaulukko!$F$12,H17="Materiaalin yksikkö","")} | Y17: km | AA17: t/vuosi | AB17: =IF(Z17<>"",SUMIFS(Kustannukset!$C$78:$C$92,Kustannukset!$B$78:$B$92,Laskentasivu!J17,Kustannukset!$E$78:$E$92,Laskentasivu!X17,Kustannukset!$G$78:$G$92,Laskentasivu!Z17),"") | AC17: e/km | AE17: =AF17+AG17 -> 0 | AF17: {=_xlfn.IFS(V17="e/kg",IF(H17="kg",U17*G17),V17="e/m3",IF(H17="m3",U17*G17),V17="",0)} -> 0 | AG17: {=_xlfn.IFS(AND(AB17<>"",H17="kg"),K17*AB17*((G17/1000)/VLOOKUP(J17,Kustannukset!$B$79:$K$92,9,FALSE)),AND(AB17<>"",H17="m3"),K17*AB17*((G17*VLOOKUP(F17,Päästökertoimet!$C$5:$I$59,4,FALSE)/1000)/VLOOKUP(J17,Kustannukset!$B$79:$K$92,9,FALSE)),AB17="",0)} -> 0
... F21: Valitse neitseellinen materiaali | H21: Materiaalin yksikkö | J21: Valitse kuljetustapa | L21: km | M21: {=_xlfn.IFS(F21<>"Valitse neitseellinen materiaali",N21+O21,F21="Valitse neitseellinen materiaali","")} | N21: {=_xlfn.IFS(H21="kg",VLOOKUP(F21,Päästökertoimet!$C$35:$I$59,2,FALSE)*G21,H21="m3",VLOOKUP(F21,Päästökertoimet!$C$35:$I$59,6,FALSE)*G21,F21="Valitse neitseellinen materiaali","")} | O21: {=_xlfn.IFS(H21="kg",VLOOKUP(Laskentasivu!J21,Päästökertoimet!$M$5:$O$29,2,FALSE)*K21*(G21/1000),H21="m3",VLOOKUP(Laskentasivu!J21,Päästökertoimet!$M$5:$O$29,2,FALSE)*K21*G21*VLOOKUP(F21,Päästökertoimet!$C$35:$I$59,4,FALSE)/1000,F21="Valitse neitseellinen materiaali","")} | T21: =F21 -> Valitse neitseellinen materiaali | U21: {=IF(V21<>"",_xlfn.XLOOKUP(T21,Kustannukset!$B$15:$B$70,_xlfn.XLOOKUP(Laskentasivu!V21,Kustannukset!$C$14:$E$14,Kustannukset!$C$15:$E$70)),"")} | V21: {=_xlfn.IFS(H21="kg",Aputaulukko!$F$11,H21="m3",Aputaulukko!$F$12,H21="Materiaalin yksikkö","")} | Y21: km | AA21: t/vuosi | AB21: =IF(Z21<>"",SUMIFS(Kustannukset!$C$78:$C$92,Kustannukset!$B$78:$B$92,Laskentasivu!J21,Kustannukset!$E$78:$E$92,Laskentasivu!X21,Kustannukset!$G$78:$G$92,Laskentasivu!Z21),"") | AC21: e/km | AE21: =AF21+AG21 -> 0 | AF21: {=_xlfn.IFS(V21="e/kg",IF(H21="kg",U21*G21),V21="e/m3",IF(H21="m3",U21*G21),V21="",0)} -> 0 | AG21: {=_xlfn.IFS(AND(AB21<>"",H21="kg"),K21*AB21*((G21/1000)/VLOOKUP(J21,Kustannukset!$B$79:$K$92,9,FALSE)),AND(AB21<>"",H21="m3"),K21*AB21*((G21*VLOOKUP(F21,Päästökertoimet!$C$5:$I$59,4,FALSE)/1000)/VLOOKUP(J21,Kustannukset!$B$79:$K$92,9,FALSE)),AB21="",0)} -> 0
F22: Uusiomateriaalit
F23: Valitse uusiomateriaali | H23: Materiaalin yksikkö | J23: Valitse kuljetustapa | L23: km | M23: {=_xlfn.IFS(F23<>"Valitse uusiomateriaali",N23+O23,F23="Valitse uusiomateriaali","")} | N23: {=_xlfn.IFS(H23="kg",VLOOKUP(F23,Päästökertoimet!$C$5:$I$34,2,FALSE)*G23,H23="m3",VLOOKUP(F23,Päästökertoimet!$C$5:$I$34,6,FALSE)*G23,F23="Valitse uusiomateriaali","")} | O23: {=_xlfn.IFS(H23="kg",VLOOKUP(Laskentasivu!J23,Päästökertoimet!$M$5:$O$29,2,FALSE)*K23*(G23/1000),H23="m3",VLOOKUP(Laskentasivu!J23,Päästökertoimet!$M$5:$O$29,2,FALSE)*K23*G23*VLOOKUP(F23,Päästökertoimet!$C$5:$I$34,4,FALSE)/1000,F23="Valitse uusiomateriaali","")} | T23: =F23 -> Valitse uusiomateriaali | U23: {=IF(V23<>"",_xlfn.XLOOKUP(T23,Kustannukset!$B$15:$B$70,_xlfn.XLOOKUP(Laskentasivu!V23,Kustannukset!$C$14:$E$14,Kustannukset!$C$15:$E$70)),"")} | V23: {=_xlfn.IFS(H23="kg",Aputaulukko!$F$11,H23="m3",Aputaulukko!$F$12,H23="Materiaalin yksikkö","")} | Y23: km | AA23: t/vuosi | AB23: =IF(Z23<>"",SUMIFS(Kustannukset!$C$78:$C$92,Kustannukset!$B$78:$B$92,Laskentasivu!J23,Kustannukset!$E$78:$E$92,Laskentasivu!X23,Kustannukset!$G$78:$G$92,Laskentasivu!Z23),"") | AC23: e/km | AE23: =AF23+AG23 -> 0 | AF23: {=_xlfn.IFS(V23="e/kg",IF(H23="kg",U23*G23),V23="e/m3",IF(H23="m3",U23*G23),V23="",0)} -> 0 | AG23: {=_xlfn.IFS(AND(AB23<>"",H23="kg"),K23*AB23*((G23/1000)/VLOOKUP(J23,Kustannukset!$B$79:$K$92,9,FALSE)),AND(AB23<>"",H23="m3"),K23*AB23*((G23*VLOOKUP(F23,Päästökertoimet!$C$5:$I$59,4,FALSE)/1000)/VLOOKUP(J23,Kustannukset!$B$79:$K$92,9,FALSE)),AB23="",0)} -> 0
F24: Valitse uusiomateriaali | H24: Materiaalin yksikkö | J24: Valitse kuljetustapa | L24: km | M24: {=_xlfn.IFS(F24<>"Valitse uusiomateriaali",N24+O24,F24="Valitse uusiomateriaali","")} | N24: {=_xlfn.IFS(H24="kg",VLOOKUP(F24,Päästökertoimet!$C$5:$I$34,2,FALSE)*G24,H24="m3",VLOOKUP(F24,Päästökertoimet!$C$5:$I$34,6,FALSE)*G24,F24="Valitse uusiomateriaali","")} | O24: {=_xlfn.IFS(H24="kg",VLOOKUP(Laskentasivu!J24,Päästökertoimet!$M$5:$O$29,2,FALSE)*K24*(G24/1000),H24="m3",VLOOKUP(Laskentasivu!J24,Päästökertoimet!$M$5:$O$29,2,FALSE)*K24*G24*VLOOKUP(F24,Päästökertoimet!$C$5:$I$34,4,FALSE)/1000,F24="Valitse uusiomateriaali","")} | T24: =F24 -> Valitse uusiomateriaali | U24: {=IF(V24<>"",_xlfn.XLOOKUP(T24,Kustannukset!$B$15:$B$70,_xlfn.XLOOKUP(Laskentasivu!V24,Kustannukset!$C$14:$E$14,Kustannukset!$C$15:$E$70)),"")} | V24: {=_xlfn.IFS(H24="kg",Aputaulukko!$F$11,H24="m3",Aputaulukko!$F$12,H24="Materiaalin yksikkö","")} | Y24: km | AA24: t/vuosi | AB24: =IF(Z24<>"",SUMIFS(Kustannukset!$C$78:$C$92,Kustannukset!$B$78:$B$92,Laskentasivu!J24,Kustannukset!$E$78:$E$92,Laskentasivu!X24,Kustannukset!$G$78:$G$92,Laskentasivu!Z24),"") | AC24: e/km | AE24: =AF24+AG24 -> 0 | AF24: {=_xlfn.IFS(V24="e/kg",IF(H24="kg",U24*G24),V24="e/m3",IF(H24="m3",U24*G24),V24="",0)} -> 0 | AG24: {=_xlfn.IFS(AND(AB24<>"",H24="kg"),K24*AB24*((G24/1000)/VLOOKUP(J24,Kustannukset!$B$79:$K$92,9,FALSE)),AND(AB24<>"",H24="m3"),K24*AB24*((G24*VLOOKUP(F24,Päästökertoimet!$C$5:$I$59,4,FALSE)/1000)/VLOOKUP(J24,Kustannukset!$B$79:$K$92,9,FALSE)),AB24="",0)} -> 0
F25: Valitse uusiomateriaali | H25: Materiaalin yksikkö | J25: Valitse kuljetustapa | L25: km | M25: {=_xlfn.IFS(F25<>"Valitse uusiomateriaali",N25+O25,F25="Valitse uusiomateriaali","")} | N25: {=_xlfn.IFS(H25="kg",VLOOKUP(F25,Päästökertoimet!$C$5:$I$34,2,FALSE)*G25,H25="m3",VLOOKUP(F25,Päästökertoimet!$C$5:$I$34,6,FALSE)*G25,F25="Valitse uusiomateriaali","")} | O25: {=_xlfn.IFS(H25="kg",VLOOKUP(Laskentasivu!J25,Päästökertoimet!$M$5:$O$29,2,FALSE)*K25*(G25/1000),H25="m3",VLOOKUP(Laskentasivu!J25,Päästökertoimet!$M$5:$O$29,2,FALSE)*K25*G25*VLOOKUP(F25,Päästökertoimet!$C$5:$I$34,4,FALSE)/1000,F25="Valitse uusiomateriaali","")} | T25: =F25 -> Valitse uusiomateriaali | U25: {=IF(V25<>"",_xlfn.XLOOKUP(T25,Kustannukset!$B$15:$B$70,_xlfn.XLOOKUP(Laskentasivu!V25,Kustannukset!$C$14:$E$14,Kustannukset!$C$15:$E$70)),"")} | V25: {=_xlfn.IFS(H25="kg",Aputaulukko!$F$11,H25="m3",Aputaulukko!$F$12,H25="Materiaalin yksikkö","")} | Y25: km | AA25: t/vuosi | AB25: =IF(Z25<>"",SUMIFS(Kustannukset!$C$78:$C$92,Kustannukset!$B$78:$B$92,Laskentasivu!J25,Kustannukset!$E$78:$E$92,Laskentasivu!X25,Kustannukset!$G$78:$G$92,Laskentasivu!Z25),"") | AC25: e/km | AE25: =AF25+AG25 -> 0 | AF25: {=_xlfn.IFS(V25="e/kg",IF(H25="kg",U25*G25),V25="e/m3",IF(H25="m3",U25*G25),V25="",0)} -> 0 | AG25: {=_xlfn.IFS(AND(AB25<>"",H25="kg"),K25*AB25*((G25/1000)/VLOOKUP(J25,Kustannukset!$B$79:$K$92,9,FALSE)),AND(AB25<>"",H25="m3"),K25*AB25*((G25*VLOOKUP(F25,Päästökertoimet!$C$5:$I$59,4,FALSE)/1000)/VLOOKUP(J25,Kustannukset!$B$79:$K$92,9,FALSE)),AB25="",0)} -> 0
F26: Valitse uusiomateriaali | H26: Materiaalin yksikkö | J26: Valitse kuljetustapa | L26: km | M26: {=_xlfn.IFS(F26<>"Valitse uusiomateriaali",N26+O26,F26="Valitse uusiomateriaali","")} | N26: {=_xlfn.IFS(H26="kg",VLOOKUP(F26,Päästökertoimet!$C$5:$I$34,2,FALSE)*G26,H26="m3",VLOOKUP(F26,Päästökertoimet!$C$5:$I$34,6,FALSE)*G26,F26="Valitse uusiomateriaali","")} | O26: {=_xlfn.IFS(H26="kg",VLOOKUP(Laskentasivu!J26,Päästökertoimet!$M$5:$O$29,2,FALSE)*K26*(G26/1000),H26="m3",VLOOKUP(Laskentasivu!J26,Päästökertoimet!$M$5:$O$29,2,FALSE)*K26*G26*VLOOKUP(F26,Päästökertoimet!$C$5:$I$34,4,FALSE)/1000,F26="Valitse uusiomateriaali","")} | T26: =F26 -> Valitse uusiomateriaali | U26: {=IF(V26<>"",_xlfn.XLOOKUP(T26,Kustannukset!$B$15:$B$70,_xlfn.XLOOKUP(Laskentasivu!V26,Kustannukset!$C$14:$E$14,Kustannukset!$C$15:$E$70)),"")} | V26: {=_xlfn.IFS(H26="kg",Aputaulukko!$F$11,H26="m3",Aputaulukko!$F$12,H26="Materiaalin yksikkö","")} | Y26: km | AA26: t/vuosi | AB26: =IF(Z26<>"",SUMIFS(Kustannukset!$C$78:$C$92,Kustannukset!$B$78:$B$92,Laskentasivu!J26,Kustannukset!$E$78:$E$92,Laskentasivu!X26,Kustannukset!$G$78:$G$92,Laskentasivu!Z26),"") | AC26: e/km | AE26: =AF26+AG26 -> 0 | AF26: {=_xlfn.IFS(V26="e/kg",IF(H26="kg",U26*G26),V26="e/m3",IF(H26="m3",U26*G26),V26="",0)} -> 0 | AG26: {=_xlfn.IFS(AND(AB26<>"",H26="kg"),K26*AB26*((G26/1000)/VLOOKUP(J26,Kustannukset!$B$79:$K$92,9,FALSE)),AND(AB26<>"",H26="m3"),K26*AB26*((G26*VLOOKUP(F26,Päästökertoimet!$C$5:$I$59,4,FALSE)/1000)/VLOOKUP(J26,Kustannukset!$B$79:$K$92,9,FALSE)),AB26="",0)} -> 0
F27: Valitse uusiomateriaali | H27: Materiaalin yksikkö | J27: Valitse kuljetustapa | L27: km | M27: {=_xlfn.IFS(F27<>"Valitse uusiomateriaali",N27+O27,F27="Valitse uusiomateriaali","")} | N27: {=_xlfn.IFS(H27="kg",VLOOKUP(F27,Päästökertoimet!$C$5:$I$34,2,FALSE)*G27,H27="m3",VLOOKUP(F27,Päästökertoimet!$C$5:$I$34,6,FALSE)*G27,F27="Valitse uusiomateriaali","")} | O27: {=_xlfn.IFS(H27="kg",VLOOKUP(Laskentasivu!J27,Päästökertoimet!$M$5:$O$29,2,FALSE)*K27*(G27/1000),H27="m3",VLOOKUP(Laskentasivu!J27,Päästökertoimet!$M$5:$O$29,2,FALSE)*K27*G27*VLOOKUP(F27,Päästökertoimet!$C$5:$I$34,4,FALSE)/1000,F27="Valitse uusiomateriaali","")} | T27: =F27 -> Valitse uusiomateriaali | U27: {=IF(V27<>"",_xlfn.XLOOKUP(T27,Kustannukset!$B$15:$B$70,_xlfn.XLOOKUP(Laskentasivu!V27,Kustannukset!$C$14:$E$14,Kustannukset!$C$15:$E$70)),"")} | V27: {=_xlfn.IFS(H27="kg",Aputaulukko!$F$11,H27="m3",Aputaulukko!$F$12,H27="Materiaalin yksikkö","")} | Y27: km | AA27: t/vuosi | AB27: =IF(Z27<>"",SUMIFS(Kustannukset!$C$78:$C$92,Kustannukset!$B$78:$B$92,Laskentasivu!J27,Kustannukset!$E$78:$E$92,Laskentasivu!X27,Kustannukset!$G$78:$G$92,Laskentasivu!Z27),"") | AC27: e/km | AE27: =AF27+AG27 -> 0 | AF27: {=_xlfn.IFS(V27="e/kg",IF(H27="kg",U27*G27),V27="e/m3",IF(H27="m3",U27*G27),V27="",0)} -> 0 | AG27: {=_xlfn.IFS(AND(AB27<>"",H27="kg"),K27*AB27*((G27/1000)/VLOOKUP(J27,Kustannukset!$B$79:$K$92,9,FALSE)),AND(AB27<>"",H27="m3"),K27*AB27*((G27*VLOOKUP(F27,Päästökertoimet!$C$5:$I$59,4,FALSE)/1000)/VLOOKUP(J27,Kustannukset!$B$79:$K$92,9,FALSE)),AB27="",0)} -> 0
F28: Valitse uusiomateriaali | H28: Materiaalin yksikkö | J28: Valitse kuljetustapa | L28: km | M28: {=_xlfn.IFS(F28<>"Valitse uusiomateriaali",N28+O28,F28="Valitse uusiomateriaali","")} | N28: {=_xlfn.IFS(H28="kg",VLOOKUP(F28,Päästökertoimet!$C$5:$I$34,2,FALSE)*G28,H28="m3",VLOOKUP(F28,Päästökertoimet!$C$5:$I$34,6,FALSE)*G28,F28="Valitse uusiomateriaali","")} | O28: {=_xlfn.IFS(H28="kg",VLOOKUP(Laskentasivu!J28,Päästökertoimet!$M$5:$O$29,2,FALSE)*K28*(G28/1000),H28="m3",VLOOKUP(Laskentasivu!J28,Päästökertoimet!$M$5:$O$29,2,FALSE)*K28*G28*VLOOKUP(F28,Päästökertoimet!$C$5:$I$34,4,FALSE)/1000,F28="Valitse uusiomateriaali","")} | T28: =F28 -> Valitse uusiomateriaali | U28: {=IF(V28<>"",_xlfn.XLOOKUP(T28,Kustannukset!$B$15:$B$70,_xlfn.XLOOKUP(Laskentasivu!V28,Kustannukset!$C$14:$E$14,Kustannukset!$C$15:$E$70)),"")} | V28: {=_xlfn.IFS(H28="kg",Aputaulukko!$F$11,H28="m3",Aputaulukko!$F$12,H28="Materiaalin yksikkö","")} | Y28: km | AA28: t/vuosi | AB28: =IF(Z28<>"",SUMIFS(Kustannukset!$C$78:$C$92,Kustannukset!$B$78:$B$92,Laskentasivu!J28,Kustannukset!$E$78:$E$92,Laskentasivu!X28,Kustannukset!$G$78:$G$92,Laskentasivu!Z28),"") | AC28: e/km | AE28: =AF28+AG28 -> 0 | AF28: {=_xlfn.IFS(V28="e/kg",IF(H28="kg",U28*G28),V28="e/m3",IF(H28="m3",U28*G28),V28="",0)} -> 0 | AG28: {=_xlfn.IFS(AND(AB28<>"",H28="kg"),K28*AB28*((G28/1000)/VLOOKUP(J28,Kustannukset!$B$79:$K$92,9,FALSE)),AND(AB28<>"",H28="m3"),K28*AB28*((G28*VLOOKUP(F28,Päästökertoimet!$C$5:$I$59,4,FALSE)/1000)/VLOOKUP(J28,Kustannukset!$B$79:$K$92,9,FALSE)),AB28="",0)} -> 0
F29: Valitse uusiomateriaali | H29: Materiaalin yksikkö | J29: Valitse kuljetustapa | L29: km | M29: {=_xlfn.IFS(F29<>"Valitse uusiomateriaali",N29+O29,F29="Valitse uusiomateriaali","")} | N29: {=_xlfn.IFS(H29="kg",VLOOKUP(F29,Päästökertoimet!$C$5:$I$34,2,FALSE)*G29,H29="m3",VLOOKUP(F29,Päästökertoimet!$C$5:$I$34,6,FALSE)*G29,F29="Valitse uusiomateriaali","")} | O29: {=_xlfn.IFS(H29="kg",VLOOKUP(Laskentasivu!J29,Päästökertoimet!$M$5:$O$29,2,FALSE)*K29*(G29/1000),H29="m3",VLOOKUP(Laskentasivu!J29,Päästökertoimet!$M$5:$O$29,2,FALSE)*K29*G29*VLOOKUP(F29,Päästökertoimet!$C$5:$I$34,4,FALSE)/1000,F29="Valitse uusiomateriaali","")} | T29: =F29 -> Valitse uusiomateriaali | U29: {=IF(V29<>"",_xlfn.XLOOKUP(T29,Kustannukset!$B$15:$B$70,_xlfn.XLOOKUP(Laskentasivu!V29,Kustannukset!$C$14:$E$14,Kustannukset!$C$15:$E$70)),"")} | V29: {=_xlfn.IFS(H29="kg",Aputaulukko!$F$11,H29="m3",Aputaulukko!$F$12,H29="Materiaalin yksikkö","")} | Y29: km | AA29: t/vuosi | AB29: =IF(Z29<>"",SUMIFS(Kustannukset!$C$78:$C$92,Kustannukset!$B$78:$B$92,Laskentasivu!J29,Kustannukset!$E$78:$E$92,Laskentasivu!X29,Kustannukset!$G$78:$G$92,Laskentasivu!Z29),"") | AC29: e/km | AE29: =AF29+AG29 -> 0 | AF29: {=_xlfn.IFS(V29="e/kg",IF(H29="kg",U29*G29),V29="e/m3",IF(H29="m3",U29*G29),V29="",0)} -> 0 | AG29: {=_xlfn.IFS(AND(AB29<>"",H29="kg"),K29*AB29*((G29/1000)/VLOOKUP(J29,Kustannukset!$B$79:$K$92,9,FALSE)),AND(AB29<>"",H29="m3"),K29*AB29*((G29*VLOOKUP(F29,Päästökertoimet!$C$5:$I$59,4,FALSE)/1000)/VLOOKUP(J29,Kustannukset!$B$79:$K$92,9,FALSE)),AB29="",0)} -> 0
F30: Valitse uusiomateriaali | H30: Materiaalin yksikkö | J30: Valitse kuljetustapa | L30: km | M30: {=_xlfn.IFS(F30<>"Valitse uusiomateriaali",N30+O30,F30="Valitse uusiomateriaali","")} | N30: {=_xlfn.IFS(H30="kg",VLOOKUP(F30,Päästökertoimet!$C$5:$I$34,2,FALSE)*G30,H30="m3",VLOOKUP(F30,Päästökertoimet!$C$5:$I$34,6,FALSE)*G30,F30="Valitse uusiomateriaali","")} | O30: {=_xlfn.IFS(H30="kg",VLOOKUP(Laskentasivu!J30,Päästökertoimet!$M$5:$O$29,2,FALSE)*K30*(G30/1000),H30="m3",VLOOKUP(Laskentasivu!J30,Päästökertoimet!$M$5:$O$29,2,FALSE)*K30*G30*VLOOKUP(F30,Päästökertoimet!$C$5:$I$34,4,FALSE)/1000,F30="Valitse uusiomateriaali","")} | T30: =F30 -> Valitse uusiomateriaali | U30: {=IF(V30<>"",_xlfn.XLOOKUP(T30,Kustannukset!$B$15:$B$70,_xlfn.XLOOKUP(Laskentasivu!V30,Kustannukset!$C$14:$E$14,Kustannukset!$C$15:$E$70)),"")} | V30: {=_xlfn.IFS(H30="kg",Aputaulukko!$F$11,H30="m3",Aputaulukko!$F$12,H30="Materiaalin yksikkö","")} | Y30: km | AA30: t/vuosi | AB30: =IF(Z30<>"",SUMIFS(Kustannukset!$C$78:$C$92,Kustannukset!$B$78:$B$92,Laskentasivu!J30,Kustannukset!$E$78:$E$92,Laskentasivu!X30,Kustannukset!$G$78:$G$92,Laskentasivu!Z30),"") | AC30: e/km | AE30: =AF30+AG30 -> 0 | AF30: {=_xlfn.IFS(V30="e/kg",IF(H30="kg",U30*G30),V30="e/m3",IF(H30="m3",U30*G30),V30="",0)} -> 0 | AG30: {=_xlfn.IFS(AND(AB30<>"",H30="kg"),K30*AB30*((G30/1000)/VLOOKUP(J30,Kustannukset!$B$79:$K$92,9,FALSE)),AND(AB30<>"",H30="m3"),K30*AB30*((G30*VLOOKUP(F30,Päästökertoimet!$C$5:$I$59,4,FALSE)/1000)/VLOOKUP(J30,Kustannukset!$B$79:$K$92,9,FALSE)),AB30="",0)} -> 0
F31: Valitse uusiomateriaali | H31: Materiaalin yksikkö | J31: Valitse kuljetustapa | L31: km | M31: {=_xlfn.IFS(F31<>"Valitse uusiomateriaali",N31+O31,F31="Valitse uusiomateriaali","")} | N31: {=_xlfn.IFS(H31="kg",VLOOKUP(F31,Päästökertoimet!$C$5:$I$34,2,FALSE)*G31,H31="m3",VLOOKUP(F31,Päästökertoimet!$C$5:$I$34,6,FALSE)*G31,F31="Valitse uusiomateriaali","")} | O31: {=_xlfn.IFS(H31="kg",VLOOKUP(Laskentasivu!J31,Päästökertoimet!$M$5:$O$29,2,FALSE)*K31*(G31/1000),H31="m3",VLOOKUP(Laskentasivu!J31,Päästökertoimet!$M$5:$O$29,2,FALSE)*K31*G31*VLOOKUP(F31,Päästökertoimet!$C$5:$I$34,4,FALSE)/1000,F31="Valitse uusiomateriaali","")} | T31: =F31 -> Valitse uusiomateriaali | U31: {=IF(V31<>"",_xlfn.XLOOKUP(T31,Kustannukset!$B$15:$B$70,_xlfn.XLOOKUP(Laskentasivu!V31,Kustannukset!$C$14:$E$14,Kustannukset!$C$15:$E$70)),"")} | V31: {=_xlfn.IFS(H31="kg",Aputaulukko!$F$11,H31="m3",Aputaulukko!$F$12,H31="Materiaalin yksikkö","")} | Y31: km | AA31: t/vuosi | AB31: =IF(Z31<>"",SUMIFS(Kustannukset!$C$78:$C$92,Kustannukset!$B$78:$B$92,Laskentasivu!J31,Kustannukset!$E$78:$E$92,Laskentasivu!X31,Kustannukset!$G$78:$G$92,Laskentasivu!Z31),"") | AC31: e/km | AE31: =AF31+AG31 -> 0 | AF31: {=_xlfn.IFS(V31="e/kg",IF(H31="kg",U31*G31),V31="e/m3",IF(H31="m3",U31*G31),V31="",0)} -> 0 | AG31: {=_xlfn.IFS(AND(AB31<>"",H31="kg"),K31*AB31*((G31/1000)/VLOOKUP(J31,Kustannukset!$B$79:$K$92,9,FALSE)),AND(AB31<>"",H31="m3"),K31*AB31*((G31*VLOOKUP(F31,Päästökertoimet!$C$5:$I$59,4,FALSE)/1000)/VLOOKUP(J31,Kustannukset!$B$79:$K$92,9,FALSE)),AB31="",0)} -> 0
F32: Valitse uusiomateriaali | H32: Materiaalin yksikkö | J32: Valitse kuljetustapa | L32: km | M32: {=_xlfn.IFS(F32<>"Valitse uusiomateriaali",N32+O32,F32="Valitse uusiomateriaali","")} | N32: {=_xlfn.IFS(H32="kg",VLOOKUP(F32,Päästökertoimet!$C$5:$I$34,2,FALSE)*G32,H32="m3",VLOOKUP(F32,Päästökertoimet!$C$5:$I$34,6,FALSE)*G32,F32="Valitse uusiomateriaali","")} | O32: {=_xlfn.IFS(H32="kg",VLOOKUP(Laskentasivu!J32,Päästökertoimet!$M$5:$O$29,2,FALSE)*K32*(G32/1000),H32="m3",VLOOKUP(Laskentasivu!J32,Päästökertoimet!$M$5:$O$29,2,FALSE)*K32*G32*VLOOKUP(F32,Päästökertoimet!$C$5:$I$34,4,FALSE)/1000,F32="Valitse uusiomateriaali","")} | T32: =F32 -> Valitse uusiomateriaali | U32: {=IF(V32<>"",_xlfn.XLOOKUP(T32,Kustannukset!$B$15:$B$70,_xlfn.XLOOKUP(Laskentasivu!V32,Kustannukset!$C$14:$E$14,Kustannukset!$C$15:$E$70)),"")} | V32: {=_xlfn.IFS(H32="kg",Aputaulukko!$F$11,H32="m3",Aputaulukko!$F$12,H32="Materiaalin yksikkö","")} | Y32: km | AA32: t/vuosi | AB32: =IF(Z32<>"",SUMIFS(Kustannukset!$C$78:$C$92,Kustannukset!$B$78:$B$92,Laskentasivu!J32,Kustannukset!$E$78:$E$92,Laskentasivu!X32,Kustannukset!$G$78:$G$92,Laskentasivu!Z32),"") | AC32: e/km | AE32: =AF32+AG32 -> 0 | AF32: {=_xlfn.IFS(V32="e/kg",IF(H32="kg",U32*G32),V32="e/m3",IF(H32="m3",U32*G32),V32="",0)} -> 0 | AG32: {=_xlfn.IFS(AND(AB32<>"",H32="kg"),K32*AB32*((G32/1000)/VLOOKUP(J32,Kustannukset!$B$79:$K$92,9,FALSE)),AND(AB32<>"",H32="m3"),K32*AB32*((G32*VLOOKUP(F32,Päästökertoimet!$C$5:$I$59,4,FALSE)/1000)/VLOOKUP(J32,Kustannukset!$B$79:$K$92,9,FALSE)),AB32="",0)} -> 0
F33: Valitse uusiomateriaali | H33: Materiaalin yksikkö | J33: Valitse kuljetustapa | L33: km | M33: {=_xlfn.IFS(F33<>"Valitse uusiomateriaali",N33+O33,F33="Valitse uusiomateriaali","")} | N33: {=_xlfn.IFS(H33="kg",VLOOKUP(F33,Päästökertoimet!$C$5:$I$34,2,FALSE)*G33,H33="m3",VLOOKUP(F33,Päästökertoimet!$C$5:$I$34,6,FALSE)*G33,F33="Valitse uusiomateriaali","")} | O33: {=_xlfn.IFS(H33="kg",VLOOKUP(Laskentasivu!J33,Päästökertoimet!$M$5:$O$29,2,FALSE)*K33*(G33/1000),H33="m3",VLOOKUP(Laskentasivu!J33,Päästökertoimet!$M$5:$O$29,2,FALSE)*K33*G33*VLOOKUP(F33,Päästökertoimet!$C$5:$I$34,4,FALSE)/1000,F33="Valitse uusiomateriaali","")} | T33: =F33 -> Valitse uusiomateriaali | U33: {=IF(V33<>"",_xlfn.XLOOKUP(T33,Kustannukset!$B$15:$B$70,_xlfn.XLOOKUP(Laskentasivu!V33,Kustannukset!$C$14:$E$14,Kustannukset!$C$15:$E$70)),"")} | V33: {=_xlfn.IFS(H33="kg",Aputaulukko!$F$11,H33="m3",Aputaulukko!$F$12,H33="Materiaalin yksikkö","")} | Y33: km | AA33: t/vuosi | AB33: =IF(Z33<>"",SUMIFS(Kustannukset!$C$78:$C$92,Kustannukset!$B$78:$B$92,Laskentasivu!J33,Kustannukset!$E$78:$E$92,Laskentasivu!X33,Kustannukset!$G$78:$G$92,Laskentasivu!Z33),"") | AC33: e/km | AE33: =AF33+AG33 -> 0 | AF33: {=_xlfn.IFS(V33="e/kg",IF(H33="kg",U33*G33),V33="e/m3",IF(H33="m3",U33*G33),V33="",0)} -> 0 | AG33: {=_xlfn.IFS(AND(AB33<>"",H33="kg"),K33*AB33*((G33/1000)/VLOOKUP(J33,Kustannukset!$B$79:$K$92,9,FALSE)),AND(AB33<>"",H33="m3"),K33*AB33*((G33*VLOOKUP(F33,Päästökertoimet!$C$5:$I$59,4,FALSE)/1000)/VLOOKUP(J33,Kustannukset!$B$79:$K$92,9,FALSE)),AB33="",0)} -> 0
F34: Valitse uusiomateriaali | H34: Materiaalin yksikkö | J34: Valitse kuljetustapa | L34: km | M34: {=_xlfn.IFS(F34<>"Valitse uusiomateriaali",N34+O34,F34="Valitse uusiomateriaali","")} | N34: {=_xlfn.IFS(H34="kg",VLOOKUP(F34,Päästökertoimet!$C$5:$I$34,2,FALSE)*G34,H34="m3",VLOOKUP(F34,Päästökertoimet!$C$5:$I$34,6,FALSE)*G34,F34="Valitse uusiomateriaali","")} | O34: {=_xlfn.IFS(H34="kg",VLOOKUP(Laskentasivu!J34,Päästökertoimet!$M$5:$O$29,2,FALSE)*K34*(G34/1000),H34="m3",VLOOKUP(Laskentasivu!J34,Päästökertoimet!$M$5:$O$29,2,FALSE)*K34*G34*VLOOKUP(F34,Päästökertoimet!$C$5:$I$34,4,FALSE)/1000,F34="Valitse uusiomateriaali","")} | T34: =F34 -> Valitse uusiomateriaali | U34: {=IF(V34<>"",_xlfn.XLOOKUP(T34,Kustannukset!$B$15:$B$70,_xlfn.XLOOKUP(Laskentasivu!V34,Kustannukset!$C$14:$E$14,Kustannukset!$C$15:$E$70)),"")} | V34: {=_xlfn.IFS(H34="kg",Aputaulukko!$F$11,H34="m3",Aputaulukko!$F$12,H34="Materiaalin yksikkö","")} | Y34: km | AA34: t/vuosi | AB34: =IF(Z34<>"",SUMIFS(Kustannukset!$C$78:$C$92,Kustannukset!$B$78:$B$92,Laskentasivu!J34,Kustannukset!$E$78:$E$92,Laskentasivu!X34,Kustannukset!$G$78:$G$92,Laskentasivu!Z34),"") | AC34: e/km | AE34: =AF34+AG34 -> 0 | AF34: {=_xlfn.IFS(V34="e/kg",IF(H34="kg",U34*G34),V34="e/m3",IF(H34="m3",U34*G34),V34="",0)} -> 0 | AG34: {=_xlfn.IFS(AND(AB34<>"",H34="kg"),K34*AB34*((G34/1000)/VLOOKUP(J34,Kustannukset!$B$79:$K$92,9,FALSE)),AND(AB34<>"",H34="m3"),K34*AB34*((G34*VLOOKUP(F34,Päästökertoimet!$C$5:$I$59,4,FALSE)/1000)/VLOOKUP(J34,Kustannukset!$B$79:$K$92,9,FALSE)),AB34="",0)} -> 0
... F38: Valitse uusiomateriaali | H38: Materiaalin yksikkö | J38: Valitse kuljetustapa | L38: km | M38: {=_xlfn.IFS(F38<>"Valitse uusiomateriaali",N38+O38,F38="Valitse uusiomateriaali","")} | N38: {=_xlfn.IFS(H38="kg",VLOOKUP(F38,Päästökertoimet!$C$5:$I$34,2,FALSE)*G38,H38="m3",VLOOKUP(F38,Päästökertoimet!$C$5:$I$34,6,FALSE)*G38,F38="Valitse uusiomateriaali","")} | O38: {=_xlfn.IFS(H38="kg",VLOOKUP(Laskentasivu!J38,Päästökertoimet!$M$5:$O$29,2,FALSE)*K38*(G38/1000),H38="m3",VLOOKUP(Laskentasivu!J38,Päästökertoimet!$M$5:$O$29,2,FALSE)*K38*G38*VLOOKUP(F38,Päästökertoimet!$C$5:$I$34,4,FALSE)/1000,F38="Valitse uusiomateriaali","")} | T38: =F38 -> Valitse uusiomateriaali | U38: {=IF(V38<>"",_xlfn.XLOOKUP(T38,Kustannukset!$B$15:$B$70,_xlfn.XLOOKUP(Laskentasivu!V38,Kustannukset!$C$14:$E$14,Kustannukset!$C$15:$E$70)),"")} | V38: {=_xlfn.IFS(H38="kg",Aputaulukko!$F$11,H38="m3",Aputaulukko!$F$12,H38="Materiaalin yksikkö","")} | Y38: km | AA38: t/vuosi | AB38: =IF(Z38<>"",SUMIFS(Kustannukset!$C$78:$C$92,Kustannukset!$B$78:$B$92,Laskentasivu!J38,Kustannukset!$E$78:$E$92,Laskentasivu!X38,Kustannukset!$G$78:$G$92,Laskentasivu!Z38),"") | AC38: e/km | AE38: =AF38+AG38 -> 0 | AF38: {=_xlfn.IFS(V38="e/kg",IF(H38="kg",U38*G38),V38="e/m3",IF(H38="m3",U38*G38),V38="",0)} -> 0 | AG38: {=_xlfn.IFS(AND(AB38<>"",H38="kg"),K38*AB38*((G38/1000)/VLOOKUP(J38,Kustannukset!$B$79:$K$92,9,FALSE)),AND(AB38<>"",H38="m3"),K38*AB38*((G38*VLOOKUP(F38,Päästökertoimet!$C$5:$I$59,4,FALSE)/1000)/VLOOKUP(J38,Kustannukset!$B$79:$K$92,9,FALSE)),AB38="",0)} -> 0
F40: 2. Rakentamisen päästöt, A5 | M40: Rakentamisen päästöt (kgCO2e)
F41: Kulutettu energiatyyppi* (käytä ensisijaisesti tätä) | G41: Määrä | H41: Yksikkö | M41: Energiatyypiltään | AC41: Materiaalien kustannus | AF41: =SUM(AF6:AF38) -> 0 | AG41: €
F42: Polttoöljy | H42: l | M42: {=_xlfn.IFS(G42<>"",G42*Päästökertoimet!AG5,G42="","")} | AC42: Kuljetuksen kustannus | AF42: =SUM(AG6:AG38) -> 0 | AG42: €
F43: Diesel | H43: l | M43: {=_xlfn.IFS(G43<>"",G43*Päästökertoimet!AG6,G43="","")} | AC43: Yhteensä | AF43: =SUM(AF41:AF42) -> 0 | AG43: €
F44: Uusiutuva diesel | H44: l | M44: {=_xlfn.IFS(G44<>"",G44*Päästökertoimet!AG7,G44="","")}
F45: Bensiini | H45: l | M45: {=_xlfn.IFS(G45<>"",G45*Päästökertoimet!AG8,G45="","")}
F46: LNG | H46: kg | M46: {=_xlfn.IFS(G46<>"",G46*Päästökertoimet!AG9,G46="","")}
F47: Biokaasu | H47: kg | M47: {=_xlfn.IFS(G47<>"",G47*Päästökertoimet!AG10,G47="","")}
F48: Vety | H48: kg | M48: {=_xlfn.IFS(G48<>"",G48*Päästökertoimet!AG11,G48="","")}
...

Sheet Tulokset
B2: Kokonaistulokset
D4: Tulokset | J4: Vertailu
C6: Skenaario 1 | D6: tCO2e | E6: € | I6: tCO2e | J6: Skenaario 1 | K6: Skenaario 2
C7: Yhteistulos | D7: =SUM(D8:D11) -> 0 | E7: =SUM(E8:E10) -> 0 | I7: Yhteistulos | J7: =D7 -> 0 | K7: =D14 -> 0
C8: Materiaalit | D8: =Laskentasivu!K89/1000 -> 0 | E8: =Laskentasivu!AF41 -> 0 | I8: Materiaalit | J8: =D8 -> 0 | K8: =D15 -> 0
C9: Kuljetukset | D9: =Laskentasivu!K90/1000 -> 0 | E9: =Laskentasivu!AF42 -> 0 | I9: Kuljetukset | J9: =D9 -> 0 | K9: =D16 -> 0
C10: Rakentaminen | D10: =Laskentasivu!K91/1000 -> 0 | I10: Rakentaminen | J10: =D10 -> 0 | K10: =D17 -> 0
C11: Jätteet | D11: =Laskentasivu!K92/1000 -> 0 | I11: Jätteet | J11: =D11 -> 0 | K11: =D18 -> 0
C13: Skenaario 2 | D13: tCO2e | E13: € | I13: € | J13: Skenaario 1 | K13: Skenaario 2
C14: Yhteistulos | D14: =SUM(D15:D18) -> 0 | E14: =SUM(E15:E16) -> 0 | I14: Yhteistulos | J14: =E7 -> 0 | K14: =E14 -> 0
C15: Materiaalit | D15: =Laskentasivu!K185/1000 -> 0 | E15: =Laskentasivu!AF137 -> 0 | I15: Materiaalit | J15: =E8 -> 0 | K15: =E15 -> 0
C16: Kuljetukset | D16: =Laskentasivu!K186/1000 -> 0 | E16: =Laskentasivu!AF138 -> 0 | I16: Kuljetukset | J16: =E9 -> 0 | K16: =E16 -> 0
C17: Rakentaminen | D17: =Laskentasivu!K187/1000 -> 0 | I17: Rakentaminen
C18: Jätteet | D18: =Laskentasivu!K188/1000 -> 0 | I18: Jätteet
B56: Päästöjen tarkastelu käytetyn laskentaohjeistuksen mukaisesti
D59: Skenaario 1 | H59: Skenaario 2
D60: Päästölähde | E60: Osio | F60: tCO2e | H60: Päästölähde | I60: Osio | J60: tCO2e
D61: Materiaalien päästöt | E61: A1 ja A3 | F61: =SUM(Laskentasivu!N6:N39)/1000 -> 0 | H61: Materiaalien päästöt | I61: A1 ja A3 | J61: =SUM(Laskentasivu!N101:N135)/1000 -> 0
D62: Materiaalien kuljetus | E62: A2 ja A4 | F62: =SUM(Laskentasivu!O6:O39)/1000 -> 0 | H62: Materiaalien kuljetus | I62: A2 ja A4 | J62: =SUM(Laskentasivu!O102:O134)/1000 -> 0
D63: Rakentamisen päästöt | E63: A5 | F63: =SUM(Laskentasivu!M51:O71)/1000 -> 0 | H63: Rakentamisen päästöt | I63: A5 | J63: =SUM(Laskentasivu!M147:O166)/1000 -> 0
D64: Jätteiden käsittely | E64: A5 | F64: =SUM(Laskentasivu!M74:N86)/1000 -> 0 | H64: Jätteiden käsittely | I64: A5 | J64: =SUM(Laskentasivu!M170:N182)/1000 -> 0

Sheet Päästökertoimet
B1: Päästökertoimet
C3: Materiaalit | D3: Päästökerroin/kg | E3: Yksikkö | F3: Tiheys | H3: Päästökerroin/m3 | J3: Lähde | K3: Muuta | M3: Kuljetukset | N3: Päästökerroin | O3: Yksikkö | P3: Lähde | Q3: Muuta | S3: Työkoneet | AA3: Jätteet | AB3: Päästökerroin | AC3: Yksikkö | AD3: Lähde | AF3: Energia | AG3: Päästökerroin (käytön päästöt) | AH3: Yksikkö | AI3: Lähde
B5: Uusiomateriaalit | C5: Valitse uusiomateriaali | M5: Valitse kuljetustapa | O5: - | S5: Valitse työkone | T5: Päästökerroin /h | V5: Päästökerroin/l | X5: Kulutus | AA5: Energiajäte | AB5: 0.012 | AC5: kgCO2e/kg | AD5: Julia 2030- hanke (sis. Jätteen esikäsittelyn - ei kierrätystä tai energiakäyttöä). Kuljetus lasketaan erikseen. | AF5: Polttoöljy | AG5: 2.75857 | AH5: kgCO2e/l | AI5: DEFRA, 2022. Conversion factors 2022. Gas oil.
C6: Asfalttibetoni (50 % uusio/neitseellinen) | D6: 0.05 | E6: kgCO2e/kg | F6: 2500 | G6: kg/m3 | H6: =D6*F6 -> 125 | I6: kgCO2e/m3 | J6: Rakentamisen päästötietokanta, 2021. Asphalt Concrete, & Bizarro et al. 2021. Potential Carbon Footprint Reduction for Reclaimed Asphalt Pavement Innovations: LCA Methodology, Best Available Technology, and Near-Future Reduction Potential | K6: Päästökertoin asfalttibetonille, jossa 50 % neitseellistä raaka-ainetta. Keskimääräinen arvo kahdesta lähteestä. | M6: Maansiirtoauto ilman perävaunua (19 t), diesel | N6: =AVERAGE(40/1000,69/1000) -> 0.0545 | O6: kgCO2e/tkm | P6: VTT Lipasto, 2016. Maansiirtoauto ilman perävaunua. Ka v. 2016. http://lipasto.vtt.fi/yksikkopaastot/tavaraliikenne/tieliikenne/kamaanstie.htm | Q6: Täyden kuorman ja osakuorman keskiarvo | S6: Trukki, diesel | T6: =AVERAGE(866,830)/1000*AVERAGE(33,88) -> 51.304 | U6: kgCO2e/h | V6: =AG$6 -> 2.55784 | W6: kgCO2e/l | X6: =T6/V6 -> 20.057549 | Y6: l/h | AA6: Rakennusjäte | AB6: 0.067 | AC6: kgCO2e/kg | AD6: Julia 2030- hanke (sis. Jätteen esikäsittelyn - ei kierrätystä tai energiakäyttöä). Kuljetus lasketaan erikseen. | AF6: Diesel | AG6: 2.55784 | AH6: kgCO2e/l | AI6: DEFRA, 2022. Conversion factors 2022. Diesel (average biofuel blend)
C7: Asfalttibetoni (30 % uusio) | D7: =60/1000 -> 0.06 | E7: kgCO2e/kg | F7: 2500 | G7: kg/m3 | H7: =D7*F7 -> 150 | I7: kgCO2e/m3 | J7: Bizarro et al. 2021. Potential Carbon Footprint Reduction for Reclaimed Asphalt Pavement Innovations: LCA Methodology, Best Available Technology, and Near-Future Reduction Potential | K7: Keskiarvoisesti Suomessa käytetään asfalttia, joka on 30 % kierrätysasfalttia | M7: Kasettiautoyhdistelmä (45-50 t), diesel | N7: =((558+((761-558)/19*47.5))/AVERAGE(47.5,(47.5/2)))/1000 -> 0.029908772 | O7: kgCO2e/tkm | P7: Laskettu VTT:n Lipaston tietojen mukaan. | Q7: Laskettu Lipaston ohjeiden mukaisesti (Yksikköpäästökertoimet eri osakuormille: http://lipasto.vtt.fi/yksikkopaastot/guide_tie.htm). Laskennan pohja-arvoina käytetty maansiirtoautoa ilman perävaunua. | S7: Puskutraktori, diesel | T7: =821/1000*112 -> 91.952 | U7: kgCO2e/h | V7: =AG$6 -> 2.55784 | W7: kgCO2e/l | X7: =T7/V7 -> 35.949082 | Y7: l/h | AA7: Metalli | AB7: 0 | AC7: kgCO2e/kg | AD7: Julia 2030- hanke (sis. Jätteen esikäsittelyn - ei kierrätystä tai energiakäyttöä). Kuljetus lasketaan erikseen. | AF7: Uusiutuva diesel | AG7: 0.03558 | AH7: kgCO2e/l | AI7: DEFRA, 2022. Conversion factors 2022. Biodiesel HVO
C8: Asfalttijätemurske (uusio) | D8: 0.006 | E8: kgCO2e/kg | F8: 2500 | G8: kg/m3 | H8: =D8*F8 -> 15 | I8: kgCO2e/m3 | J8: Rakentamisen päästötietokanta, 2021. Waste processing, mineral materials | K8: Sis. murskaus | M8: Maansiirtoauto ilman perävaunua (19 t), uusiutuva diesel | N8: =AVERAGE(0.029,0.017)*0 -> 0 | O8: kgCO2e/tkm | P8: VTT Lipasto, 2016. Maansiirtoauto ilman perävaunua. Kulutus [l/tkm]. Ka v. 2016. http://lipasto.vtt.fi/yksikkopaastot/tavaraliikenne/tieliikenne/kamaanstie.htm & Uusiutuvan dieselin päästökerroin polton ajalta = 0 kgCO2e/l | Q8: Täyden kuorman ja osakuorman kulutuksen keskiarvo | S8: Tiehöylä, diesel | T8: =810/1000*149 -> 120.69 | U8: kgCO2e/h | V8: =AG$6 -> 2.55784 | W8: kgCO2e/l | X8: =T8/V8 -> 47.184343 | Y8: l/h | AA8: Kartonki/pahvi | AB8: 0.002 | AC8: kgCO2e/kg | AD8: Julia 2030- hanke (sis. Jätteen esikäsittelyn - ei kierrätystä tai energiakäyttöä). Kuljetus lasketaan erikseen. | AF8: Bensiini | AG8: 2.16185 | AH8: kgCO2e/l | AI8: DEFRA, 2022. Conversion factors 2022. Petrol (average biofuel blend)
C9: Betonijätemurske (uusio) | D9: =0.006 -> 0.006 | E9: kgCO2e/kg | F9: 2400 | G9: kg/m3 | H9: =D9*F9 -> 14.4 | I9: kgCO2e/m3 | J9: Rakentamisen päästötietokanta, 2021. Waste processing, mineral materials | K9: Sis. murskaus | M9: Kasettiautoyhdistelmä (45-50 t), uusiutuva diesel | N9: =(((23.5+((32.1-23.5)/19*47.5))/AVERAGE(47.5,(47.5/2)))/100)*0 -> 0 | O9: kgCO2e/tkm | P9: VTT Lipasto, 2016. Maansiirtoauto ilman perävaunua. Kulutus [l/tkm]. Ka v. 2016. http://lipasto.vtt.fi/yksikkopaastot/tavaraliikenne/tieliikenne/kamaanstie.htm & Uusiutuvan dieselin päästökerroin polton ajalta = 0 kgCO2e/l | Q9: Kasettiauton kulutus laskettu maansiirtoauton kulutuksen kautta suhteutettuna painoon. | S9: Jyrä, diesel | T9: =852/1000*45 -> 38.34 | U9: kgCO2e/h | V9: =AG$6 -> 2.55784 | W9: kgCO2e/l | X9: =T9/V9 -> 14.98921 | Y9: l/h | AA9: Lasi | AB9: 0 | AC9: kgCO2e/kg | AD9: Julia 2030- hanke (sis. Jätteen esikäsittelyn - ei kierrätystä tai energiakäyttöä). Kuljetus lasketaan erikseen. | AF9: LNG | AG9: 2.55917 | AH9: kgCO2e/kg | AI9: DEFRA, 2022. Conversion factors 2022. LNG
C10: Geopolymeeri (uusio) | D10: =AVERAGE(D37,D38,D39)*(1-0.6) -> 0.073333333 | E10: kgCO2e/kg | F10: =F37 -> 2400 | G10: kg/m3 | H10: =D10*F10 -> 176 | I10: kgCO2e/m3 | J10: https://www.ril.fi/fi/rakennustekniikka/betonia-teollisuuden-sivuvirroista.html | K10: 60 % pienempi kuin tavallisen betonin hiilijalanjälki | M10: Vety-maansiirtoauto ilman perävaunua (19 t) | N10: =AVERAGE(0.029,0.017)*0 -> 0 | O10: kgCO2e/tkm | P10: VTT Lipasto, 2016. Maansiirtoauto ilman perävaunua. Kulutus [l/tkm]. Ka v. 2016. http://lipasto.vtt.fi/yksikkopaastot/tavaraliikenne/tieliikenne/kamaanstie.htm & Vedyn päästökerroin arvioitu nollaksi. | Q10: Päästökerroin riippuu vedyn tuotantotavasta. Mikäli vety tuotetaan muuten kuin päästöttömästi, lisää o-sarakkeen kaavaan nollan tilalle päästökertoimeksi arvo yksikössä kgCO2e/l. | S10: Pyöräkuormaaja, diesel | T10: =828/1000*94 -> 77.832 | U10: kgCO2e/h | V10: =AG$6 -> 2.55784 | W10: kgCO2e/l | X10: =T10/V10 -> 30.428799 | Y10: l/h | AA10: Muovi | AB10: 0 | AC10: kgCO2e/kg | AD10: Julia 2030- hanke (sis. Jätteen esikäsittelyn - ei kierrätystä tai energiakäyttöä). Kuljetus lasketaan erikseen. | AF10: Biokaasu | AG10: =1.21919/1000 -> 0.00121919 | AH10: kgCO2e/kg | AI10: DEFRA, 2022. Conversion factors 2022. Biogas
C11: Jätekalkki | D11: 0 | E11: kgCO2e/kg | F11: =AVERAGE(3310,750,1300) -> 1786.6667 | G11: kg/m3 | H11: =D11*F11 -> 0 | I11: kgCO2e/m3 | J11: AFRYn arvio | K11: Käytetään sellaisenaan | M11: Vety-kasettiautoyhdistelmä (45-50 t) | N11: =(((23.5+((32.1-23.5)/19*47.5))/AVERAGE(47.5,(47.5/2)))/100)*0 -> 0 | O11: kgCO2e/tkm | P11: VTT Lipasto, 2016. Maansiirtoauto ilman perävaunua. Kulutus [l/tkm]. Ka v. 2016. http://lipasto.vtt.fi/yksikkopaastot/tavaraliikenne/tieliikenne/kamaanstie.htm & Vedyn päästökerroin arvioitu nollaksi. | Q11: Päästökerroin riippuu vedyn tuotantotavasta. Mikäli vety tuotetaan muuten kuin päästöttömästi, lisää o-sarakkeen kaavaan nollan tilalle päästökertoimeksi arvo yksikössä kgCO2e/l. Kasettiauton kulutus laskettu maansiirtoauton kulutuksen kautta suhteutettuna painoon. | S11: Traktorikaivuri, diesel | T11: =842/1000*74 -> 62.308 | U11: kgCO2e/h | V11: =AG$6 -> 2.55784 | W11: kgCO2e/l | X11: =T11/V11 -> 24.359616 | Y11: l/h | AA11: Puu | AB11: 0.005 | AC11: kgCO2e/kg | AD11: Julia 2030- hanke (sis. Jätteen esikäsittelyn - ei kierrätystä tai energiakäyttöä). Kuljetus lasketaan erikseen. | AF11: Vety | AG11: 0 | AH11: kgCO2/kg | AI11: Vedyn polttaminen itsessään on päästötöntä, mutta päästöjä voi tulla vedyn tuotannossa riippuen tarvittavan sähkön tuotantotavasta.
C12: Jätteenpolton pohjakuona (uusio) | D12: 0 | E12: kgCO2e/kg | F12: =AVERAGE(2000,2650) -> 2325 | G12: kg/m3 | H12: =D12*F12 -> 0 | I12: kgCO2e/m3 | J12: AFRYn arvio | K12: Käytetään sellaisenaan (metallit seulotaan joka tapauksessa) | M12: LBG-maansiirtoauto ilman perävaunua (19 t) | N12: =27.2/100*0/19 -> 0 | O12: kgCO2e/tkm | P12: Kaasun kulutus autossa (27,2 kg/100km): https://www.volvotrucks.fi/fi-fi/news/magazine-online/2020/dec/volvo-fh-lng--taloudellisesti-pienillae-paeaestoeillae.html. Biokaasun päästöt polton aikana nolla (biogeeninen polttoaine). | S12: Minikaivuri, diesel | T12: =857/1000*22 -> 18.854 | U12: kgCO2e/h | V12: =AG$6 -> 2.55784 | W12: kgCO2e/l | X12: =T12/V12 -> 7.3710631 | Y12: l/h | AA12: Vaarallinen jäte | AB12: 0 | AC12: kgCO2e/kg | AD12: Julia 2030- hanke (sis. Jätteen esikäsittelyn - ei kierrätystä tai energiakäyttöä). Kuljetus lasketaan erikseen.
C13: Kierrätyskasvualustat (uusio) | D13: =95/1000 -> 0.095 | E13: kgCO2e/kg | F13: 399 | G13: kg/m3 | H13: =D13*F13 -> 37.905 | I13: kgCO2e/m3 | J13: Ruuskanen T, 2014. Kierrätysmateriaaleja hyödyntävien kasvualustojen tuotantoprosessin ympäristö- ja yhteiskunnallinen kustannus-hyötyanalyysi | K13: Sis. kompostoinnin | M13: LBG-kasettiautoyhdistelmä (45-50 t) | N13: =27.2/100*0/47.5 -> 0 | O13: kgCO2e/tkm | P13: Kaasun kulutus autossa (27,2 kg/100km): https://www.volvotrucks.fi/fi-fi/news/magazine-online/2020/dec/volvo-fh-lng--taloudellisesti-pienillae-paeaestoeillae.html. Biokaasun päästöt polton aikana nolla (biogeeninen polttoaine). | S13: Tela-alusteinen kaivinkone, diesel | T13: =829/1000*104 -> 86.216 | U13: kgCO2e/h | V13: =AG$6 -> 2.55784 | W13: kgCO2e/l | X13: =T13/V13 -> 33.706565 | Y13: l/h | AA13: Sekajäte (poltto) | AB13: 0 | AC13: kgCO2e/kg | AD13: Julia 2030- hanke (sis. Jätteen esikäsittelyn - ei kierrätystä tai energiakäyttöä). Kuljetus lasketaan erikseen.
C14: Lasimurske (uusio) | D14: 0.006 | E14: kgCO2e/kg | F14: =AVERAGE(1120,1850) -> 1485 | G14: kg/m3 | H14: =D14*F14 -> 8.91 | I14: kgCO2e/m3 | J14: Rakentamisen päästötietokanta, 2021. Waste processing, mineral materials | K14: Sis. murskaus | M14: LNG-maansiirtoauto ilman perävaunua (19 t) | N14: =27.2/100*AG9/19 -> 0.036636539 | O14: kgCO2e/tkm | P14: Kaasun kulutus autossa (27,2 kg/100km): https://www.volvotrucks.fi/fi-fi/news/magazine-online/2020/dec/volvo-fh-lng--taloudellisesti-pienillae-paeaestoeillae.html. LNG:n päästöt: Tilastokeskus, Polttoaineluokitus 2022. | Q14: Fossiilista LNG:tä käyttävän kuorma-auton päästökerroin | S14: Pyöräalusteinen kaivinkone, diesel | T14: =834/1000*88 -> 73.392 | U14: kgCO2e/h | V14: =AG$6 -> 2.55784 | W14: kgCO2e/l | X14: =T14/V14 -> 28.69296 | Y14: l/h | AA14: Biojäte | AB14: 0.047 | AC14: kgCO2e/kg | AD14: Julia 2030- hanke (sis. Jätteen esikäsittelyn - ei kierrätystä tai energiakäyttöä). Kuljetus lasketaan erikseen.
C15: Lentotuhka, kattilatuhka (uusio) | D15: 0 | E15: kgCO2e/kg | F15: =AVERAGE(1100,1400) -> 1250 | G15: kg/m3 | H15: =D15*F15 -> 0 | I15: kgCO2e/m3 | J15: AFRYn arvio | K15: Käytetään sellaisenaan. Jos lentotuhka tiivistetään, pitää se ottaa huomioon rakentamisen aikaisissa päästöissä. | M15: LNG-kasettiautoyhdistelmä (45-50 t) | N15: =27.2/100*AG9/47.5 -> 0.014654616 | O15: kgCO2e/tkm | P15: Kaasun kulutus autossa (27,2 kg/100km): https://www.volvotrucks.fi/fi-fi/news/magazine-online/2020/dec/volvo-fh-lng--taloudellisesti-pienillae-paeaestoeillae.html. LNG:n päästöt: Tilastokeskus, Polttoaineluokitus 2021. | Q15: Fossiilista LNG:tä käyttävän kuorma-auton päästökerroin | S15: Kunnossapitotraktori, diesel | T15: =863/1000*62 -> 53.506 | U15: kgCO2e/h | V15: =AG$6 -> 2.55784 | W15: kgCO2e/l | X15: =T15/V15 -> 20.918431 | Y15: l/h | AA15: Paperi | AB15: 0.002 | AC15: kgCO2e/kg | AD15: Julia 2030- hanke (sis. Jätteen esikäsittelyn - ei kierrätystä tai energiakäyttöä). Kuljetus lasketaan erikseen.
