Workbook

Sheet Info-sivu
B5: Infrarakentamisen päästö- ja kustannuslaskentatyökalu
B7: Tämä päästö- ja kustannuslaskentatyökalu on rakennettu Utajärven kiertotalouden käsikirja -projektin yhteydessä.
B8: Käsikirjan ja laskentatyökälun merkittävin sovelluskohde on rakennusten purkamisessa syntyvän kierrätettävän materiaalin hyödyntäminen Utajärven teollisuusalueen infrarakentamisessa.
B9: Laskentatyökalun tavoitteena on todentaa kierrätysmateriaalien hyödyntämisen kannattavuus ja vaikuttavuus niin ilmaston kuin talouden näkökulmasta.
B10: Laskentatyökalu tulee olemaan kiinteä osa Utajärven teollisuusalueen infrahankkeiden suunnitteluprosessia ja sitä käyttämällä työkalun käyttäjä saa käsityksen eri toimintamallien päästö- ja kustannustasosta.
B13: Päästölaskentatyökalu pohjautuu kestävän rakentamisen standardin EN 15978 moduuleihin A1-A5.
B14: Moduulien selitykset:
B15: A1-A3 Tuotetaso
B16: A1 Raaka-aineiden tuotanto
B17: A2 Kuljetus
B18: A3 Valmistus
B19: A4-A5 Rakentaminen
... B21: A5 Rakennusprosessi
B25: Ohjeistus päästölaskentaosion täyttöön: | J25: Ohjeistus kustannuslaskentaosion täyttöön:
B53: This calculator has been created during spring 2022 by AFRY Finland Oy (“AFRY”). AFRY is neither responsible for the reliability of the initial data filled by the user, nor shall it be held liable for the emission factors and estimates for cost calculation used in the calculator. The emission factors and estimates for cost calculation were selected from publicly open sources or they are based on public sources and interviews conducted for this project. Thus, AFRY can't assure the reliability of the data generated by other parties.
B55: This calculator has been prepared for the municipality of Utajärvi (the “Recipient”). The Recipient may freely distribute this calculator to their partner companies, authorities and other municipalities (the “Calculator user”), taking into account the pre-agreed transferability objectives. The Recipient and the Calculator user can use the calculator to determine carbon footprints and costs of their construction operations or other infrastructure projects.
B57: The Recipient and the Calculator user are allowed to update the data and develop the calculator at their own risk. All other use is strictly prohibited (e.g. resale or sales of the calculation services). By accepting delivery of this calculator, the Recipient acknowledges and agrees to the terms of this disclaimer. The Recipient and the Calculator user are solely responsible for the use, the results and the correctness of their calculations.
B59: Nothing in this calculator is or shall be relied upon as a promise or representation of future events or results. AFRY has prepared this calculator based on available information at the time of its preparation and has no duty to update this calculator unless separately agreed with the Recipient.
B61: AFRY is not responsible for any changes made to the calculator by the Recipient or the Calculator user. Also, the Recipient is neither responsible for the data in the calculator, nor shall it be held liable for the results and information gained by the use of the calculator by the Calculator user. The Calculator user is solely responsible for the use, the results and the correctness of the calculations.
B62: ​
B64: ​

Sheet Laskentasivu
F2: Skenaario 1 -päästölaskenta | G2: Skenaarion nimi: | T2: Skenaario 1 - kustannuslaskenta
F3: 1. Materiaalien päästöt ja kuljetukset
F4: Materiaalit, A1 ja A3 | G4: Määrä | H4: Yksikkö | J4: Materiaalien kuljetustapa, A2 ja A4 | K4: Kuljetuskilometrit | L4: Yksikkö | M4: Päästöt yhteensä materiaalikohtaisesti (kgCO2e) | N4: Materiaalin päästöt (kgCO2e) | O4: Kuljetuksen päästöt (kgCO2e) | U4: Materiaalin yksikkökustannukset | V4: Yksikkö | X4: Kuljetussäde | Y4: Yksikkö | Z4: Kuljetettava määrä vuodessa | AA4: Yksikkö | AB4: Kuljetuksien kustannukset | AC4: Yksikkö | AE4: Kustannukset yhteensä materiaalikohtaisesti (e) | AF4: Materiaalin kustannus (e) | AG4: Kuljetuksen kustannus (e)
F5: Neitseelliset materiaalit
F6: Valitse neitseellinen materiaali | H6: Materiaalin yksikkö | J6: Valitse kuljetustapa | L6: km | M6: {=_xlfn.IFS(F6<>"Valitse neitseellinen materiaali",N6+O6,F6="Valitse neitseellinen materiaali","")} | N6: {=_xlfn.IFS(H6="kg",VLOOKUP(F6,Päästökertoimet!$C$35:$I$59,2,FALSE)*G6,H6="m3",VLOOKUP(F6,Päästökertoimet!$C$35:$I$59,6,FALSE)*G6,F6="Valitse neitseellinen materiaali","")} | O6: {=_xlfn.IFS(H6="kg",VLOOKUP(Laskentasivu!J6,Päästökertoimet!$M$5:$O$29,2,FALSE)*K6*(G6/1000),H6="m3",VLOOKUP(Laskentasivu!J6,Päästökertoimet!$M$5:$O$29,2,FALSE)*K6*G6*VLOOKUP(F6,Päästökertoimet!$C$35:$I$59,4,FALSE)/1000,F6="Valitse neitseellinen materiaali","")} | T6: =F6 -> Valitse neitseellinen materiaali | U6: {=IF(V6<>"",_xlfn.XLOOKUP(T6,Kustannukset!$B$15:$B$70,_xlfn.XLOOKUP(Laskentasivu!V6,Kustannukset!$C$14:$E$14,Kustannukset!$C$15:$E$70)),"")} | V6: {=_xlfn.IFS(H6="kg",Aputaulukko!$F$11,H6="m3",Aputaulukko!$F$12,H6="Materiaalin yksikkö","")} | Y6: km | AA6: t/vuosi | AB6: =IF(Z6<>"",SUMIFS(Kustannukset!$C$78:$C$92,Kustannukset!$B$78:$B$92,Laskentasivu!J6,Kustannukset!$E$78:$E$92,Laskentasivu!X6,Kustannukset!$G$78:$G$92,Laskentasivu!Z6),"") | AC6: e/km | AE6: =AF6+AG6 -> 0 | AF6: {=_xlfn.IFS(V6="e/kg",IF(H6="kg",U6*G6),V6="e/m3",IF(H6="m3",U6*G6),V6="",0)} -> 0 | AG6: {=_xlfn.IFS(AND(AB6<>"",H6="kg"),K6*AB6*((G6/1000)/VLOOKUP(J6,Kustannukset!$B$79:$K$92,9,FALSE)),AND(AB6<>"",H6="m3"),K6*AB6*((G6*VLOOKUP(F6,Päästökertoimet!$C$5:$I$59,4,FALSE)/1000)/VLOOKUP(J6,Kustannukset!$B$79:$K$92,9,FALSE)),AB6="",0)} -> 0
F7: Valitse neitseellinen materiaali | H7: Materiaalin yksikkö | J7: Valitse kuljetustapa | L7: km | M7: {=_xlfn.IFS(F7<>"Valitse neitseellinen materiaali",N7+O7,F7="Valitse neitseellinen materiaali","")} | N7: {=_xlfn.IFS(H7="kg",VLOOKUP(F7,Päästökertoimet!$C$35:$I$59,2,FALSE)*G7,H7="m3",VLOOKUP(F7,Päästökertoimet!$C$35:$I$59,6,FALSE)*G7,F7="Valitse neitseellinen materiaali","")} | O7: {=_xlfn.IFS(H7="kg",VLOOKUP(Laskentasivu!J7,Päästökertoimet!$M$5:$O$29,2,FALSE)*K7*(G7/1000),H7="m3",VLOOKUP(Laskentasivu!J7,Päästökertoimet!$M$5:$O$29,2,FALSE)*K7*G7*VLOOKUP(F7,Päästökertoimet!$C$35:$I$59,4,FALSE)/1000,F7="Valitse neitseellinen materiaali","")} | T7: =F7 -> Valitse neitseellinen materiaali | U7: {=IF(V7<>"",_xlfn.XLOOKUP(T7,Kustannukset!$B$15:$B$70,_xlfn.XLOOKUP(Laskentasivu!V7,Kustannukset!$C$14:$E$14,Kustannukset!$C$15:$E$70)),"")} | V7: {=_xlfn.IFS(H7="kg",Aputaulukko!$F$11,H7="m3",Aputaulukko!$F$12,H7="Materiaalin yksikkö","")} | Y7: km | AA7: t/vuosi | AB7: =IF(Z7<>"",SUMIFS(Kustannukset!$C$78:$C$92,Kustannukset!$B$78:$B$92,Laskentasivu!J7,Kustannukset!$E$78:$E$92,Laskentasivu!X7,Kustannukset!$G$78:$G$92,Laskentasivu!Z7),"") | AC7: e/km | AE7: =AF7+AG7 -> 0 | AF7: {=_xlfn.IFS(V7="e/kg",IF(H7="kg",U7*G7),V7="e/m3",IF(H7="m3",U7*G7),V7="",0)} -> 0 | AG7: {=_xlfn.IFS(AND(AB7<>"",H7="kg"),K7*AB7*((G7/1000)/VLOOKUP(J7,Kustannukset!$B$79:$K$92,9,FALSE)),AND(AB7<>"",H7="m3"),K7*AB7*((G7*VLOOKUP(F7,Päästökertoimet!$C$5:$I$59,4,FALSE)/1000)/VLOOKUP(J7,Kustannukset!$B$79:$K$92,9,FALSE)),AB7="",0)} -> 0
F8: Valitse neitseellinen materiaali | H8: Materiaalin yksikkö | J8: Valitse kuljetustapa | L8: km | M8: {=_xlfn.IFS(F8<>"Valitse neitseellinen materiaali",N8+O8,F8="Valitse neitseellinen materiaali","")} | N8: {=_xlfn.IFS(H8="kg",VLOOKUP(F8,Päästökertoimet!$C$35:$I$59,2,FALSE)*G8,H8="m3",VLOOKUP(F8,Päästökertoimet!$C$35:$I$59,6,FALSE)*G8,F8="Valitse neitseellinen materiaali","")} | O8: {=_xlfn.IFS(H8="kg",VLOOKUP(Laskentasivu!J8,Päästökertoimet!$M$5:$O$29,2,FALSE)*K8*(G8/1000),H8="m3",VLOOKUP(Laskentasivu!J8,Päästökertoimet!$M$5:$O$29,2,FALSE)*K8*G8*VLOOKUP(F8,Päästökertoimet!$C$35:$I$59,4,FALSE)/1000,F8="Valitse neitseellinen materiaali","")} | T8: =F8 -> Valitse neitseellinen materiaali | U8: {=IF(V8<>"",_xlfn.XLOOKUP(T8,Kustannukset!$B$15:$B$70,_xlfn.XLOOKUP(Laskentasivu!V8,Kustannukset!$C$14:$E$14,Kustannukset!$C$15:$E$70)),"")} | V8: {=_xlfn.IFS(H8="kg",Aputaulukko!$F$11,H8="m3",Aputaulukko!$F$12,H8="Materiaalin yksikkö","")} | Y8: km | AA8: t/vuosi | AB8: =IF(Z8<>"",SUMIFS(Kustannukset!$C$78:$C$92,Kustannukset!$B$78:$B$92,Laskentasivu!J8,Kustannukset!$E$78:$E$92,Laskentasivu!X8,Kustannukset!$G$78:$G$92,Laskentasivu!Z8),"") | AC8: e/km | AE8: =AF8+AG8 -> 0 | AF8: {=_xlfn.IFS(V8="e/kg",IF(H8="kg",U8*G8),V8="e/m3",IF(H8="m3",U8*G8),V8="",0)} -> 0 | AG8: {=_xlfn.IFS(AND(AB8<>"",H8="kg"),K8*AB8*((G8/1000)/VLOOKUP(J8,Kustannukset!$B$79:$K$92,9,FALSE)),AND(AB8<>"",H8="m3"),K8*AB8*((G8*VLOOKUP(F8,Päästökertoimet!$C$5:$I$59,4,FALSE)/1000)/VLOOKUP(J8,Kustannukset!$B$79:$K$92,9,FALSE)),AB8="",0)} -> 0
F9: Valitse neitseellinen materiaali | H9: Materiaalin yksikkö | J9: Valitse kuljetustapa | L9: km | M9: {=_xlfn.IFS(F9<>"Valitse neitseellinen materiaali",N9+O9,F9="Valitse neitseellinen materiaali","")} | N9: {=_xlfn.IFS(H9="kg",VLOOKUP(F9,Päästökertoimet!$C$35:$I$59,2,FALSE)*G9,H9="m3",VLOOKUP(F9,Päästökertoimet!$C$35:$I$59,6,FALSE)*G9,F9="Valitse neitseellinen materiaali","")} | O9: {=_xlfn.IFS(H9="kg",VLOOKUP(Laskentasivu!J9,Päästökertoimet!$M$5:$O$29,2,FALSE)*K9*(G9/1000),H9="m3",VLOOKUP(Laskentasivu!J9,Päästökertoimet!$M$5:$O$29,2,FALSE)*K9*G9*VLOOKUP(F9,Päästökertoimet!$C$35:$I$59,4,FALSE)/1000,F9="Valitse neitseellinen materiaali","")} | T9: =F9 -> Valitse neitseellinen materiaali | U9: {=IF(V9<>"",_xlfn.XLOOKUP(T9,Kustannukset!$B$15:$B$70,_xlfn.XLOOKUP(Laskentasivu!V9,Kustannukset!$C$14:$E$14,Kustannukset!$C$15:$E$70)),"")} | V9: {=_xlfn.IFS(H9="kg",Aputaulukko!$F$11,H9="m3",Aputaulukko!$F$12,H9="Materiaalin yksikkö","")} | Y9: km | AA9: t/vuosi | AB9: =IF(Z9<>"",SUMIFS(Kustannukset!$C$78:$C$92,Kustannukset!$B$78:$B$92,Laskentasivu!J9,Kustannukset!$E$78:$E$92,Laskentasivu!X9,Kustannukset!$G$78:$G$92,Laskentasivu!Z9),"") | AC9: e/km | AE9: =AF9+AG9 -> 0 | AF9: {=_xlfn.IFS(V9="e/kg",IF(H9="kg",U9*G9),V9="e/m3",IF(H9="m3",U9*G9),V9="",0)} -> 0 | AG9: {=_xlfn.IFS(AND(AB9<>"",H9="kg"),K9*AB9*((G9/1000)/VLOOKUP(J9,Kustannukset!$B$79:$K$92,9,FALSE)),AND(AB9<>"",H9="m3"),K9*AB9*((G9*VLOOKUP(F9,Päästökertoimet!$C$5:$I$59,4,FALSE)/1000)/VLOOKUP(J9,Kustannukset!$B$79:$K$92,9,FALSE)),AB9="",0)} -> 0
F10: Valitse neitseellinen materiaali | H10: Materiaalin yksikkö | J10: Valitse kuljetustapa | L10: km | M10: {=_xlfn.IFS(F10<>"Valitse neitseellinen materiaali",N10+O10,F10="Valitse neitseellinen materiaali","")} | N10: {=_xlfn.IFS(H10="kg",VLOOKUP(F10,Päästökertoimet!$C$35:$I$59,2,FALSE)*G10,H10="m3",VLOOKUP(F10,Päästökertoimet!$C$35:$I$59,6,FALSE)*G10,F10="Valitse neitseellinen materiaali","")} | O10: {=_xlfn.IFS(H10="kg",VLOOKUP(Laskentasivu!J10,Päästökertoimet!$M$5:$O$29,2,FALSE)*K10*(G10/1000),H10="m3",VLOOKUP(Laskentasivu!J10,Päästökertoimet!$M$5:$O$29,2,FALSE)*K10*G10*VLOOKUP(F10,Päästökertoimet!$C$35:$I$59,4,FALSE)/1000,F10="Valitse neitseellinen materiaali","")} | T10: =F10 -> Valitse neitseellinen materiaali | U10: {=IF(V10<>"",_xlfn.XLOOKUP(T10,Kustannukset!$B$15:$B$70,_xlfn.XLOOKUP(Laskentasivu!V10,Kustannukset!$C$14:$E$14,Kustannukset!$C$15:$E$70)),"")} | V10: {=_xlfn.IFS(H10="kg",Aputaulukko!$F$11,H10="m3",Aputaulukko!$F$12,H10="Materiaalin yksikkö","")} | Y10: km | AA10: t/vuosi | AB10: =IF(Z10<>"",SUMIFS(Kustannukset!$C$78:$C$92,Kustannukset!$B$78:$B$92,Laskentasivu!J10,Kustannukset!$E$78:$E$92,Laskentasivu!X10,Kustannukset!$G$78:$G$92,Laskentasivu!Z10),"") | AC10: e/km | AE10: =AF10+AG10 -> 0 | AF10: {=_xlfn.IFS(V10="e/kg",IF(H10="kg",U10*G10),V10="e/m3",IF(H10="m3",U10*G10),V10="",0)} -> 0 | AG10: {=_xlfn.IFS(AND(AB10<>"",H10="kg"),K10*AB10*((G10/1000)/VLOOKUP(J10,Kustannukset!$B$79:$K$92,9,FALSE)),AND(AB10<>"",H10="m3"),K10*AB10*((G10*VLOOKUP(F10,Päästökertoimet!$C$5:$I$59,4,FALSE)/1000)/VLOOKUP(J10,Kustannukset!$B$79:$K$92,9,FALSE)),AB10="",0)} -> 0
F11: Valitse neitseellinen materiaali | H11: Materiaalin yksikkö | J11: Valitse kuljetustapa | L11: km | M11: {=_xlfn.IFS(F11<>"Valitse neitseellinen materiaali",N11+O11,F11="Valitse neitseellinen materiaali","")} | N11: {=_xlfn.IFS(H11="kg",VLOOKUP(F11,Päästökertoimet!$C$35:$I$59,2,FALSE)*G11,H11="m3",VLOOKUP(F11,Päästökertoimet!$C$35:$I$59,6,FALSE)*G11,F11="Valitse neitseellinen materiaali","")} | O11: {=_xlfn.IFS(H11="kg",VLOOKUP(Laskentasivu!J11,Päästökertoimet!$M$5:$O$29,2,FALSE)*K11*(G11/1000),H11="m3",VLOOKUP(Laskentasivu!J11,Päästökertoimet!$M$5:$O$29,2,FALSE)*K11*G11*VLOOKUP(F11,Päästökertoimet!$C$35:$I$59,4,FALSE)/1000,F11="Valitse neitseellinen materiaali","")} | T11: =F11 -> Valitse neitseellinen materiaali | U11: {=IF(V11<>"",_xlfn.XLOOKUP(T11,Kustannukset!$B$15:$B$70,_xlfn.XLOOKUP(Laskentasivu!V11,Kustannukset!$C$14:$E$14,Kustannukset!$C$15:$E$70)),"")} | V11: {=_xlfn.IFS(H11="kg",Aputaulukko!$F$11,H11="m3",Aputaulukko!$F$12,H11="Materiaalin yksikkö","")} | Y11: km | AA11: t/vuosi | AB11: =IF(Z11<>"",SUMIFS(Kustannukset!$C$78:$C$92,Kustannukset!$B$78:$B$92,Laskentasivu!J11,Kustannukset!$E$78:$E$92,Laskentasivu!X11,Kustannukset!$G$78:$G$92,Laskentasivu!Z11),"") | AC11: e/km | AE11: =AF11+AG11 -> 0 | AF11: {=_xlfn.IFS(V11="e/kg",IF(H11="kg",U11*G11),V11="e/m3",IF(H11="m3",U11*G11),V11="",0)} -> 0 | AG11: {=_xlfn.IFS(AND(AB11<>"",H11="kg"),K11*AB11*((G11/1000)/VLOOKUP(J11,Kustannukset!$B$79:$K$92,9,FALSE)),AND(AB11<>"",H11="m3"),K11*AB11*((G11*VLOOKUP(F11,Päästökertoimet!$C$5:$I$59,4,FALSE)/1000)/VLOOKUP(J11,Kustannukset!$B$79:$K$92,9,FALSE)),AB11="",0)} -> 0
F12: Valitse neitseellinen materiaali | H12: Materiaalin yksikkö | J12: Valitse kuljetustapa | L12: km | M12: {=_xlfn.IFS(F12<>"Valitse neitseellinen materiaali",N12+O12,F12="Valitse neitseellinen materiaali","")} | N12: {=_xlfn.IFS(H12="kg",VLOOKUP(F12,Päästökertoimet!$C$35:$I$59,2,FALSE)*G12,H12="m3",VLOOKUP(F12,Päästökertoimet!$C$35:$I$59,6,FALSE)*G12,F12="Valitse neitseellinen materiaali","")} | O12: {=_xlfn.IFS(H12="kg",VLOOKUP(Laskentasivu!J12,Päästökertoimet!$M$5:$O$29,2,FALSE)*K12*(G12/1000),H12="m3",VLOOKUP(Laskentasivu!J12,Päästökertoimet!$M$5:$O$29,2,FALSE)*K12*G12*VLOOKUP(F12,Päästökertoimet!$C$35:$I$59,4,FALSE)/1000,F12="Valitse neitseellinen materiaali","")} | T12: =F12 -> Valitse neitseellinen materiaali | U12: {=IF(V12<>"",_xlfn.XLOOKUP(T12,Kustannukset!$B$15:$B$70,_xlfn.XLOOKUP(Laskentasivu!V12,Kustannukset!$C$14:$E$14,Kustannukset!$C$15:$E$70)),"")} | V12: {=_xlfn.IFS(H12="kg",Aputaulukko!$F$11,H12="m3",Aputaulukko!$F$12,H12="Materiaalin yksikkö","")} | Y12: km | AA12: t/vuosi | AB12: =IF(Z12<>"",SUMIFS(Kustannukset!$C$78:$C$92,Kustannukset!$B$78:$B$92,Laskentasivu!J12,Kustannukset!$E$78:$E$92,Laskentasivu!X12,Kustannukset!$G$78:$G$92,Laskentasivu!Z12),"") | AC12: e/km | AE12: =AF12+AG12 -> 0 | AF12: {=_xlfn.IFS(V12="e/kg",IF(H12="kg",U12*G12),V12="e/m3",IF(H12="m3",U12*G12),V12="",0)} -> 0 | AG12: {=_xlfn.IFS(AND(AB12<>"",H12="kg"),K12*AB12*((G12/1000)/VLOOKUP(J12,Kustannukset!$B$79:$K$92,9,FALSE)),AND(AB12<>"",H12="m3"),K12*AB12*((G12*VLOOKUP(F12,Päästökertoimet!$C$5:$I$59,4,FALSE)/1000)/VLOOKUP(J12,Kustannukset!$B$79:$K$92,9,FALSE)),AB12="",0)} -> 0
F13: Valitse neitseellinen materiaali | H13: Materiaalin yksikkö | J13: Valitse kuljetustapa | L13: km | M13: {=_xlfn.IFS(F13<>"Valitse neitseellinen materiaali",N13+O13,F13="Valitse neitseellinen materiaali","")} | N13: {=_xlfn.IFS(H13="kg",VLOOKUP(F13,Päästökertoimet!$C$35:$I$59,2,FALSE)*G13,H13="m3",VLOOKUP(F13,Päästökertoimet!$C$35:$I$59,6,FALSE)*G13,F13="Valitse neitseellinen materiaali","")} | O13: {=_xlfn.IFS(H13="kg",VLOOKUP(Laskentasivu!J13,Päästökertoimet!$M$5:$O$29,2,FALSE)*K13*(G13/1000),H13="m3",VLOOKUP(Laskentasivu!J13,Päästökertoimet!$M$5:$O$29,2,FALSE)*K13*G13*VLOOKUP(F13,Päästökertoimet!$C$35:$I$59,4,FALSE)/1000,F13="Valitse neitseellinen materiaali","")} | T13: =F13 -> Valitse neitseellinen materiaali | U13: {=IF(V13<>"",_xlfn.XLOOKUP(T13,Kustannukset!$B$15:$B$70,_xlfn.XLOOKUP(Laskentasivu!V13,Kustannukset!$C$14:$E$14,Kustannukset!$C$15:$E$70)),"")} | V13: {=_xlfn.IFS(H13="kg",Aputaulukko!$F$11,H13="m3",Aputaulukko!$F$12,H13="Materiaalin yksikkö","")} | Y13: km | AA13: t/vuosi | AB13: =IF(Z13<>"",SUMIFS(Kustannukset!$C$78:$C$92,Kustannukset!$B$78:$B$92,Laskentasivu!J13,Kustannukset!$E$78:$E$92,Laskentasivu!X13,Kustannukset!$G$78:$G$92,Laskentasivu!Z13),"") | AC13: e/km | AE13: =AF13+AG13 -> 0 | AF13: {=_xlfn.IFS(V13="e/kg",IF(H13="kg",U13*G13),V13="e/m3",IF(H13="m3",U13*G13),V13="",0)} -> 0 | AG13: {=_xlfn.IFS(AND(AB13<>"",H13="kg"),K13*AB13*((G13/1000)/VLOOKUP(J13,Kustannukset!$B$79:$K$92,9,FALSE)),AND(AB13<>"",H13="m3"),K13*AB13*((G13*VLOOKUP(F13,Päästökertoimet!$C$5:$I$59,4,FALSE)/1000)/VLOOKUP(J13,Kustannukset!$B$79:$K$92,9,FALSE)),AB13="",0)} -> 0
F14: Valitse neitseellinen materiaali | H14: Materiaalin yksikkö | J14: Valitse kuljetustapa | L14: km | M14: {=_xlfn.IFS(F14<>"Valitse neitseellinen materiaali",N14+O14,F14="Valitse neitseellinen materiaali","")} | N14: {=_xlfn.IFS(H14="kg",VLOOKUP(F14,Päästökertoimet!$C$35:$I$59,2,FALSE)*G14,H14="m3",VLOOKUP(F14,Päästökertoimet!$C$35:$I$59,6,FALSE)*G14,F14="Valitse neitseellinen materiaali","")} | O14: {=_xlfn.IFS(H14="kg",VLOOKUP(Laskentasivu!J14,Päästökertoimet!$M$5:$O$29,2,FALSE)*K14*(G14/1000),H14="m3",VLOOKUP(Laskentasivu!J14,Päästökertoimet!$M$5:$O$29,2,FALSE)*K14*G14*VLOOKUP(F14,Päästökertoimet!$C$35:$I$59,4,FALSE)/1000,F14="Valitse neitseellinen materiaali","")} | T14: =F14 -> Valitse neitseellinen materiaali | U14: {=IF(V14<>"",_xlfn.XLOOKUP(T14,Kustannukset!$B$15:$B$70,_xlfn.XLOOKUP(Laskentasivu!V14,Kustannukset!$C$14:$E$14,Kustannukset!$C$15:$E$70)),"")} | V14: {=_xlfn.IFS(H14="kg",Aputaulukko!$F$11,H14="m3",Aputaulukko!$F$12,H14="Materiaalin yksikkö","")} | Y14: km | AA14: t/vuosi | AB14: =IF(Z14<>"",SUMIFS(Kustannukset!$C$78:$C$92,Kustannukset!$B$78:$B$92,Laskentasivu!J14,Kustannukset!$E$78:$E$92,Laskentasivu!X14,Kustannukset!$G$78:$G$92,Laskentasivu!Z14),"") | AC14: e/km | AE14: =AF14+AG14 -> 0 | AF14: {=_xlfn.IFS(V14="e/kg",IF(H14="kg",U14*G14),V14="e/m3",IF(H14="m3",U14*G14),V14="",0)} -> 0 | AG14: {=_xlfn.IFS(AND(AB14<>"",H14="kg"),K14*AB14*((G14/1000)/VLOOKUP(J14,Kustannukset!$B$79:$K$92,9,FALSE)),AND(AB14<>"",H14="m3"),K14*AB14*((G14*VLOOKUP(F14,Päästökertoimet!$C$5:$I$59,4,FALSE)/1000)/VLOOKUP(J14,Kustannukset!$B$79:$K$92,9,FALSE)),AB14="",0)} -> 0
F15: Valitse neitseellinen materiaali | H15: Materiaalin yksikkö | J15: Valitse kuljetustapa | L15: km | M15: {=_xlfn.IFS(F15<>"Valitse neitseellinen materiaali",N15+O15,F15="Valitse neitseellinen materiaali","")} | N15: {=_xlfn.IFS(H15="kg",VLOOKUP(F15,Päästökertoimet!$C$35:$I$59,2,FALSE)*G15,H15="m3",VLOOKUP(F15,Päästökertoimet!$C$35:$I$59,6,FALSE)*G15,F15="Valitse neitseellinen materiaali","")} | O15: {=_xlfn.IFS(H15="kg",VLOOKUP(Laskentasivu!J15,Päästökertoimet!$M$5:$O$29,2,FALSE)*K15*(G15/1000),H15="m3",VLOOKUP(Laskentasivu!J15,Päästökertoimet!$M$5:$O$29,2,FALSE)*K15*G15*VLOOKUP(F15,Päästökertoimet!$C$35:$I$59,4,FALSE)/1000,F15="Valitse neitseellinen materiaali","")} | T15: =F15 -> Valitse neitseellinen materiaali | U15: {=IF(V15<>"",_xlfn.XLOOKUP(T15,Kustannukset!$B$15:$B$70,_xlfn.XLOOKUP(Laskentasivu!V15,Kustannukset!$C$14:$E$14,Kustannukset!$C$15:$E$70)),"")} | V15: {=_xlfn.IFS(H15="kg",Aputaulukko!$F$11,H15="m3",Aputaulukko!$F$12,H15="Materiaalin yksikkö","")} | Y15: km | AA15: t/vuosi | AB15: =IF(Z15<>"",SUMIFS(Kustannukset!$C$78:$C$92,Kustannukset!$B$78:$B$92,Laskentasivu!J15,Kustannukset!$E$78:$E$92,Laskentasivu!X15,Kustannukset!$G$78:$G$92,Laskentasivu!Z15),"") | AC15: e/km | AE15: =AF15+AG15 -> 0 | AF15: {=_xlfn.IFS(V15="e/kg",IF(H15="kg",U15*G15),V15="e/m3",IF(H15="m3",U15*G15),V15="",0)} -> 0 | AG15: {=_xlfn.IFS(AND(AB15<>"",H15="kg"),K15*AB15*((G15/1000)/VLOOKUP(J15,Kustannukset!$B$79:$K$92,9,FALSE)),AND(AB15<>"",H15="m3"),K15*AB15*((G15*VLOOKUP(F15,Päästökertoimet!$C$5:$I$59,4,FALSE)/1000)/VLOOKUP(J15,Kustannukset!$B$79:$K$92,9,FALSE)),AB15="",0)} -> 0
F16: Valitse neitseellinen materiaali | H16: Materiaalin yksikkö | J16: Valitse kuljetustapa | L16: km | M16: {=_xlfn.IFS(F16<>"Valitse neitseellinen materiaali",N16+O16,F16="Valitse neitseellinen materiaali","")} | N16: {=_xlfn.IFS(H16="kg",VLOOKUP(F16,Päästökertoimet!$C$35:$I$59,2,FALSE)*G16,H16="m3",VLOOKUP(F16,Päästökertoimet!$C$35:$I$59,6,FALSE)*G16,F16="Valitse neitseellinen materiaali","")} | O16: {=_xlfn.IFS(H16="kg",VLOOKUP(Laskentasivu!J16,Päästökertoimet!$M$5:$O$29,2,FALSE)*K16*(G16/1000),H16="m3",VLOOKUP(Laskentasivu!J16,Päästökertoimet!$M$5:$O$29,2,FALSE)*K16*G16*VLOOKUP(F16,Päästökertoimet!$C$35:$I$59,4,FALSE)/1000,F16="Valitse neitseellinen materiaali","")} | T16: =F16 -> Valitse neitseellinen materiaali | U16: {=IF(V16<>"",_xlfn.XLOOKUP(T16,Kustannukset!$B$15:$B$70,_xlfn.XLOOKUP(Laskentasivu!V16,Kustannukset!$C$14:$E$14,Kustannukset!$C$15:$E$70)),"")} | V16: {=_xlfn.IFS(H16="kg",Aputaulukko!$F$11,H16="m3",Aputaulukko!$F$12,H16="Materiaalin yksikkö","")} | Y16: km | AA16: t/vuosi | AB16: =IF(Z16<>"",SUMIFS(Kustannukset!$C$78:$C$92,Kustannukset!$B$78:$B$92,Laskentasivu!J16,Kustannukset!$E$78:$E$92,Laskentasivu!X16,Kustannukset!$G$78:$G$92,Laskentasivu!Z16),"") | AC16: e/km | AE16: =AF16+AG16 -> 0 | AF16: {=_xlfn.IFS(V16="e/kg",IF(H16="kg",U16*G16),V16="e/m3",IF(H16="m3",U16*G16),V16="",0)} -> 0 | AG16: {=_xlfn.IFS(AND(AB16<>"",H16="kg"),K16*AB16*((G16/1000)/VLOOKUP(J16,Kustannukset!$B$79:$K$92,9,FALSE)),AND(AB16<>"",H16="m3"),K16*AB16*((G16*VLOOKUP(F16,Päästökertoimet!$C$5:$I$59,4,FALSE)/1000)/VLOOKUP(J16,Kustannukset!$B$79:$K$92,9,FALSE)),AB16="",0)} -> 0
F17: Valitse neitseellinen materiaali | H17: Materiaalin yksikkö | J17: Valitse kuljetustapa | L17: km | M17: {=_xlfn.IFS(F17<>"Valitse neitseellinen materiaali",N17+O17,F17="Valitse neitseellinen materiaali","")} | N17: {=_xlfn.IFS(H17="kg",VLOOKUP(F17,Päästökertoimet!$C$35:$I$59,2,FALSE)*G17,H17="m3",VLOOKUP(F17,Päästökertoimet!$C$35:$I$59,6,FALSE)*G17,F17="Valitse neitseellinen materiaali","")} | O17: {=_xlfn.IFS(H17="kg",VLOOKUP(Laskentasivu!J17,Päästökertoimet!$M$5:$O$29,2,FALSE)*K17*(G17/1000),H17="m3",VLOOKUP(Laskentasivu!J17,Päästökertoimet!$M$5:$O$29,2,FALSE)*K17*G17*VLOOKUP(F17,Päästökertoimet!$C$35:$I$59,4,FALSE)/1000,F17="Valitse neitseellinen materiaali","")} | T17: =F17 -> Valitse neitseellinen materiaali | U17: {=IF(V17<>"",_xlfn.XLOOKUP(T17,Kustannukset!$B$15:$B$70,_xlfn.XLOOKUP(Laskentasivu!V17,Kustannukset!$C$14:$E$14,Kustannukset!$C$15:$E$70)),"")} | V17: {=_xlfn.IFS(H17="kg",Aputaulukko!$F$11,H17="m3",Aputaulukko!$F$12,H17="Materiaalin yksikkö","")} | Y17: km | AA17: t/vuosi | AB17: =IF(Z17<>"",SUMIFS(Kustannukset!$C$78:$C$92,Kustannukset!$B$78:$B$92,Laskentasivu!J17,Kustannukset!$E$78:$E$92,Laskentasivu!X17,Kustannukset!$G$78:$G$92,Laskentasivu!Z17),"") | AC17: e/km | AE17: =AF17+AG17 -> 0 | AF17: {=_xlfn.IFS(V17="e/kg",IF(H17="kg",U17*G17),V17="e/m3",IF(H17="m3",U17*G17),V17="",0)} -> 0 | AG17: {=_xlfn.IFS(AND(AB17<>"",H17="kg"),K17*AB17*((G17/1000)/VLOOKUP(J17,Kustannukset!$B$79:$K$92,9,FALSE)),AND(AB17<>"",H17="m3"),K17*AB17*((G17*VLOOKUP(F17,Päästökertoimet!$C$5:$I$59,4,FALSE)/1000)/VLOOKUP(J17,Kustannukset!$B$79:$K$92,9,FALSE)),AB17="",0)} -> 0
... F21: Valitse neitseellinen materiaali | H21: Materiaalin yksikkö | J21: Valitse kuljetustapa | L21: km | M21: {=_xlfn.IFS(F21<>"Valitse neitseellinen materiaali",N21+O21,F21="Valitse neitseellinen materiaali","")} | N21: {=_xlfn.IFS(H21="kg",VLOOKUP(F21,Päästökertoimet!$C$35:$I$59,2,FALSE)*G21,H21="m3",VLOOKUP(F21,Päästökertoimet!$C$35:$I$59,6,FALSE)*G21,F21="Valitse neitseellinen materiaali","")} | O21: {=_xlfn.IFS(H21="kg",VLOOKUP(Laskentasivu!J21,Päästökertoimet!$M$5:$O$29,2,FALSE)*K21*(G21/1000),H21="m3",VLOOKUP(Laskentasivu!J21,Päästökertoimet!$M$5:$O$29,2,FALSE)*K21*G21*VLOOKUP(F21,Päästökertoimet!$C$35:$I$59,4,FALSE)/1000,F21="Valitse neitseellinen materiaali","")} | T21: =F21 -> Valitse neitseellinen materiaali | U21: {=IF(V21<>"",_xlfn.XLOOKUP(T21,Kustannukset!$B$15:$B$70,_xlfn.XLOOKUP(Laskentasivu!V21,Kustannukset!$C$14:$E$14,Kustannukset!$C$15:$E$70)),"")} | V21: {=_xlfn.IFS(H21="kg",Aputaulukko!$F$11,H21="m3",Aputaulukko!$F$12,H21="Materiaalin yksikkö","")} | Y21: km | AA21: t/vuosi | AB21: =IF(Z21<>"",SUMIFS(Kustannukset!$C$78:$C$92,Kustannukset!$B$78:$B$92,Laskentasivu!J21,Kustannukset!$E$78:$E$92,Laskentasivu!X21,Kustannukset!$G$78:$G$92,Laskentasivu!Z21),"") | AC21: e/km | AE21: =AF21+AG21 -> 0 | AF21: {=_xlfn.IFS(V21="e/kg",IF(H21="kg",U21*G21),V21="e/m3",IF(H21="m3",U21*G21),V21="",0)} -> 0 | AG21: {=_xlfn.IFS(AND(AB21<>"",H21="kg"),K21*AB21*((G21/1000)/VLOOKUP(J21,Kustannukset!$B$79:$K$92,9,FALSE)),AND(AB21<>"",H21="m3"),K21*AB21*((G21*VLOOKUP(F21,Päästökertoimet!$C$5:$I$59,4,FALSE)/1000)/VLOOKUP(J21,Kustannukset!$B$79:$K$92,9,FALSE)),AB21="",0)} -> 0
F22: Uusiomateriaalit
F23: Valitse uusiomateriaali | H23: Materiaalin yksikkö | J23: Valitse kuljetustapa | L23: km | M23: {=_xlfn.IFS(F23<>"Valitse uusiomateriaali",N23+O23,F23="Valitse uusiomateriaali","")} | N23: {=_xlfn.IFS(H23="kg",VLOOKUP(F23,Päästökertoimet!$C$5:$I$34,2,FALSE)*G23,H23="m3",VLOOKUP(F23,Päästökertoimet!$C$5:$I$34,6,FALSE)*G23,F23="Valitse uusiomateriaali","")} | O23: {=_xlfn.IFS(H23="kg",VLOOKUP(Laskentasivu!J23,Päästökertoimet!$M$5:$O$29,2,FALSE)*K23*(G23/1000),H23="m3",VLOOKUP(Laskentasivu!J23,Päästökertoimet!$M$5:$O$29,2,FALSE)*K23*G23*VLOOKUP(F23,Päästökertoimet!$C$5:$I$34,4,FALSE)/1000,F23="Valitse uusiomateriaali","")} | T23: =F23 -> Valitse uusiomateriaali | U23: {=IF(V23<>"",_xlfn.XLOOKUP(T23,Kustannukset!$B$15:$B$70,_xlfn.XLOOKUP(Laskentasivu!V23,Kustannukset!$C$14:$E$14,Kustannukset!$C$15:$E$70)),"")} | V23: {=_xlfn.IFS(H23="kg",Aputaulukko!$F$11,H23="m3",Aputaulukko!$F$12,H23="Materiaalin yksikkö","")} | Y23: km | AA23: t/vuosi | AB23: =IF(Z23<>"",SUMIFS(Kustannukset!$C$78:$C$92,Kustannukset!$B$78:$B$92,Laskentasivu!J23,Kustannukset!$E$78:$E$92,Laskentasivu!X23,Kustannukset!$G$78:$G$92,Laskentasivu!Z23),"") | AC23: e/km | AE23: =AF23+AG23 -> 0 | AF23: {=_xlfn.IFS(V23="e/kg",IF(H23="kg",U23*G23),V23="e/m3",IF(H23="m3",U23*G23),V23="",0)} -> 0 | AG23: {=_xlfn.IFS(AND(AB23<>"",H23="kg"),K23*AB23*((G23/1000)/VLOOKUP(J23,Kustannukset!$B$79:$K$92,9,FALSE)),AND(AB23<>"",H23="m3"),K23*AB23*((G23*VLOOKUP(F23,Päästökertoimet!$C$5:$I$59,4,FALSE)/1000)/VLOOKUP(J23,Kustannukset!$B$79:$K$92,9,FALSE)),AB23="",0)} -> 0
F24: Valitse uusiomateriaali | H24: Materiaalin yksikkö | J24: Valitse kuljetustapa | L24: km | M24: {=_xlfn.IFS(F24<>"Valitse uusiomateriaali",N24+O24,F24="Valitse uusiomateriaali","")} | N24: {=_xlfn.IFS(H24="kg",VLOOKUP(F24,Päästökertoimet!$C$5:$I$34,2,FALSE)*G24,H24="m3",VLOOKUP(F24,Päästökertoimet!$C$5:$I$34,6,FALSE)*G24,F24="Valitse uusiomateriaali","")} | O24: {=_xlfn.IFS(H24="kg",VLOOKUP(Laskentasivu!J24,Päästökertoimet!$M$5:$O$29,2,FALSE)*K24*(G24/1000),H24="m3",VLOOKUP(Laskentasivu!J24,Päästökertoimet!$M$5:$O$29,2,FALSE)*K24*G24*VLOOKUP(F24,Päästökertoimet!$C$5:$I$34,4,FALSE)/1000,F24="Valitse uusiomateriaali","")} | T24: =F24 -> Valitse uusiomateriaali | U24: {=IF(V24<>"",_xlfn.XLOOKUP(T24,Kustannukset!$B$15:$B$70,_xlfn.XLOOKUP(Laskentasivu!V24,Kustannukset!$C$14:$E$14,Kustannukset!$C$15:$E$70)),"")} | V24: {=_xlfn.IFS(H24="kg",Aputaulukko!$F$11,H24="m3",Aputaulukko!$F$12,H24="Materiaalin yksikkö","")} | Y24: km | AA24: t/vuosi | AB24: =IF(Z24<>"",SUMIFS(Kustannukset!$C$78:$C$92,Kustannukset!$B$78:$B$92,Laskentasivu!J24,Kustannukset!$E$78:$E$92,Laskentasivu!X24,Kustannukset!$G$78:$G$92,Laskentasivu!Z24),"") | AC24: e/km | AE24: =AF24+AG24 -> 0 | AF24: {=_xlfn.IFS(V24="e/kg",IF(H24="kg",U24*G24),V24="e/m3",IF(H24="m3",U24*G24),V24="",0)} -> 0 | AG24: {=_xlfn.IFS(AND(AB24<>"",H24="kg"),K24*AB24*((G24/1000)/VLOOKUP(J24,Kustannukset!$B$79:$K$92,9,FALSE)),AND(AB24<>"",H24="m3"),K24*AB24*((G24*VLOOKUP(F24,Päästökertoimet!$C$5:$I$59,4,FALSE)/1000)/VLOOKUP(J24,Kustannukset!$B$79:$K$92,9,FALSE)),AB24="",0)} -> 0
F25: Valitse uusiomateriaali | H25: Materiaalin yksikkö | J25: Valitse kuljetustapa | L25: km | M25: {=_xlfn.IFS(F25<>"Valitse uusiomateriaali",N25+O25,F25="Valitse uusiomateriaali","")} | N25: {=_xlfn.IFS(H25="kg",VLOOKUP(F25,Päästökertoimet!$C$5:$I$34,2,FALSE)*G25,H25="m3",VLOOKUP(F25,Päästökertoimet!$C$5:$I$34,6,FALSE)*G25,F25="Valitse uusiomateriaali","")} | O25: {=_xlfn.IFS(H25="kg",VLOOKUP(Laskentasivu!J25,Päästökertoimet!$M$5:$O$29,2,FALSE)*K25*(G25/1000),H25="m3",VLOOKUP(Laskentasivu!J25,Päästökertoimet!$M$5:$O$29,2,FALSE)*K25*G25*VLOOKUP(F25,Päästökertoimet!$C$5:$I$34,4,FALSE)/1000,F25="Valitse uusiomateriaali","")} | T25: =F25 -> Valitse uusiomateriaali | U25: {=IF(V25<>"",_xlfn.XLOOKUP(T25,Kustannukset!$B$15:$B$70,_xlfn.XLOOKUP(Laskentasivu!V25,Kustannukset!$C$14:$E$14,Kustannukset!$C$15:$E$70)),"")} | V25: {=_xlfn.IFS(H25="kg",Aputaulukko!$F$11,H25="m3",Aputaulukko!$F$12,H25="Materiaalin yksikkö","")} | Y25: km | AA25: t/vuosi | AB25: =IF(Z25<>"",SUMIFS(Kustannukset!$C$78:$C$92,Kustannukset!$B$78:$B$92,Laskentasivu!J25,Kustannukset!$E$78:$E$92,Laskentasivu!X25,Kustannukset!$G$78:$G$92,Laskentasivu!Z25),"") | AC25: e/km | AE25: =AF25+AG25 -> 0 | AF25: {=_xlfn.IFS(V25="e/kg",IF(H25="kg",U25*G25),V25="e/m3",IF(H25="m3",U25*G25),V25="",0)} -> 0 | AG25: {=_xlfn.IFS(AND(AB25<>"",H25="kg"),K25*AB25*((G25/1000)/VLOOKUP(J25,Kustannukset!$B$79:$K$92,9,FALSE)),AND(AB25<>"",H25="m3"),K25*AB25*((G25*VLOOKUP(F25,Päästökertoimet!$C$5:$I$59,4,FALSE)/1000)/VLOOKUP(J25,Kustannukset!$B$79:$K$92,9,FALSE)),AB25="",0)} -> 0
F26: Valitse uusiomateriaali | H26: Materiaalin yksikkö | J26: Valitse kuljetustapa | L26: km | M26: {=_xlfn.IFS(F26<>"Valitse uusiomateriaali",N26+O26,F26="Valitse uusiomateriaali","")} | N26: {=_xlfn.IFS(H26="kg",VLOOKUP(F26,Päästökertoimet!$C$5:$I$34,2,FALSE)*G26,H26="m3",VLOOKUP(F26,Päästökertoimet!$C$5:$I$34,6,FALSE)*G26,F26="Valitse uusiomateriaali","")} | O26: {=_xlfn.IFS(H26="kg",VLOOKUP(Laskentasivu!J26,Päästökertoimet!$M$5:$O$29,2,FALSE)*K26*(G26/1000),H26="m3",VLOOKUP(Laskentasivu!J26,Päästökertoimet!$M$5:$O$29,2,FALSE)*K26*G26*VLOOKUP(F26,Päästökertoimet!$C$5:$I$34,4,FALSE)/1000,F26="Valitse uusiomateriaali","")} | T26: =F26 -> Valitse uusiomateriaali | U26: {=IF(V26<>"",_xlfn.XLOOKUP(T26,Kustannukset!$B$15:$B$70,_xlfn.XLOOKUP(Laskentasivu!V26,Kustannukset!$C$14:$E$14,Kustannukset!$C$15:$E$70)),"")} | V26: {=_xlfn.IFS(H26="kg",Aputaulukko!$F$11,H26="m3",Aputaulukko!$F$12,H26="Materiaalin yksikkö","")} | Y26: km | AA26: t/vuosi | AB26: =IF(Z26<>"",SUMIFS(Kustannukset!$C$78:$C$92,Kustannukset!$B$78:$B$92,Laskentasivu!J26,Kustannukset!$E$78:$E$92,Laskentasivu!X26,Kustannukset!$G$78:$G$92,Laskentasivu!Z26),"") | AC26: e/km | AE26: =AF26+AG26 -> 0 | AF26: {=_xlfn.IFS(V26="e/kg",IF(H26="kg",U26*G26),V26="e/m3",IF(H26="m3",U26*G26),V26="",0)} -> 0 | AG26: {=_xlfn.IFS(AND(AB26<>"",H26="kg"),K26*AB26*((G26/1000)/VLOOKUP(J26,Kustannukset!$B$79:$K$92,9,FALSE)),AND(AB26<>"",H26="m3"),K26*AB26*((G26*VLOOKUP(F26,Päästökertoimet!$C$5:$I$59,4,FALSE)/1000)/VLOOKUP(J26,Kustannukset!$B$79:$K$92,9,FALSE)),AB26="",0)} -> 0
F27: Valitse uusiomateriaali | H27: Materiaalin yksikkö | J27: Valitse kuljetustapa | L27: km | M27: {=_xlfn.IFS(F27<>"Valitse uusiomateriaali",N27+O27,F27="Valitse uusiomateriaali","")} | N27: {=_xlfn.IFS(H27="kg",VLOOKUP(F27,Päästökertoimet!$C$5:$I$34,2,FALSE)*G27,H27="m3",VLOOKUP(F27,Päästökertoimet!$C$5:$I$34,6,FALSE)*G27,F27="Valitse uusiomateriaali","")} | O27: {=_xlfn.IFS(H27="kg",VLOOKUP(Laskentasivu!J27,Päästökertoimet!$M$5:$O$29,2,FALSE)*K27*(G27/1000),H27="m3",VLOOKUP(Laskentasivu!J27,Päästökertoimet!$M$5:$O$29,2,FALSE)*K27*G27*VLOOKUP(F27,Päästökertoimet!$C$5:$I$34,4,FALSE)/1000,F27="Valitse uusiomateriaali","")} | T27: =F27 -> Valitse uusiomateriaali | U27: {=IF(V27<>"",_xlfn.XLOOKUP(T27,Kustannukset!$B$15:$B$70,_xlfn.XLOOKUP(Laskentasivu!V27,Kustannukset!$C$14:$E$14,Kustannukset!$C$15:$E$70)),"")} | V27: {=_xlfn.IFS(H27="kg",Aputaulukko!$F$11,H27="m3",Aputaulukko!$F$12,H27="Materiaalin yksikkö","")} | Y27: km | AA27: t/vuosi | AB27: =IF(Z27<>"",SUMIFS(Kustannukset!$C$78:$C$92,Kustannukset!$B$78:$B$92,Laskentasivu!J27,Kustannukset!$E$78:$E$92,Laskentasivu!X27,Kustannukset!$G$78:$G$92,Laskentasivu!Z27),"") | AC27: e/km | AE27: =AF27+AG27 -> 0 | AF27: {=_xlfn.IFS(V27="e/kg",IF(H27="kg",U27*G27),V27="e/m3",IF(H27="m3",U27*G27),V27="",0)} -> 0 | AG27: {=_xlfn.IFS(AND(AB27<>"",H27="kg"),K27*AB27*((G27/1000)/VLOOKUP(J27,Kustannukset!$B$79:$K$92,9,FALSE)),AND(AB27<>"",H27="m3"),K27*AB27*((G27*VLOOKUP(F27,Päästökertoimet!$C$5:$I$59,4,FALSE)/1000)/VLOOKUP(J27,Kustannukset!$B$79:$K$92,9,FALSE)),AB27="",0)} -> 0
F28: Valitse uusiomateriaali | H28: Materiaalin yksikkö | J28: Valitse kuljetustapa | L28: km | M28: {=_xlfn.IFS(F28<>"Valitse uusiomateriaali",N28+O28,F28="Valitse uusiomateriaali","")} | N28: {=_xlfn.IFS(H28="kg",VLOOKUP(F28,Päästökertoimet!$C$5:$I$34,2,FALSE)*G28,H28="m3",VLOOKUP(F28,Päästökertoimet!$C$5:$I$34,6,FALSE)*G28,F28="Valitse uusiomateriaali","")} | O28: {=_xlfn.IFS(H28="kg",VLOOKUP(Laskentasivu!J28,Päästökertoimet!$M$5:$O$29,2,FALSE)*K28*(G28/1000),H28="m3",VLOOKUP(Laskentasivu!J28,Päästökertoimet!$M$5:$O$29,2,FALSE)*K28*G28*VLOOKUP(F28,Päästökertoimet!$C$5:$I$34,4,FALSE)/1000,F28="Valitse uusiomateriaali","")} | T28: =F28 -> Valitse uusiomateriaali | U28: {=IF(V28<>"",_xlfn.XLOOKUP(T28,Kustannukset!$B$15:$B$70,_xlfn.XLOOKUP(Laskentasivu!V28,Kustannukset!$C$14:$E$14,Kustannukset!$C$15:$E$70)),"")} | V28: {=_xlfn.IFS(H28="kg",Aputaulukko!$F$11,H28="m3",Aputaulukko!$F$12,H28="Materiaalin yksikkö","")} | Y28: km | AA28: t/vuosi | AB28: =IF(Z28<>"",SUMIFS(Kustannukset!$C$78:$C$92,Kustannukset!$B$78:$B$92,Laskentasivu!J28,Kustannukset!$E$78:$E$92,Laskentasivu!X28,Kustannukset!$G$78:$G$92,Laskentasivu!Z28),"") | AC28: e/km | AE28: =AF28+AG28 -> 0 | AF28: {=_xlfn.IFS(V28="e/kg",IF(H28="kg",U28*G28),V28="e/m3",IF(H28="m3",U28*G28),V28="",0)} -> 0 | AG28: {=_xlfn.IFS(AND(AB28<>"",H28="kg"),K28*AB28*((G28/1000)/VLOOKUP(J28,Kustannukset!$B$79:$K$92,9,FALSE)),AND(AB28<>"",H28="m3"),K28*AB28*((G28*VLOOKUP(F28,Päästökertoimet!$C$5:$I$59,4,FALSE)/1000)/VLOOKUP(J28,Kustannukset!$B$79:$K$92,9,FALSE)),AB28="",0)} -> 0
F29: Valitse uusiomateriaali | H29: Materiaalin yksikkö | J29: Valitse kuljetustapa | L29: km | M29: {=_xlfn.IFS(F29<>"Valitse uusiomateriaali",N29+O29,F29="Valitse uusiomateriaali","")} | N29: {=_xlfn.IFS(H29="kg",VLOOKUP(F29,Päästökertoimet!$C$5:$I$34,2,FALSE)*G29,H29="m3",VLOOKUP(F29,Päästökertoimet!$C$5:$I$34,6,FALSE)*G29,F29="Valitse uusiomateriaali","")} | O29: {=_xlfn.IFS(H29="kg",VLOOKUP(Laskentasivu!J29,Päästökertoimet!$M$5:$O$29,2,FALSE)*K29*(G29/1000),H29="m3",VLOOKUP(Laskentasivu!J29,Päästökertoimet!$M$5:$O$29,2,FALSE)*K29*G29*VLOOKUP(F29,Päästökertoimet!$C$5:$I$34,4,FALSE)/1000,F29="Valitse uusiomateriaali","")} | T29: =F29 -> Valitse uusiomateriaali | U29: {=IF(V29<>"",_xlfn.XLOOKUP(T29,Kustannukset!$B$15:$B$70,_xlfn.XLOOKUP(Laskentasivu!V29,Kustannukset!$C$14:$E$14,Kustannukset!$C$15:$E$70)),"")} | V29: {=_xlfn.IFS(H29="kg",Aputaulukko!$F$11,H29="m3",Aputaulukko!$F$12,H29="Materiaalin yksikkö","")} | Y29: km | AA29: t/vuosi | AB29: =IF(Z29<>"",SUMIFS(Kustannukset!$C$78:$C$92,Kustannukset!$B$78:$B$92,Laskentasivu!J29,Kustannukset!$E$78:$E$92,Laskentasivu!X29,Kustannukset!$G$78:$G$92,Laskentasivu!Z29),"") | AC29: e/km | AE29: =AF29+AG29 -> 0 | AF29: {=_xlfn.IFS(V29="e/kg",IF(H29="kg",U29*G29),V29="e/m3",IF(H29="m3",U29*G29),V29="",0)} -> 0 | AG29: {=_xlfn.IFS(AND(AB29<>"",H29="kg"),K29*AB29*((G29/1000)/VLOOKUP(J29,Kustannukset!$B$79:$K$92,9,FALSE)),AND(AB29<>"",H29="m3"),K29*AB29*((G29*VLOOKUP(F29,Päästökertoimet!$C$5:$I$59,4,FALSE)/1000)/VLOOKUP(J29,Kustannukset!$B$79:$K$92,9,FALSE)),AB29="",0)} -> 0
F30: Valitse uusiomateriaali | H30: Materiaalin yksikkö | J30: Valitse kuljetustapa | L30: km | M30: {=_xlfn.IFS(F30<>"Valitse uusiomateriaali",N30+O30,F30="Valitse uusiomateriaali","")} | N30: {=_xlfn.IFS(H30="kg",VLOOKUP(F30,Päästökertoimet!$C$5:$I$34,2,FALSE)*G30,H30="m3",VLOOKUP(F30,Päästökertoimet!$C$5:$I$34,6,FALSE)*G30,F30="Valitse uusiomateriaali","")} | O30: {=_xlfn.IFS(H30="kg",VLOOKUP(Laskentasivu!J30,Päästökertoimet!$M$5:$O$29,2,FALSE)*K30*(G30/1000),H30="m3",VLOOKUP(Laskentasivu!J30,Päästökertoimet!$M$5:$O$29,2,FALSE)*K30*G30*VLOOKUP(F30,Päästökertoimet!$C$5:$I$34,4,FALSE)/1000,F30="Valitse uusiomateriaali","")} | T30: =F30 -> Valitse uusiomateriaali | U30: {=IF(V30<>"",_xlfn.XLOOKUP(T30,Kustannukset!$B$15:$B$70,_xlfn.XLOOKUP(Laskentasivu!V30,Kustannukset!$C$14:$E$14,Kustannukset!$C$15:$E$70)),"")} | V30: {=_xlfn.IFS(H30="kg",Aputaulukko!$F$11,H30="m3",Aputaulukko!$F$12,H30="Materiaalin yksikkö","")} | Y30: km | AA30: t/vuosi | AB30: =IF(Z30<>"",SUMIFS(Kustannukset!$C$78:$C$92,Kustannukset!$B$78:$B$92,Laskentasivu!J30,Kustannukset!$E$78:$E$92,Laskentasivu!X30,Kustannukset!$G$78:$G$92,Laskentasivu!Z30),"") | AC30: e/km | AE30: =AF30+AG30 -> 0 | AF30: {=_xlfn.IFS(V30="e/kg",IF(H30="kg",U30*G30),V30="e/m3",IF(H30="m3",U30*G30),V30="",0)} -> 0 | AG30: {=_xlfn.IFS(AND(AB30<>"",H30="kg"),K30*AB30*((G30/1000)/VLOOKUP(J30,Kustannukset!$B$79:$K$92,9,FALSE)),AND(AB30<>"",H30="m3"),K30*AB30*((G30*VLOOKUP(F30,Päästökertoimet!$C$5:$I$59,4,FALSE)/1000)/VLOOKUP(J30,Kustannukset!$B$79:$K$92,9,FALSE)),AB30="",0)} -> 0
F31: Valitse uusiomateriaali | H31: Materiaalin yksikkö | J31: Valitse kuljetustapa | L31: km | M31: {=_xlfn.IFS(F31<>"Valitse uusiomateriaali",N31+O31,F31="Valitse uusiomateriaali","")} | N31: {=_xlfn.IFS(H31="kg",VLOOKUP(F31,Päästökertoimet!$C$5:$I$34,2,FALSE)*G31,H31="m3",VLOOKUP(F31,Päästökertoimet!$C$5:$I$34,6,FALSE)*G31,F31="Valitse uusiomateriaali","")} | O31: {=_xlfn.IFS(H31="kg",VLOOKUP(Laskentasivu!J31,Päästökertoimet!$M$5:$O$29,2,FALSE)*K31*(G31/1000),H31="m3",VLOOKUP(Laskentasivu!J31,Päästökertoimet!$M$5:$O$29,2,FALSE)*K31*G31*VLOOKUP(F31,Päästökertoimet!$C$5:$I$34,4,FALSE)/1000,F31="Valitse uusiomateriaali","")} | T31: =F31 -> Valitse uusiomateriaali | U31: {=IF(V31<>"",_xlfn.XLOOKUP(T31,Kustannukset!$B$15:$B$70,_xlfn.XLOOKUP(Laskentasivu!V31,Kustannukset!$C$14:$E$14,Kustannukset!$C$15:$E$70)),"")} | V31: {=_xlfn.IFS(H31="kg",Aputaulukko!$F$11,H31="m3",Aputaulukko!$F$12,H31="Materiaalin yksikkö","")} | Y31: km | AA31: t/vuosi | AB31: =IF(Z31<>"",SUMIFS(Kustannukset!$C$78:$C$92,Kustannukset!$B$78:$B$92,Laskentasivu!J31,Kustannukset!$E$78:$E$92,Laskentasivu!X31,Kustannukset!$G$78:$G$92,Laskentasivu!Z31),"") | AC31: e/km | AE31: =AF31+AG31 -> 0 | AF31: {=_xlfn.IFS(V31="e/kg",IF(H31="kg",U31*G31),V31="e/m3",IF(H31="m3",U31*G31),V31="",0)} -> 0 | AG31: {=_xlfn.IFS(AND(AB31<>"",H31="kg"),K31*AB31*((G31/1000)/VLOOKUP(J31,Kustannukset!$B$79:$K$92,9,FALSE)),AND(AB31<>"",H31="m3"),K31*AB31*((G31*VLOOKUP(F31,Päästökertoimet!$C$5:$I$59,4,FALSE)/1000)/VLOOKUP(J31,Kustannukset!$B$79:$K$92,9,FALSE)),AB31="",0)} -> 0
F32: Valitse uusiomateriaali | H32: Materiaalin yksikkö | J32: Valitse kuljetustapa | L32: km | M32: {=_xlfn.IFS(F32<>"Valitse uusiomateriaali",N32+O32,F32="Valitse uusiomateriaali","")} | N32: {=_xlfn.IFS(H32="kg",VLOOKUP(F32,Päästökertoimet!$C$5:$I$34,2,FALSE)*G32,H32="m3",VLOOKUP(F32,Päästökertoimet!$C$5:$I$34,6,FALSE)*G32,F32="Valitse uusiomateriaali","")} | O32: {=_xlfn.IFS(H32="kg",VLOOKUP(Laskentasivu!J32,Päästökertoimet!$M$5:$O$29,2,FALSE)*K32*(G32/1000),H32="m3",VLOOKUP(Laskentasivu!J32,Päästökertoimet!$M$5:$O$29,2,FALSE)*K32*G32*VLOOKUP(F32,Päästökertoimet!$C$5:$I$34,4,FALSE)/1000,F32="Valitse uusiomateriaali","")} | T32: =F32 -> Valitse uusiomateriaali | U32: {=IF(V32<>"",_xlfn.XLOOKUP(T32,Kustannukset!$B$15:$B$70,_xlfn.XLOOKUP(Laskentasivu!V32,Kustannukset!$C$14:$E$14,Kustannukset!$C$15:$E$70)),"")} | V32: {=_xlfn.IFS(H32="kg",Aputaulukko!$F$11,H32="m3",Aputaulukko!$F$12,H32="Materiaalin yksikkö","")} | Y32: km | AA32: t/vuosi | AB32: =IF(Z32<>"",SUMIFS(Kustannukset!$C$78:$C$92,Kustannukset!$B$78:$B$92,Laskentasivu!J32,Kustannukset!$E$78:$E$92,Laskentasivu!X32,Kustannukset!$G$78:$G$92,Laskentasivu!Z32),"") | AC32: e/km | AE32: =AF32+AG32 -> 0 | AF32: {=_xlfn.IFS(V32="e/kg",IF(H32="kg",U32*G32),V32="e/m3",IF(H32="m3",U32*G32),V32="",0)} -> 0 | AG32: {=_xlfn.IFS(AND(AB32<>"",H32="kg"),K32*AB32*((G32/1000)/VLOOKUP(J32,Kustannukset!$B$79:$K$92,9,FALSE)),AND(AB32<>"",H32="m3"),K32*AB32*((G32*VLOOKUP(F32,Päästökertoimet!$C$5:$I$59,4,FALSE)/1000)/VLOOKUP(J32,Kustannukset!$B$79:$K$92,9,FALSE)),AB32="",0)} -> 0
F33: Valitse uusiomateriaali | H33: Materiaalin yksikkö | J33: Valitse kuljetustapa | L33: km | M33: {=_xlfn.IFS(F33<>"Valitse uusiomateriaali",N33+O33,F33="Valitse uusiomateriaali","")} | N33: {=_xlfn.IFS(H33="kg",VLOOKUP(F33,Päästökertoimet!$C$5:$I$34,2,FALSE)*G33,H33="m3",VLOOKUP(F33,Päästökertoimet!$C$5:$I$34,6,FALSE)*G33,F33="Valitse uusiomateriaali","")} | O33: {=_xlfn.IFS(H33="kg",VLOOKUP(Laskentasivu!J33,Päästökertoimet!$M$5:$O$29,2,FALSE)*K33*(G33/1000),H33="m3",VLOOKUP(Laskentasivu!J33,Päästökertoimet!$M$5:$O$29,2,FALSE)*K33*G33*VLOOKUP(F33,Päästökertoimet!$C$5:$I$34,4,FALSE)/1000,F33="Valitse uusiomateriaali","")} | T33: =F33 -> Valitse uusiomateriaali | U33: {=IF(V33<>"",_xlfn.XLOOKUP(T33,Kustannukset!$B$15:$B$70,_xlfn.XLOOKUP(Laskentasivu!V33,Kustannukset!$C$14:$E$14,Kustannukset!$C$15:$E$70)),"")} | V33: {=_xlfn.IFS(H33="kg",Aputaulukko!$F$11,H33="m3",Aputaulukko!$F$12,H33="Materiaalin yksikkö","")} | Y33: km | AA33: t/vuosi | AB33: =IF(Z33<>"",SUMIFS(Kustannukset!$C$78:$C$92,Kustannukset!$B$78:$B$92,Laskentasivu!J33,Kustannukset!$E$78:$E$92,Laskentasivu!X33,Kustannukset!$G$78:$G$92,Laskentasivu!Z33),"") | AC33: e/km | AE33: =AF33+AG33 -> 0 | AF33: {=_xlfn.IFS(V33="e/kg",IF(H33="kg",U33*G33),V33="e/m3",IF(H33="m3",U33*G33),V33="",0)} -> 0 | AG33: {=_xlfn.IFS(AND(AB33<>"",H33="kg"),K33*AB33*((G33/1000)/VLOOKUP(J33,Kustannukset!$B$79:$K$92,9,FALSE)),AND(AB33<>"",H33="m3"),K33*AB33*((G33*VLOOKUP(F33,Päästökertoimet!$C$5:$I$59,4,FALSE)/1000)/VLOOKUP(J33,Kustannukset!$B$79:$K$92,9,FALSE)),AB33="",0)} -> 0
F34: Valitse uusiomateriaali | H34: Materiaalin yksikkö | J34: Valitse kuljetustapa | L34: km | M34: {=_xlfn.IFS(F34<>"Valitse uusiomateriaali",N34+O34,F34="Valitse uusiomateriaali","")} | N34: {=_xlfn.IFS(H34="kg",VLOOKUP(F34,Päästökertoimet!$C$5:$I$34,2,FALSE)*G34,H34="m3",VLOOKUP(F34,Päästökertoimet!$C$5:$I$34,6,FALSE)*G34,F34="Valitse uusiomateriaali","")} | O34: {=_xlfn.IFS(H34="kg",VLOOKUP(Laskentasivu!J34,Päästökertoimet!$M$5:$O$29,2,FALSE)*K34*(G34/1000),H34="m3",VLOOKUP(Laskentasivu!J34,Päästökertoimet!$M$5:$O$29,2,FALSE)*K34*G34*VLOOKUP(F34,Päästökertoimet!$C$5:$I$34,4,FALSE)/1000,F34="Valitse uusiomateriaali","")} | T34: =F34 -> Valitse uusiomateriaali | U34: {=IF(V34<>"",_xlfn.XLOOKUP(T34,Kustannukset!$B$15:$B$70,_xlfn.XLOOKUP(Laskentasivu!V34,Kustannukset!$C$14:$E$14,Kustannukset!$C$15:$E$70)),"")} | V34: {=_xlfn.IFS(H34="kg",Aputaulukko!$F$11,H34="m3",Aputaulukko!$F$12,H34="Materiaalin yksikkö","")} | Y34: km | AA34: t/vuosi | AB34: =IF(Z34<>"",SUMIFS(Kustannukset!$C$78:$C$92,Kustannukset!$B$78:$B$92,Laskentasivu!J34,Kustannukset!$E$78:$E$92,Laskentasivu!X34,Kustannukset!$G$78:$G$92,Laskentasivu!Z34),"") | AC34: e/km | AE34: =AF34+AG34 -> 0 | AF34: {=_xlfn.IFS(V34="e/kg",IF(H34="kg",U34*G34),V34="e/m3",IF(H34="m3",U34*G34),V34="",0)} -> 0 | AG34: {=_xlfn.IFS(AND(AB34<>"",H34="kg"),K34*AB34*((G34/1000)/VLOOKUP(J34,Kustannukset!$B$79:$K$92,9,FALSE)),AND(AB34<>"",H34="m3"),K34*AB34*((G34*VLOOKUP(F34,Päästökertoimet!$C$5:$I$59,4,FALSE)/1000)/VLOOKUP(J34,Kustannukset!$B$79:$K$92,9,FALSE)),AB34="",0)} -> 0
... F38: Valitse uusiomateriaali | H38: Materiaalin yksikkö | J38: Valitse kuljetustapa | L38: km | M38: {=_xlfn.IFS(F38<>"Valitse uusiomateriaali",N38+O38,F38="Valitse uusiomateriaali","")} | N38: {=_xlfn.IFS(H38="kg",VLOOKUP(F38,Päästökertoimet!$C$5:$I$34,2,FALSE)*G38,H38="m3",VLOOKUP(F38,Päästökertoimet!$C$5:$I$34,6,FALSE)*G38,F38="Valitse uusiomateriaali","")} | O38: {=_xlfn.IFS(H38="kg",VLOOKUP(Laskentasivu!J38,Päästökertoimet!$M$5:$O$29,2,FALSE)*K38*(G38/1000),H38="m3",VLOOKUP(Laskentasivu!J38,Päästökertoimet!$M$5:$O$29,2,FALSE)*K38*G38*VLOOKUP(F38,Päästökertoimet!$C$5:$I$34,4,FALSE)/1000,F38="Valitse uusiomateriaali","")} | T38: =F38 -> Valitse uusiomateriaali | U38: {=IF(V38<>"",_xlfn.XLOOKUP(T38,Kustannukset!$B$15:$B$70,_xlfn.XLOOKUP(Laskentasivu!V38,Kustannukset!$C$14:$E$14,Kustannukset!$C$15:$E$70)),"")} | V38: {=_xlfn.IFS(H38="kg",Aputaulukko!$F$11,H38="m3",Aputaulukko!$F$12,H38="Materiaalin yksikkö","")} | Y38: km | AA38: t/vuosi | AB38: =IF(Z38<>"",SUMIFS(Kustannukset!$C$78:$C$92,Kustannukset!$B$78:$B$92,Laskentasivu!J38,Kustannukset!$E$78:$E$92,Laskentasivu!X38,Kustannukset!$G$78:$G$92,Laskentasivu!Z38),"") | AC38: e/km | AE38: =AF38+AG38 -> 0 | AF38: {=_xlfn.IFS(V38="e/kg",IF(H38="kg",U38*G38),V38="e/m3",IF(H38="m3",U38*G38),V38="",0)} -> 0 | AG38: {=_xlfn.IFS(AND(AB38<>"",H38="kg"),K38*AB38*((G38/1000)/VLOOKUP(J38,Kustannukset!$B$79:$K$92,9,FALSE)),AND(AB38<>"",H38="m3"),K38*AB38*((G38*VLOOKUP(F38,Päästökertoimet!$C$5:$I$59,4,FALSE)/1000)/VLOOKUP(J38,Kustannukset!$B$79:$K$92,9,FALSE)),AB38="",0)} -> 0
F40: 2. Rakentamisen päästöt, A5 | M40: Rakentamisen päästöt (kgCO2e)
F41: Kulutettu energiatyyppi* (käytä ensisijaisesti tätä) | G41: Määrä | H41: Yksikkö | M41: Energiatyypiltään | AC41: Materiaalien kustannus | AF41: =SUM(AF6:AF38) -> 0 | AG41: €
F42: Polttoöljy | H42: l | M42: {=_xlfn.IFS(G42<>"",G42*Päästökertoimet!AG5,G42="","")} | AC42: Kuljetuksen kustannus | AF42: =SUM(AG6:AG38) -> 0 | AG42: €
F43: Diesel | H43: l | M43: {=_xlfn.IFS(G43<>"",G43*Päästökertoimet!AG6,G43="","")} | AC43: Yhteensä | AF43: =SUM(AF41:AF42) -> 0 | AG43: €
F44: Uusiutuva diesel | H44: l | M44: {=_xlfn.IFS(G44<>"",G44*Päästökertoimet!AG7,G44="","")}
F45: Bensiini | H45: l | M45: {=_xlfn.IFS(G45<>"",G45*Päästökertoimet!AG8,G45="","")}
F46: LNG | H46: kg | M46: {=_xlfn.IFS(G46<>"",G46*Päästökertoimet!AG9,G46="","")}
F47: Biokaasu | H47: kg | M47: {=_xlfn.IFS(G47<>"",G47*Päästökertoimet!AG10,G47="","")}
F48: Vety | H48: kg | M48: {=_xlfn.IFS(G48<>"",G48*Päästökertoimet!AG11,G48="","")}
F50: Työkoneiden käyttö** | G50: Työkoneiden tuntikäyttö tai polttoaineen litramäärä | H50: Yksikkö | J50: Tai määrittele käytetyt työvaiheet*** | M50: Työkoneiden käyttö | N50: Työvaiheittain | O50: Sähkökäyttöiset
F51: Valitse työkone | H51: Työkoneen yksikkö | J51: Valitse työvaihe | M51: {=_xlfn.IFS(H51="h",G51*VLOOKUP(F51,Päästökertoimet!$S$5:$W$31,2,FALSE),H51="l",G51*VLOOKUP(F51,Päästökertoimet!$S$5:$W$31,4,FALSE),F51="Valitse työkone","")} | N51: {=_xlfn.IFS(J51<>"Valitse työvaihe",((SUMIF($H$6:$H$38,"kg",$G$6:$G$38)+Aputaulukko!$C$24)/1000)*VLOOKUP(J51,Päästökertoimet!$S$44:$W$56,5,FALSE),J51="Valitse työvaihe","")}
F52: Valitse työkone | H52: Työkoneen yksikkö | J52: Valitse työvaihe | M52: {=_xlfn.IFS(H52="h",G52*VLOOKUP(F52,Päästökertoimet!$S$5:$W$31,2,FALSE),H52="l",G52*VLOOKUP(F52,Päästökertoimet!$S$5:$W$31,4,FALSE),F52="Valitse työkone","")} | N52: {=_xlfn.IFS(J52<>"Valitse työvaihe",((SUMIF($H$6:$H$38,"kg",$G$6:$G$38)+Aputaulukko!$C$24)/1000)*VLOOKUP(J52,Päästökertoimet!$S$44:$W$56,5,FALSE),J52="Valitse työvaihe","")}
F53: Valitse työkone | H53: Työkoneen yksikkö | J53: Valitse työvaihe | M53: {=_xlfn.IFS(H53="h",G53*VLOOKUP(F53,Päästökertoimet!$S$5:$W$31,2,FALSE),H53="l",G53*VLOOKUP(F53,Päästökertoimet!$S$5:$W$31,4,FALSE),F53="Valitse työkone","")} | N53: {=_xlfn.IFS(J53<>"Valitse työvaihe",((SUMIF($H$6:$H$38,"kg",$G$6:$G$38)+Aputaulukko!$C$24)/1000)*VLOOKUP(J53,Päästökertoimet!$S$44:$W$56,5,FALSE),J53="Valitse työvaihe","")}
F54: Valitse työkone | H54: Työkoneen yksikkö | J54: Valitse työvaihe | M54: {=_xlfn.IFS(H54="h",G54*VLOOKUP(F54,Päästökertoimet!$S$5:$W$31,2,FALSE),H54="l",G54*VLOOKUP(F54,Päästökertoimet!$S$5:$W$31,4,FALSE),F54="Valitse työkone","")} | N54: {=_xlfn.IFS(J54<>"Valitse työvaihe",((SUMIF($H$6:$H$38,"kg",$G$6:$G$38)+Aputaulukko!$C$24)/1000)*VLOOKUP(J54,Päästökertoimet!$S$44:$W$56,5,FALSE),J54="Valitse työvaihe","")}
F55: Valitse työkone | H55: Työkoneen yksikkö | J55: Valitse työvaihe | M55: {=_xlfn.IFS(H55="h",G55*VLOOKUP(F55,Päästökertoimet!$S$5:$W$31,2,FALSE),H55="l",G55*VLOOKUP(F55,Päästökertoimet!$S$5:$W$31,4,FALSE),F55="Valitse työkone","")} | N55: {=_xlfn.IFS(J55<>"Valitse työvaihe",((SUMIF($H$6:$H$38,"kg",$G$6:$G$38)+Aputaulukko!$C$24)/1000)*VLOOKUP(J55,Päästökertoimet!$S$44:$W$56,5,FALSE),J55="Valitse työvaihe","")}
F56: Valitse työkone | H56: Työkoneen yksikkö | J56: Valitse työvaihe | M56: {=_xlfn.IFS(H56="h",G56*VLOOKUP(F56,Päästökertoimet!$S$5:$W$31,2,FALSE),H56="l",G56*VLOOKUP(F56,Päästökertoimet!$S$5:$W$31,4,FALSE),F56="Valitse työkone","")} | N56: {=_xlfn.IFS(J56<>"Valitse työvaihe",((SUMIF($H$6:$H$38,"kg",$G$6:$G$38)+Aputaulukko!$C$24)/1000)*VLOOKUP(J56,Päästökertoimet!$S$44:$W$56,5,FALSE),J56="Valitse työvaihe","")}
F57: Valitse työkone | H57: Työkoneen yksikkö | J57: Valitse työvaihe | M57: {=_xlfn.IFS(H57="h",G57*VLOOKUP(F57,Päästökertoimet!$S$5:$W$31,2,FALSE),H57="l",G57*VLOOKUP(F57,Päästökertoimet!$S$5:$W$31,4,FALSE),F57="Valitse työkone","")} | N57: {=_xlfn.IFS(J57<>"Valitse työvaihe",((SUMIF($H$6:$H$38,"kg",$G$6:$G$38)+Aputaulukko!$C$24)/1000)*VLOOKUP(J57,Päästökertoimet!$S$44:$W$56,5,FALSE),J57="Valitse työvaihe","")}
F58: Valitse työkone | H58: Työkoneen yksikkö | M58: {=_xlfn.IFS(H58="h",G58*VLOOKUP(F58,Päästökertoimet!$S$5:$W$31,2,FALSE),H58="l",G58*VLOOKUP(F58,Päästökertoimet!$S$5:$W$31,4,FALSE),F58="Valitse työkone","")}
F59: Valitse työkone | H59: Työkoneen yksikkö | M59: {=_xlfn.IFS(H59="h",G59*VLOOKUP(F59,Päästökertoimet!$S$5:$W$31,2,FALSE),H59="l",G59*VLOOKUP(F59,Päästökertoimet!$S$5:$W$31,4,FALSE),F59="Valitse työkone","")}
F60: Valitse työkone | H60: Työkoneen yksikkö | J60: Sähkökäyttöisten työkoneiden käyttö | M60: {=_xlfn.IFS(H60="h",G60*VLOOKUP(F60,Päästökertoimet!$S$5:$W$31,2,FALSE),H60="l",G60*VLOOKUP(F60,Päästökertoimet!$S$5:$W$31,4,FALSE),F60="Valitse työkone","")}
F61: Valitse työkone | H61: Työkoneen yksikkö | J61: Vihreä sähkö | L61: kWh | M61: {=_xlfn.IFS(H61="h",G61*VLOOKUP(F61,Päästökertoimet!$S$5:$W$31,2,FALSE),H61="l",G61*VLOOKUP(F61,Päästökertoimet!$S$5:$W$31,4,FALSE),F61="Valitse työkone","")} | O61: {=_xlfn.IFS(K61<>"",Päästökertoimet!T37*K61,K61="","")}
F62: Valitse työkone | H62: Työkoneen yksikkö | J62: Kotimaan käytetyn sähkön keskiarvo | L62: kWh | M62: {=_xlfn.IFS(H62="h",G62*VLOOKUP(F62,Päästökertoimet!$S$5:$W$31,2,FALSE),H62="l",G62*VLOOKUP(F62,Päästökertoimet!$S$5:$W$31,4,FALSE),F62="Valitse työkone","")} | O62: {=_xlfn.IFS(K62<>"",Päästökertoimet!T38*K62,K62="","")}
F63: Valitse työkone | H63: Työkoneen yksikkö | J63: Oma energiayhtiö | L63: kWh | M63: {=_xlfn.IFS(H63="h",G63*VLOOKUP(F63,Päästökertoimet!$S$5:$W$31,2,FALSE),H63="l",G63*VLOOKUP(F63,Päästökertoimet!$S$5:$W$31,4,FALSE),F63="Valitse työkone","")} | O63: {=_xlfn.IFS(K63<>"",Päästökertoimet!T39*K63,K63="","")}
F64: Valitse työkone | H64: Työkoneen yksikkö | M64: {=_xlfn.IFS(H64="h",G64*VLOOKUP(F64,Päästökertoimet!$S$5:$W$31,2,FALSE),H64="l",G64*VLOOKUP(F64,Päästökertoimet!$S$5:$W$31,4,FALSE),F64="Valitse työkone","")}
F65: Valitse työkone | H65: Työkoneen yksikkö | M65: {=_xlfn.IFS(H65="h",G65*VLOOKUP(F65,Päästökertoimet!$S$5:$W$31,2,FALSE),H65="l",G65*VLOOKUP(F65,Päästökertoimet!$S$5:$W$31,4,FALSE),F65="Valitse työkone","")}
F66: Valitse työkone | H66: Työkoneen yksikkö | M66: {=_xlfn.IFS(H66="h",G66*VLOOKUP(F66,Päästökertoimet!$S$5:$W$31,2,FALSE),H66="l",G66*VLOOKUP(F66,Päästökertoimet!$S$5:$W$31,4,FALSE),F66="Valitse työkone","")}
F67: Valitse työkone | H67: Työkoneen yksikkö | M67: {=_xlfn.IFS(H67="h",G67*VLOOKUP(F67,Päästökertoimet!$S$5:$W$31,2,FALSE),H67="l",G67*VLOOKUP(F67,Päästökertoimet!$S$5:$W$31,4,FALSE),F67="Valitse työkone","")}
F68: Valitse työkone | H68: Työkoneen yksikkö | M68: {=_xlfn.IFS(H68="h",G68*VLOOKUP(F68,Päästökertoimet!$S$5:$W$31,2,FALSE),H68="l",G68*VLOOKUP(F68,Päästökertoimet!$S$5:$W$31,4,FALSE),F68="Valitse työkone","")}
F69: Valitse työkone | H69: Työkoneen yksikkö | M69: {=_xlfn.IFS(H69="h",G69*VLOOKUP(F69,Päästökertoimet!$S$5:$W$31,2,FALSE),H69="l",G69*VLOOKUP(F69,Päästökertoimet!$S$5:$W$31,4,FALSE),F69="Valitse työkone","")}
F70: Valitse työkone | H70: Työkoneen yksikkö | M70: {=_xlfn.IFS(H70="h",G70*VLOOKUP(F70,Päästökertoimet!$S$5:$W$31,2,FALSE),H70="l",G70*VLOOKUP(F70,Päästökertoimet!$S$5:$W$31,4,FALSE),F70="Valitse työkone","")}
F72: 3. Rakentamisessa syntyneiden jätteiden käsittely ja kuljetus, A5 | M72: Jätteiden päästöt (kgCO2e)
F73: Jätelaji | G73: Määrä kg | J73: Jätteen kuljetustapa | K73: Kuljetuskilometrit/ suunta | M73: Jätteen käsittelyn päästöt | N73: Jätteen kuljetuksen päästöt
F74: =Päästökertoimet!AA5 -> Energiajäte | H74: kg | J74: Jäteauto (9 t) | L74: km | M74: {=_xlfn.IFS(G74<>"",G74*Päästökertoimet!AB5,G74="","")} | N74: {=_xlfn.IFS(K74="","",K74<>"",VLOOKUP(J74,Päästökertoimet!$M$5:$N$29,2,FALSE)*Laskentasivu!G74/1000*Laskentasivu!K74)}
F75: =Päästökertoimet!AA6 -> Rakennusjäte | H75: kg | J75: Jäteauto (9 t) | L75: km | M75: {=_xlfn.IFS(G75<>"",G75*Päästökertoimet!AB6,G75="","")} | N75: {=_xlfn.IFS(K75="","",K75<>"",VLOOKUP(J75,Päästökertoimet!$M$5:$N$29,2,FALSE)*Laskentasivu!G75/1000*Laskentasivu!K75)}
F76: =Päästökertoimet!AA7 -> Metalli | H76: kg | J76: Jäteauto (9 t) | L76: km | M76: {=_xlfn.IFS(G76<>"",G76*Päästökertoimet!AB7,G76="","")} | N76: {=_xlfn.IFS(K76="","",K76<>"",VLOOKUP(J76,Päästökertoimet!$M$5:$N$29,2,FALSE)*Laskentasivu!G76/1000*Laskentasivu!K76)}
F77: =Päästökertoimet!AA8 -> Kartonki/pahvi | H77: kg | J77: Jäteauto (9 t) | L77: km | M77: {=_xlfn.IFS(G77<>"",G77*Päästökertoimet!AB8,G77="","")} | N77: {=_xlfn.IFS(K77="","",K77<>"",VLOOKUP(J77,Päästökertoimet!$M$5:$N$29,2,FALSE)*Laskentasivu!G77/1000*Laskentasivu!K77)}
F78: =Päästökertoimet!AA9 -> Lasi | H78: kg | J78: Jäteauto (9 t) | L78: km | M78: {=_xlfn.IFS(G78<>"",G78*Päästökertoimet!AB9,G78="","")} | N78: {=_xlfn.IFS(K78="","",K78<>"",VLOOKUP(J78,Päästökertoimet!$M$5:$N$29,2,FALSE)*Laskentasivu!G78/1000*Laskentasivu!K78)}
F79: =Päästökertoimet!AA10 -> Muovi | H79: kg | J79: Jäteauto (9 t) | L79: km | M79: {=_xlfn.IFS(G79<>"",G79*Päästökertoimet!AB10,G79="","")} | N79: {=_xlfn.IFS(K79="","",K79<>"",VLOOKUP(J79,Päästökertoimet!$M$5:$N$29,2,FALSE)*Laskentasivu!G79/1000*Laskentasivu!K79)}
F80: =Päästökertoimet!AA11 -> Puu | H80: kg | J80: Jäteauto (9 t) | L80: km | M80: {=_xlfn.IFS(G80<>"",G80*Päästökertoimet!AB11,G80="","")} | N80: {=_xlfn.IFS(K80="","",K80<>"",VLOOKUP(J80,Päästökertoimet!$M$5:$N$29,2,FALSE)*Laskentasivu!G80/1000*Laskentasivu!K80)}
F81: =Päästökertoimet!AA12 -> Vaarallinen jäte | H81: kg | J81: Jäteauto (9 t) | L81: km | M81: {=_xlfn.IFS(G81<>"",G81*Päästökertoimet!AB12,G81="","")} | N81: {=_xlfn.IFS(K81="","",K81<>"",VLOOKUP(J81,Päästökertoimet!$M$5:$N$29,2,FALSE)*Laskentasivu!G81/1000*Laskentasivu!K81)}
F82: =Päästökertoimet!AA13 -> Sekajäte (poltto) | H82: kg | J82: Jäteauto (9 t) | L82: km | M82: {=_xlfn.IFS(G82<>"",G82*Päästökertoimet!AB13,G82="","")} | N82: {=_xlfn.IFS(K82="","",K82<>"",VLOOKUP(J82,Päästökertoimet!$M$5:$N$29,2,FALSE)*Laskentasivu!G82/1000*Laskentasivu!K82)}
F83: =Päästökertoimet!AA14 -> Biojäte | H83: kg | J83: Jäteauto (9 t) | L83: km | M83: {=_xlfn.IFS(G83<>"",G83*Päästökertoimet!AB14,G83="","")} | N83: {=_xlfn.IFS(K83="","",K83<>"",VLOOKUP(J83,Päästökertoimet!$M$5:$N$29,2,FALSE)*Laskentasivu!G83/1000*Laskentasivu!K83)}
F84: =Päästökertoimet!AA15 -> Paperi | H84: kg | J84: Jäteauto (9 t) | L84: km | M84: {=_xlfn.IFS(G84<>"",G84*Päästökertoimet!AB15,G84="","")} | N84: {=_xlfn.IFS(K84="","",K84<>"",VLOOKUP(J84,Päästökertoimet!$M$5:$N$29,2,FALSE)*Laskentasivu!G84/1000*Laskentasivu!K84)}
H89: SKENAARIO 1 | J89: Materiaalien päästöt | K89: =SUM(N6:N38) -> 0 | L89: kgCO2e | M89: Neitseellisten materiaalien päästöt | N89: =SUM(N6:N21) -> 0 | O89: kgCO2e
J90: Kuljetuksen päästöt | K90: =SUM(O6:O38) -> 0 | L90: kgCO2e | M90: Uusiomateriaalien päästöt | N90: =SUM(N23:N38) -> 0 | O90: kgCO2e
J91: Rakentamisen päästöt | K91: =SUM(M42:O71) -> 0 | L91: kgCO2e
J92: Jätteen käsittelyn päästöt | K92: =SUM(M74:N84) -> 0 | L92: kgCO2e
J93: Yhteensä, kgCO2e | K93: =SUM(K89:K92) -> 0 | L93: kgCO2e
J94: Yhteensä, tCO2e | K94: =K93/1000 -> 0 | L94: tCO2e
F98: Skenaario 2 - päästölaskenta | G98: Skenaarion nimi: | T98: Skenaario 2 - kustannuslaskenta
F99: 1. Materiaalien päästöt ja kuljetukset
F100: Materiaalit, A1 ja A3 | G100: Määrä | H100: Yksikkö | J100: Materiaalien kuljetustapa, A2 ja A4 | K100: Kuljetuskilometrit | L100: Yksikkö | M100: Päästöt yhteensä materiaalikohtaisesti (kgCO2e) | N100: Materiaalin päästöt (kgCO2e) | O100: Kuljetuksen päästöt (kgCO2e) | U100: Materiaalin yksikkökustannukset | V100: Yksikkö | X100: Kuljetussäde | Y100: Yksikkö | Z100: Kuljetettava määrä vuodessa | AA100: Yksikkö | AB100: Kuljetuksien kustannukset | AC100: Yksikkö | AE100: Kustannukset yhteensä materiaalikohtaisesti (e) | AF100: Materiaalin kustannus (e) | AG100: Kuljetuksen kustannus (e)
F101: Neitseelliset materiaalit
F102: Valitse neitseellinen materiaali | H102: Materiaalin yksikkö | J102: Valitse kuljetustapa | L102: km | M102: {=_xlfn.IFS(F102<>"Valitse neitseellinen materiaali",N102+O102,F102="Valitse neitseellinen materiaali","")} | N102: {=_xlfn.IFS(H102="kg",VLOOKUP(F102,Päästökertoimet!$C$35:$I$59,2,FALSE)*G102,H102="m3",VLOOKUP(F102,Päästökertoimet!$C$35:$I$59,6,FALSE)*G102,F102="Valitse neitseellinen materiaali","")} | O102: {=_xlfn.IFS(H102="kg",VLOOKUP(Laskentasivu!J102,Päästökertoimet!$M$5:$O$29,2,FALSE)*K102*(G102/1000),H102="m3",VLOOKUP(Laskentasivu!J102,Päästökertoimet!$M$5:$O$29,2,FALSE)*K102*G102*VLOOKUP(F102,Päästökertoimet!$C$35:$I$59,4,FALSE)/1000,F102="Valitse neitseellinen materiaali","")} | T102: =F102 -> Valitse neitseellinen materiaali | U102: {=IF(V102<>"",_xlfn.XLOOKUP(T102,Kustannukset!$B$15:$B$70,_xlfn.XLOOKUP(Laskentasivu!V102,Kustannukset!$C$14:$E$14,Kustannukset!$C$15:$E$70)),"")} | V102: {=_xlfn.IFS(H102="kg",Aputaulukko!$F$11,H102="m3",Aputaulukko!$F$12,H102="Materiaalin yksikkö","")} | Y102: km | AA102: t/vuosi | AB102: =IF(Z102<>"",SUMIFS(Kustannukset!$C$78:$C$92,Kustannukset!$B$78:$B$92,Laskentasivu!J102,Kustannukset!$E$78:$E$92,Laskentasivu!X102,Kustannukset!$G$78:$G$92,Laskentasivu!Z102),"") | AC102: e/km | AE102: =AF102+AG102 -> 0 | AF102: {=_xlfn.IFS(V102="e/kg",IF(H102="kg",U102*G102),V102="e/m3",IF(H102="m3",U102*G102),V102="",0)} -> 0 | AG102: {=_xlfn.IFS(AND(AB102<>"",H102="kg"),K102*AB102*((G102/1000)/VLOOKUP(J102,Kustannukset!$B$79:$K$92,9,FALSE)),AND(AB102<>"",H102="m3"),K102*AB102*((G102*VLOOKUP(F102,Päästökertoimet!$C$5:$I$59,4,FALSE)/1000)/VLOOKUP(J102,Kustannukset!$B$79:$K$92,9,FALSE)),AB102="",0)} -> 0
F103: Valitse neitseellinen materiaali | H103: Materiaalin yksikkö | J103: Valitse kuljetustapa | L103: km | M103: {=_xlfn.IFS(F103<>"Valitse neitseellinen materiaali",N103+O103,F103="Valitse neitseellinen materiaali","")} | N103: {=_xlfn.IFS(H103="kg",VLOOKUP(F103,Päästökertoimet!$C$35:$I$59,2,FALSE)*G103,H103="m3",VLOOKUP(F103,Päästökertoimet!$C$35:$I$59,6,FALSE)*G103,F103="Valitse neitseellinen materiaali","")} | O103: {=_xlfn.IFS(H103="kg",VLOOKUP(Laskentasivu!J103,Päästökertoimet!$M$5:$O$29,2,FALSE)*K103*(G103/1000),H103="m3",VLOOKUP(Laskentasivu!J103,Päästökertoimet!$M$5:$O$29,2,FALSE)*K103*G103*VLOOKUP(F103,Päästökertoimet!$C$35:$I$59,4,FALSE)/1000,F103="Valitse neitseellinen materiaali","")} | T103: =F103 -> Valitse neitseellinen materiaali | U103: {=IF(V103<>"",_xlfn.XLOOKUP(T103,Kustannukset!$B$15:$B$70,_xlfn.XLOOKUP(Laskentasivu!V103,Kustannukset!$C$14:$E$14,Kustannukset!$C$15:$E$70)),"")} | V103: {=_xlfn.IFS(H103="kg",Aputaulukko!$F$11,H103="m3",Aputaulukko!$F$12,H103="Materiaalin yksikkö","")} | Y103: km | AA103: t/vuosi | AB103: =IF(Z103<>"",SUMIFS(Kustannukset!$C$78:$C$92,Kustannukset!$B$78:$B$92,Laskentasivu!J103,Kustannukset!$E$78:$E$92,Laskentasivu!X103,Kustannukset!$G$78:$G$92,Laskentasivu!Z103),"") | AC103: e/km | AE103: =AF103+AG103 -> 0 | AF103: {=_xlfn.IFS(V103="e/kg",IF(H103="kg",U103*G103),V103="e/m3",IF(H103="m3",U103*G103),V103="",0)} -> 0 | AG103: {=_xlfn.IFS(AND(AB103<>"",H103="kg"),K103*AB103*((G103/1000)/VLOOKUP(J103,Kustannukset!$B$79:$K$92,9,FALSE)),AND(AB103<>"",H103="m3"),K103*AB103*((G103*VLOOKUP(F103,Päästökertoimet!$C$5:$I$59,4,FALSE)/1000)/VLOOKUP(J103,Kustannukset!$B$79:$K$92,9,FALSE)),AB103="",0)} -> 0
F104: Valitse neitseellinen materiaali | H104: Materiaalin yksikkö | J104: Valitse kuljetustapa | L104: km | M104: {=_xlfn.IFS(F104<>"Valitse neitseellinen materiaali",N104+O104,F104="Valitse neitseellinen materiaali","")} | N104: {=_xlfn.IFS(H104="kg",VLOOKUP(F104,Päästökertoimet!$C$35:$I$59,2,FALSE)*G104,H104="m3",VLOOKUP(F104,Päästökertoimet!$C$35:$I$59,6,FALSE)*G104,F104="Valitse neitseellinen materiaali","")} | O104: {=_xlfn.IFS(H104="kg",VLOOKUP(Laskentasivu!J104,Päästökertoimet!$M$5:$O$29,2,FALSE)*K104*(G104/1000),H104="m3",VLOOKUP(Laskentasivu!J104,Päästökertoimet!$M$5:$O$29,2,FALSE)*K104*G104*VLOOKUP(F104,Päästökertoimet!$C$35:$I$59,4,FALSE)/1000,F104="Valitse neitseellinen materiaali","")} | T104: =F104 -> Valitse neitseellinen materiaali | U104: {=IF(V104<>"",_xlfn.XLOOKUP(T104,Kustannukset!$B$15:$B$70,_xlfn.XLOOKUP(Laskentasivu!V104,Kustannukset!$C$14:$E$14,Kustannukset!$C$15:$E$70)),"")} | V104: {=_xlfn.IFS(H104="kg",Aputaulukko!$F$11,H104="m3",Aputaulukko!$F$12,H104="Materiaalin yksikkö","")} | Y104: km | AA104: t/vuosi | AB104: =IF(Z104<>"",SUMIFS(Kustannukset!$C$78:$C$92,Kustannukset!$B$78:$B$92,Laskentasivu!J104,Kustannukset!$E$78:$E$92,Laskentasivu!X104,Kustannukset!$G$78:$G$92,Laskentasivu!Z104),"") | AC104: e/km | AE104: =AF104+AG104 -> 0 | AF104: {=_xlfn.IFS(V104="e/kg",IF(H104="kg",U104*G104),V104="e/m3",IF(H104="m3",U104*G104),V104="",0)} -> 0 | AG104: {=_xlfn.IFS(AND(AB104<>"",H104="kg"),K104*AB104*((G104/1000)/VLOOKUP(J104,Kustannukset!$B$79:$K$92,9,FALSE)),AND(AB104<>"",H104="m3"),K104*AB104*((G104*VLOOKUP(F104,Päästökertoimet!$C$5:$I$59,4,FALSE)/1000)/VLOOKUP(J104,Kustannukset!$B$79:$K$92,9,FALSE)),AB104="",0)} -> 0
F105: Valitse neitseellinen materiaali | H105: Materiaalin yksikkö | J105: Valitse kuljetustapa | L105: km | M105: {=_xlfn.IFS(F105<>"Valitse neitseellinen materiaali",N105+O105,F105="Valitse neitseellinen materiaali","")} | N105: {=_xlfn.IFS(H105="kg",VLOOKUP(F105,Päästökertoimet!$C$35:$I$59,2,FALSE)*G105,H105="m3",VLOOKUP(F105,Päästökertoimet!$C$35:$I$59,6,FALSE)*G105,F105="Valitse neitseellinen materiaali","")} | O105: {=_xlfn.IFS(H105="kg",VLOOKUP(Laskentasivu!J105,Päästökertoimet!$M$5:$O$29,2,FALSE)*K105*(G105/1000),H105="m3",VLOOKUP(Laskentasivu!J105,Päästökertoimet!$M$5:$O$29,2,FALSE)*K105*G105*VLOOKUP(F105,Päästökertoimet!$C$35:$I$59,4,FALSE)/1000,F105="Valitse neitseellinen materiaali","")} | T105: =F105 -> Valitse neitseellinen materiaali | U105: {=IF(V105<>"",_xlfn.XLOOKUP(T105,Kustannukset!$B$15:$B$70,_xlfn.XLOOKUP(Laskentasivu!V105,Kustannukset!$C$14:$E$14,Kustannukset!$C$15:$E$70)),"")} | V105: {=_xlfn.IFS(H105="kg",Aputaulukko!$F$11,H105="m3",Aputaulukko!$F$12,H105="Materiaalin yksikkö","")} | Y105: km | AA105: t/vuosi | AB105: =IF(Z105<>"",SUMIFS(Kustannukset!$C$78:$C$92,Kustannukset!$B$78:$B$92,Laskentasivu!J105,Kustannukset!$E$78:$E$92,Laskentasivu!X105,Kustannukset!$G$78:$G$92,Laskentasivu!Z105),"") | AC105: e/km | AE105: =AF105+AG105 -> 0 | AF105: {=_xlfn.IFS(V105="e/kg",IF(H105="kg",U105*G105),V105="e/m3",IF(H105="m3",U105*G105),V105="",0)} -> 0 | AG105: {=_xlfn.IFS(AND(AB105<>"",H105="kg"),K105*AB105*((G105/1000)/VLOOKUP(J105,Kustannukset!$B$79:$K$92,9,FALSE)),AND(AB105<>"",H105="m3"),K105*AB105*((G105*VLOOKUP(F105,Päästökertoimet!$C$5:$I$59,4,FALSE)/1000)/VLOOKUP(J105,Kustannukset!$B$79:$K$92,9,FALSE)),AB105="",0)} -> 0
F106: Valitse neitseellinen materiaali | H106: Materiaalin yksikkö | J106: Valitse kuljetustapa | L106: km | M106: {=_xlfn.IFS(F106<>"Valitse neitseellinen materiaali",N106+O106,F106="Valitse neitseellinen materiaali","")} | N106: {=_xlfn.IFS(H106="kg",VLOOKUP(F106,Päästökertoimet!$C$35:$I$59,2,FALSE)*G106,H106="m3",VLOOKUP(F106,Päästökertoimet!$C$35:$I$59,6,FALSE)*G106,F106="Valitse neitseellinen materiaali","")} | O106: {=_xlfn.IFS(H106="kg",VLOOKUP(Laskentasivu!J106,Päästökertoimet!$M$5:$O$29,2,FALSE)*K106*(G106/1000),H106="m3",VLOOKUP(Laskentasivu!J106,Päästökertoimet!$M$5:$O$29,2,FALSE)*K106*G106*VLOOKUP(F106,Päästökertoimet!$C$35:$I$59,4,FALSE)/1000,F106="Valitse neitseellinen materiaali","")} | T106: =F106 -> Valitse neitseellinen materiaali | U106: {=IF(V106<>"",_xlfn.XLOOKUP(T106,Kustannukset!$B$15:$B$70,_xlfn.XLOOKUP(Laskentasivu!V106,Kustannukset!$C$14:$E$14,Kustannukset!$C$15:$E$70)),"")} | V106: {=_xlfn.IFS(H106="kg",Aputaulukko!$F$11,H106="m3",Aputaulukko!$F$12,H106="Materiaalin yksikkö","")} | Y106: km | AA106: t/vuosi | AB106: =IF(Z106<>"",SUMIFS(Kustannukset!$C$78:$C$92,Kustannukset!$B$78:$B$92,Laskentasivu!J106,Kustannukset!$E$78:$E$92,Laskentasivu!X106,Kustannukset!$G$78:$G$92,Laskentasivu!Z106),"") | AC106: e/km | AE106: =AF106+AG106 -> 0 | AF106: {=_xlfn.IFS(V106="e/kg",IF(H106="kg",U106*G106),V106="e/m3",IF(H106="m3",U106*G106),V106="",0)} -> 0 | AG106: {=_xlfn.IFS(AND(AB106<>"",H106="kg"),K106*AB106*((G106/1000)/VLOOKUP(J106,Kustannukset!$B$79:$K$92,9,FALSE)),AND(AB106<>"",H106="m3"),K106*AB106*((G106*VLOOKUP(F106,Päästökertoimet!$C$5:$I$59,4,FALSE)/1000)/VLOOKUP(J106,Kustannukset!$B$79:$K$92,9,FALSE)),AB106="",0)} -> 0
F107: Valitse neitseellinen materiaali | H107: Materiaalin yksikkö | J107: Valitse kuljetustapa | L107: km | M107: {=_xlfn.IFS(F107<>"Valitse neitseellinen materiaali",N107+O107,F107="Valitse neitseellinen materiaali","")} | N107: {=_xlfn.IFS(H107="kg",VLOOKUP(F107,Päästökertoimet!$C$35:$I$59,2,FALSE)*G107,H107="m3",VLOOKUP(F107,Päästökertoimet!$C$35:$I$59,6,FALSE)*G107,F107="Valitse neitseellinen materiaali","")} | O107: {=_xlfn.IFS(H107="kg",VLOOKUP(Laskentasivu!J107,Päästökertoimet!$M$5:$O$29,2,FALSE)*K107*(G107/1000),H107="m3",VLOOKUP(Laskentasivu!J107,Päästökertoimet!$M$5:$O$29,2,FALSE)*K107*G107*VLOOKUP(F107,Päästökertoimet!$C$35:$I$59,4,FALSE)/1000,F107="Valitse neitseellinen materiaali","")} | T107: =F107 -> Valitse neitseellinen materiaali | U107: {=IF(V107<>"",_xlfn.XLOOKUP(T107,Kustannukset!$B$15:$B$70,_xlfn.XLOOKUP(Laskentasivu!V107,Kustannukset!$C$14:$E$14,Kustannukset!$C$15:$E$70)),"")} | V107: {=_xlfn.IFS(H107="kg",Aputaulukko!$F$11,H107="m3",Aputaulukko!$F$12,H107="Materiaalin yksikkö","")} | Y107: km | AA107: t/vuosi | AB107: =IF(Z107<>"",SUMIFS(Kustannukset!$C$78:$C$92,Kustannukset!$B$78:$B$92,Laskentasivu!J107,Kustannukset!$E$78:$E$92,Laskentasivu!X107,Kustannukset!$G$78:$G$92,Laskentasivu!Z107),"") | AC107: e/km | AE107: =AF107+AG107 -> 0 | AF107: {=_xlfn.IFS(V107="e/kg",IF(H107="kg",U107*G107),V107="e/m3",IF(H107="m3",U107*G107),V107="",0)} -> 0 | AG107: {=_xlfn.IFS(AND(AB107<>"",H107="kg"),K107*AB107*((G107/1000)/VLOOKUP(J107,Kustannukset!$B$79:$K$92,9,FALSE)),AND(AB107<>"",H107="m3"),K107*AB107*((G107*VLOOKUP(F107,Päästökertoimet!$C$5:$I$59,4,FALSE)/1000)/VLOOKUP(J107,Kustannukset!$B$79:$K$92,9,FALSE)),AB107="",0)} -> 0
F108: Valitse neitseellinen materiaali | H108: Materiaalin yksikkö | J108: Valitse kuljetustapa | L108: km | M108: {=_xlfn.IFS(F108<>"Valitse neitseellinen materiaali",N108+O108,F108="Valitse neitseellinen materiaali","")} | N108: {=_xlfn.IFS(H108="kg",VLOOKUP(F108,Päästökertoimet!$C$35:$I$59,2,FALSE)*G108,H108="m3",VLOOKUP(F108,Päästökertoimet!$C$35:$I$59,6,FALSE)*G108,F108="Valitse neitseellinen materiaali","")} | O108: {=_xlfn.IFS(H108="kg",VLOOKUP(Laskentasivu!J108,Päästökertoimet!$M$5:$O$29,2,FALSE)*K108*(G108/1000),H108="m3",VLOOKUP(Laskentasivu!J108,Päästökertoimet!$M$5:$O$29,2,FALSE)*K108*G108*VLOOKUP(F108,Päästökertoimet!$C$35:$I$59,4,FALSE)/1000,F108="Valitse neitseellinen materiaali","")} | T108: =F108 -> Valitse neitseellinen materiaali | U108: {=IF(V108<>"",_xlfn.XLOOKUP(T108,Kustannukset!$B$15:$B$70,_xlfn.XLOOKUP(Laskentasivu!V108,Kustannukset!$C$14:$E$14,Kustannukset!$C$15:$E$70)),"")} | V108: {=_xlfn.IFS(H108="kg",Aputaulukko!$F$11,H108="m3",Aputaulukko!$F$12,H108="Materiaalin yksikkö","")} | Y108: km | AA108: t/vuosi | AB108: =IF(Z108<>"",SUMIFS(Kustannukset!$C$78:$C$92,Kustannukset!$B$78:$B$92,Laskentasivu!J108,Kustannukset!$E$78:$E$92,Laskentasivu!X108,Kustannukset!$G$78:$G$92,Laskentasivu!Z108),"") | AC108: e/km | AE108: =AF108+AG108 -> 0 | AF108: {=_xlfn.IFS(V108="e/kg",IF(H108="kg",U108*G108),V108="e/m3",IF(H108="m3",U108*G108),V108="",0)} -> 0 | AG108: {=_xlfn.IFS(AND(AB108<>"",H108="kg"),K108*AB108*((G108/1000)/VLOOKUP(J108,Kustannukset!$B$79:$K$92,9,FALSE)),AND(AB108<>"",H108="m3"),K108*AB108*((G108*VLOOKUP(F108,Päästökertoimet!$C$5:$I$59,4,FALSE)/1000)/VLOOKUP(J108,Kustannukset!$B$79:$K$92,9,FALSE)),AB108="",0)} -> 0
F109: Valitse neitseellinen materiaali | H109: Materiaalin yksikkö | J109: Valitse kuljetustapa | L109: km | M109: {=_xlfn.IFS(F109<>"Valitse neitseellinen materiaali",N109+O109,F109="Valitse neitseellinen materiaali","")} | N109: {=_xlfn.IFS(H109="kg",VLOOKUP(F109,Päästökertoimet!$C$35:$I$59,2,FALSE)*G109,H109="m3",VLOOKUP(F109,Päästökertoimet!$C$35:$I$59,6,FALSE)*G109,F109="Valitse neitseellinen materiaali","")} | O109: {=_xlfn.IFS(H109="kg",VLOOKUP(Laskentasivu!J109,Päästökertoimet!$M$5:$O$29,2,FALSE)*K109*(G109/1000),H109="m3",VLOOKUP(Laskentasivu!J109,Päästökertoimet!$M$5:$O$29,2,FALSE)*K109*G109*VLOOKUP(F109,Päästökertoimet!$C$35:$I$59,4,FALSE)/1000,F109="Valitse neitseellinen materiaali","")} | T109: =F109 -> Valitse neitseellinen materiaali | U109: {=IF(V109<>"",_xlfn.XLOOKUP(T109,Kustannukset!$B$15:$B$70,_xlfn.XLOOKUP(Laskentasivu!V109,Kustannukset!$C$14:$E$14,Kustannukset!$C$15:$E$70)),"")} | V109: {=_xlfn.IFS(H109="kg",Aputaulukko!$F$11,H109="m3",Aputaulukko!$F$12,H109="Materiaalin yksikkö","")} | Y109: km | AA109: t/vuosi | AB109: =IF(Z109<>"",SUMIFS(Kustannukset!$C$78:$C$92,Kustannukset!$B$78:$B$92,Laskentasivu!J109,Kustannukset!$E$78:$E$92,Laskentasivu!X109,Kustannukset!$G$78:$G$92,Laskentasivu!Z109),"") | AC109: e/km | AE109: =AF109+AG109 -> 0 | AF109: {=_xlfn.IFS(V109="e/kg",IF(H109="kg",U109*G109),V109="e/m3",IF(H109="m3",U109*G109),V109="",0)} -> 0 | AG109: {=_xlfn.IFS(AND(AB109<>"",H109="kg"),K109*AB109*((G109/1000)/VLOOKUP(J109,Kustannukset!$B$79:$K$92,9,FALSE)),AND(AB109<>"",H109="m3"),K109*AB109*((G109*VLOOKUP(F109,Päästökertoimet!$C$5:$I$59,4,FALSE)/1000)/VLOOKUP(J109,Kustannukset!$B$79:$K$92,9,FALSE)),AB109="",0)} -> 0
F110: Valitse neitseellinen materiaali | H110: Materiaalin yksikkö | J110: Valitse kuljetustapa | L110: km | M110: {=_xlfn.IFS(F110<>"Valitse neitseellinen materiaali",N110+O110,F110="Valitse neitseellinen materiaali","")} | N110: {=_xlfn.IFS(H110="kg",VLOOKUP(F110,Päästökertoimet!$C$35:$I$59,2,FALSE)*G110,H110="m3",VLOOKUP(F110,Päästökertoimet!$C$35:$I$59,6,FALSE)*G110,F110="Valitse neitseellinen materiaali","")} | O110: {=_xlfn.IFS(H110="kg",VLOOKUP(Laskentasivu!J110,Päästökertoimet!$M$5:$O$29,2,FALSE)*K110*(G110/1000),H110="m3",VLOOKUP(Laskentasivu!J110,Päästökertoimet!$M$5:$O$29,2,FALSE)*K110*G110*VLOOKUP(F110,Päästökertoimet!$C$35:$I$59,4,FALSE)/1000,F110="Valitse neitseellinen materiaali","")} | T110: =F110 -> Valitse neitseellinen materiaali | U110: {=IF(V110<>"",_xlfn.XLOOKUP(T110,Kustannukset!$B$15:$B$70,_xlfn.XLOOKUP(Laskentasivu!V110,Kustannukset!$C$14:$E$14,Kustannukset!$C$15:$E$70)),"")} | V110: {=_xlfn.IFS(H110="kg",Aputaulukko!$F$11,H110="m3",Aputaulukko!$F$12,H110="Materiaalin yksikkö","")} | Y110: km | AA110: t/vuosi | AB110: =IF(Z110<>"",SUMIFS(Kustannukset!$C$78:$C$92,Kustannukset!$B$78:$B$92,Laskentasivu!J110,Kustannukset!$E$78:$E$92,Laskentasivu!X110,Kustannukset!$G$78:$G$92,Laskentasivu!Z110),"") | AC110: e/km | AE110: =AF110+AG110 -> 0 | AF110: {=_xlfn.IFS(V110="e/kg",IF(H110="kg",U110*G110),V110="e/m3",IF(H110="m3",U110*G110),V110="",0)} -> 0 | AG110: {=_xlfn.IFS(AND(AB110<>"",H110="kg"),K110*AB110*((G110/1000)/VLOOKUP(J110,Kustannukset!$B$79:$K$92,9,FALSE)),AND(AB110<>"",H110="m3"),K110*AB110*((G110*VLOOKUP(F110,Päästökertoimet!$C$5:$I$59,4,FALSE)/1000)/VLOOKUP(J110,Kustannukset!$B$79:$K$92,9,FALSE)),AB110="",0)} -> 0
F111: Valitse neitseellinen materiaali | H111: Materiaalin yksikkö | J111: Valitse kuljetustapa | L111: km | M111: {=_xlfn.IFS(F111<>"Valitse neitseellinen materiaali",N111+O111,F111="Valitse neitseellinen materiaali","")} | N111: {=_xlfn.IFS(H111="kg",VLOOKUP(F111,Päästökertoimet!$C$35:$I$59,2,FALSE)*G111,H111="m3",VLOOKUP(F111,Päästökertoimet!$C$35:$I$59,6,FALSE)*G111,F111="Valitse neitseellinen materiaali","")} | O111: {=_xlfn.IFS(H111="kg",VLOOKUP(Laskentasivu!J111,Päästökertoimet!$M$5:$O$29,2,FALSE)*K111*(G111/1000),H111="m3",VLOOKUP(Laskentasivu!J111,Päästökertoimet!$M$5:$O$29,2,FALSE)*K111*G111*VLOOKUP(F111,Päästökertoimet!$C$35:$I$59,4,FALSE)/1000,F111="Valitse neitseellinen materiaali","")} | T111: =F111 -> Valitse neitseellinen materiaali | U111: {=IF(V111<>"",_xlfn.XLOOKUP(T111,Kustannukset!$B$15:$B$70,_xlfn.XLOOKUP(Laskentasivu!V111,Kustannukset!$C$14:$E$14,Kustannukset!$C$15:$E$70)),"")} | V111: {=_xlfn.IFS(H111="kg",Aputaulukko!$F$11,H111="m3",Aputaulukko!$F$12,H111="Materiaalin yksikkö","")} | Y111: km | AA111: t/vuosi | AB111: =IF(Z111<>"",SUMIFS(Kustannukset!$C$78:$C$92,Kustannukset!$B$78:$B$92,Laskentasivu!J111,Kustannukset!$E$78:$E$92,Laskentasivu!X111,Kustannukset!$G$78:$G$92,Laskentasivu!Z111),"") | AC111: e/km | AE111: =AF111+AG111 -> 0 | AF111: {=_xlfn.IFS(V111="e/kg",IF(H111="kg",U111*G111),V111="e/m3",IF(H111="m3",U111*G111),V111="",0)} -> 0 | AG111: {=_xlfn.IFS(AND(AB111<>"",H111="kg"),K111*AB111*((G111/1000)/VLOOKUP(J111,Kustannukset!$B$79:$K$92,9,FALSE)),AND(AB111<>"",H111="m3"),K111*AB111*((G111*VLOOKUP(F111,Päästökertoimet!$C$5:$I$59,4,FALSE)/1000)/VLOOKUP(J111,Kustannukset!$B$79:$K$92,9,FALSE)),AB111="",0)} -> 0
F112: Valitse neitseellinen materiaali | H112: Materiaalin yksikkö | J112: Valitse kuljetustapa | L112: km | M112: {=_xlfn.IFS(F112<>"Valitse neitseellinen materiaali",N112+O112,F112="Valitse neitseellinen materiaali","")} | N112: {=_xlfn.IFS(H112="kg",VLOOKUP(F112,Päästökertoimet!$C$35:$I$59,2,FALSE)*G112,H112="m3",VLOOKUP(F112,Päästökertoimet!$C$35:$I$59,6,FALSE)*G112,F112="Valitse neitseellinen materiaali","")} | O112: {=_xlfn.IFS(H112="kg",VLOOKUP(Laskentasivu!J112,Päästökertoimet!$M$5:$O$29,2,FALSE)*K112*(G112/1000),H112="m3",VLOOKUP(Laskentasivu!J112,Päästökertoimet!$M$5:$O$29,2,FALSE)*K112*G112*VLOOKUP(F112,Päästökertoimet!$C$35:$I$59,4,FALSE)/1000,F112="Valitse neitseellinen materiaali","")} | T112: =F112 -> Valitse neitseellinen materiaali | U112: {=IF(V112<>"",_xlfn.XLOOKUP(T112,Kustannukset!$B$15:$B$70,_xlfn.XLOOKUP(Laskentasivu!V112,Kustannukset!$C$14:$E$14,Kustannukset!$C$15:$E$70)),"")} | V112: {=_xlfn.IFS(H112="kg",Aputaulukko!$F$11,H112="m3",Aputaulukko!$F$12,H112="Materiaalin yksikkö","")} | Y112: km | AA112: t/vuosi | AB112: =IF(Z112<>"",SUMIFS(Kustannukset!$C$78:$C$92,Kustannukset!$B$78:$B$92,Laskentasivu!J112,Kustannukset!$E$78:$E$92,Laskentasivu!X112,Kustannukset!$G$78:$G$92,Laskentasivu!Z112),"") | AC112: e/km | AE112: =AF112+AG112 -> 0 | AF112: {=_xlfn.IFS(V112="e/kg",IF(H112="kg",U112*G112),V112="e/m3",IF(H112="m3",U112*G112),V112="",0)} -> 0 | AG112: {=_xlfn.IFS(AND(AB112<>"",H112="kg"),K112*AB112*((G112/1000)/VLOOKUP(J112,Kustannukset!$B$79:$K$92,9,FALSE)),AND(AB112<>"",H112="m3"),K112*AB112*((G112*VLOOKUP(F112,Päästökertoimet!$C$5:$I$59,4,FALSE)/1000)/VLOOKUP(J112,Kustannukset!$B$79:$K$92,9,FALSE)),AB112="",0)} -> 0
F113: Valitse neitseellinen materiaali | H113: Materiaalin yksikkö | J113: Valitse kuljetustapa | L113: km | M113: {=_xlfn.IFS(F113<>"Valitse neitseellinen materiaali",N113+O113,F113="Valitse neitseellinen materiaali","")} | N113: {=_xlfn.IFS(H113="kg",VLOOKUP(F113,Päästökertoimet!$C$35:$I$59,2,FALSE)*G113,H113="m3",VLOOKUP(F113,Päästökertoimet!$C$35:$I$59,6,FALSE)*G113,F113="Valitse neitseellinen materiaali","")} | O113: {=_xlfn.IFS(H113="kg",VLOOKUP(Laskentasivu!J113,Päästökertoimet!$M$5:$O$29,2,FALSE)*K113*(G113/1000),H113="m3",VLOOKUP(Laskentasivu!J113,Päästökertoimet!$M$5:$O$29,2,FALSE)*K113*G113*VLOOKUP(F113,Päästökertoimet!$C$35:$I$59,4,FALSE)/1000,F113="Valitse neitseellinen materiaali","")} | T113: =F113 -> Valitse neitseellinen materiaali | U113: {=IF(V113<>"",_xlfn.XLOOKUP(T113,Kustannukset!$B$15:$B$70,_xlfn.XLOOKUP(Laskentasivu!V113,Kustannukset!$C$14:$E$14,Kustannukset!$C$15:$E$70)),"")} | V113: {=_xlfn.IFS(H113="kg",Aputaulukko!$F$11,H113="m3",Aputaulukko!$F$12,H113="Materiaalin yksikkö","")} | Y113: km | AA113: t/vuosi | AB113: =IF(Z113<>"",SUMIFS(Kustannukset!$C$78:$C$92,Kustannukset!$B$78:$B$92,Laskentasivu!J113,Kustannukset!$E$78:$E$92,Laskentasivu!X113,Kustannukset!$G$78:$G$92,Laskentasivu!Z113),"") | AC113: e/km | AE113: =AF113+AG113 -> 0 | AF113: {=_xlfn.IFS(V113="e/kg",IF(H113="kg",U113*G113),V113="e/m3",IF(H113="m3",U113*G113),V113="",0)} -> 0 | AG113: {=_xlfn.IFS(AND(AB113<>"",H113="kg"),K113*AB113*((G113/1000)/VLOOKUP(J113,Kustannukset!$B$79:$K$92,9,FALSE)),AND(AB113<>"",H113="m3"),K113*AB113*((G113*VLOOKUP(F113,Päästökertoimet!$C$5:$I$59,4,FALSE)/1000)/VLOOKUP(J113,Kustannukset!$B$79:$K$92,9,FALSE)),AB113="",0)} -> 0
... F117: Valitse neitseellinen materiaali | H117: Materiaalin yksikkö | J117: Valitse kuljetustapa | L117: km | M117: {=_xlfn.IFS(F117<>"Valitse neitseellinen materiaali",N117+O117,F117="Valitse neitseellinen materiaali","")} | N117: {=_xlfn.IFS(H117="kg",VLOOKUP(F117,Päästökertoimet!$C$35:$I$59,2,FALSE)*G117,H117="m3",VLOOKUP(F117,Päästökertoimet!$C$35:$I$59,6,FALSE)*G117,F117="Valitse neitseellinen materiaali","")} | O117: {=_xlfn.IFS(H117="kg",VLOOKUP(Laskentasivu!J117,Päästökertoimet!$M$5:$O$29,2,FALSE)*K117*(G117/1000),H117="m3",VLOOKUP(Laskentasivu!J117,Päästökertoimet!$M$5:$O$29,2,FALSE)*K117*G117*VLOOKUP(F117,Päästökertoimet!$C$35:$I$59,4,FALSE)/1000,F117="Valitse neitseellinen materiaali","")} | T117: =F117 -> Valitse neitseellinen materiaali | U117: {=IF(V117<>"",_xlfn.XLOOKUP(T117,Kustannukset!$B$15:$B$70,_xlfn.XLOOKUP(Laskentasivu!V117,Kustannukset!$C$14:$E$14,Kustannukset!$C$15:$E$70)),"")} | V117: {=_xlfn.IFS(H117="kg",Aputaulukko!$F$11,H117="m3",Aputaulukko!$F$12,H117="Materiaalin yksikkö","")} | Y117: km | AA117: t/vuosi | AB117: =IF(Z117<>"",SUMIFS(Kustannukset!$C$78:$C$92,Kustannukset!$B$78:$B$92,Laskentasivu!J117,Kustannukset!$E$78:$E$92,Laskentasivu!X117,Kustannukset!$G$78:$G$92,Laskentasivu!Z117),"") | AC117: e/km | AE117: =AF117+AG117 -> 0 | AF117: {=_xlfn.IFS(V117="e/kg",IF(H117="kg",U117*G117),V117="e/m3",IF(H117="m3",U117*G117),V117="",0)} -> 0 | AG117: {=_xlfn.IFS(AND(AB117<>"",H117="kg"),K117*AB117*((G117/1000)/VLOOKUP(J117,Kustannukset!$B$79:$K$92,9,FALSE)),AND(AB117<>"",H117="m3"),K117*AB117*((G117*VLOOKUP(F117,Päästökertoimet!$C$5:$I$59,4,FALSE)/1000)/VLOOKUP(J117,Kustannukset!$B$79:$K$92,9,FALSE)),AB117="",0)} -> 0
F118: Uusiomateriaalit
F119: Valitse uusiomateriaali | H119: Materiaalin yksikkö | J119: Valitse kuljetustapa | L119: km | M119: {=_xlfn.IFS(F119<>"Valitse uusiomateriaali",N119+O119,F119="Valitse uusiomateriaali","")} | N119: {=_xlfn.IFS(H119="kg",VLOOKUP(F119,Päästökertoimet!$C$5:$I$34,2,FALSE)*G119,H119="m3",VLOOKUP(F119,Päästökertoimet!$C$5:$I$34,6,FALSE)*G119,F119="Valitse uusiomateriaali","")} | O119: {=_xlfn.IFS(H119="kg",VLOOKUP(Laskentasivu!J119,Päästökertoimet!$M$5:$O$29,2,FALSE)*K119*(G119/1000),H119="m3",VLOOKUP(Laskentasivu!J119,Päästökertoimet!$M$5:$O$29,2,FALSE)*K119*G119*VLOOKUP(F119,Päästökertoimet!$C$5:$I$34,4,FALSE)/1000,F119="Valitse uusiomateriaali","")} | T119: =F119 -> Valitse uusiomateriaali | U119: {=IF(V119<>"",_xlfn.XLOOKUP(T119,Kustannukset!$B$15:$B$70,_xlfn.XLOOKUP(Laskentasivu!V119,Kustannukset!$C$14:$E$14,Kustannukset!$C$15:$E$70)),"")} | V119: {=_xlfn.IFS(H119="kg",Aputaulukko!$F$11,H119="m3",Aputaulukko!$F$12,H119="Materiaalin yksikkö","")} | Y119: km | AA119: t/vuosi | AB119: =IF(Z119<>"",SUMIFS(Kustannukset!$C$78:$C$92,Kustannukset!$B$78:$B$92,Laskentasivu!J119,Kustannukset!$E$78:$E$92,Laskentasivu!X119,Kustannukset!$G$78:$G$92,Laskentasivu!Z119),"") | AC119: e/km | AE119: =AF119+AG119 -> 0 | AF119: {=_xlfn.IFS(V119="e/kg",IF(H119="kg",U119*G119),V119="e/m3",IF(H119="m3",U119*G119),V119="",0)} -> 0 | AG119: {=_xlfn.IFS(AND(AB119<>"",H119="kg"),K119*AB119*((G119/1000)/VLOOKUP(J119,Kustannukset!$B$79:$K$92,9,FALSE)),AND(AB119<>"",H119="m3"),K119*AB119*((G119*VLOOKUP(F119,Päästökertoimet!$C$5:$I$59,4,FALSE)/1000)/VLOOKUP(J119,Kustannukset!$B$79:$K$92,9,FALSE)),AB119="",0)} -> 0
F120: Valitse uusiomateriaali | H120: Materiaalin yksikkö | J120: Valitse kuljetustapa | L120: km | M120: {=_xlfn.IFS(F120<>"Valitse uusiomateriaali",N120+O120,F120="Valitse uusiomateriaali","")} | N120: {=_xlfn.IFS(H120="kg",VLOOKUP(F120,Päästökertoimet!$C$5:$I$34,2,FALSE)*G120,H120="m3",VLOOKUP(F120,Päästökertoimet!$C$5:$I$34,6,FALSE)*G120,F120="Valitse uusiomateriaali","")} | O120: {=_xlfn.IFS(H120="kg",VLOOKUP(Laskentasivu!J120,Päästökertoimet!$M$5:$O$29,2,FALSE)*K120*(G120/1000),H120="m3",VLOOKUP(Laskentasivu!J120,Päästökertoimet!$M$5:$O$29,2,FALSE)*K120*G120*VLOOKUP(F120,Päästökertoimet!$C$5:$I$34,4,FALSE)/1000,F120="Valitse uusiomateriaali","")} | T120: =F120 -> Valitse uusiomateriaali | U120: {=IF(V120<>"",_xlfn.XLOOKUP(T120,Kustannukset!$B$15:$B$70,_xlfn.XLOOKUP(Laskentasivu!V120,Kustannukset!$C$14:$E$14,Kustannukset!$C$15:$E$70)),"")} | V120: {=_xlfn.IFS(H120="kg",Aputaulukko!$F$11,H120="m3",Aputaulukko!$F$12,H120="Materiaalin yksikkö","")} | Y120: km | AA120: t/vuosi | AB120: =IF(Z120<>"",SUMIFS(Kustannukset!$C$78:$C$92,Kustannukset!$B$78:$B$92,Laskentasivu!J120,Kustannukset!$E$78:$E$92,Laskentasivu!X120,Kustannukset!$G$78:$G$92,Laskentasivu!Z120),"") | AC120: e/km | AE120: =AF120+AG120 -> 0 | AF120: {=_xlfn.IFS(V120="e/kg",IF(H120="kg",U120*G120),V120="e/m3",IF(H120="m3",U120*G120),V120="",0)} -> 0 | AG120: {=_xlfn.IFS(AND(AB120<>"",H120="kg"),K120*AB120*((G120/1000)/VLOOKUP(J120,Kustannukset!$B$79:$K$92,9,FALSE)),AND(AB120<>"",H120="m3"),K120*AB120*((G120*VLOOKUP(F120,Päästökertoimet!$C$5:$I$59,4,FALSE)/1000)/VLOOKUP(J120,Kustannukset!$B$79:$K$92,9,FALSE)),AB120="",0)} -> 0
...

Sheet Tulokset
B2: Kokonaistulokset
D4: Tulokset | J4: Vertailu
C6: Skenaario 1 | D6: tCO2e | E6: € | I6: tCO2e | J6: Skenaario 1 | K6: Skenaario 2
C7: Yhteistulos | D7: =SUM(D8:D11) -> 0 | E7: =SUM(E8:E10) -> 0 | I7: Yhteistulos | J7: =D7 -> 0 | K7: =D14 -> 0
C8: Materiaalit | D8: =Laskentasivu!K89/1000 -> 0 | E8: =Laskentasivu!AF41 -> 0 | I8: Materiaalit | J8: =D8 -> 0 | K8: =D15 -> 0
C9: Kuljetukset | D9: =Laskentasivu!K90/1000 -> 0 | E9: =Laskentasivu!AF42 -> 0 | I9: Kuljetukset | J9: =D9 -> 0 | K9: =D16 -> 0
C10: Rakentaminen | D10: =Laskentasivu!K91/1000 -> 0 | I10: Rakentaminen | J10: =D10 -> 0 | K10: =D17 -> 0
C11: Jätteet | D11: =Laskentasivu!K92/1000 -> 0 | I11: Jätteet | J11: =D11 -> 0 | K11: =D18 -> 0
C13: Skenaario 2 | D13: tCO2e | E13: € | I13: € | J13: Skenaario 1 | K13: Skenaario 2
C14: Yhteistulos | D14: =SUM(D15:D18) -> 0 | E14: =SUM(E15:E16) -> 0 | I14: Yhteistulos | J14: =E7 -> 0 | K14: =E14 -> 0
C15: Materiaalit | D15: =Laskentasivu!K185/1000 -> 0 | E15: =Laskentasivu!AF137 -> 0 | I15: Materiaalit | J15: =E8 -> 0 | K15: =E15 -> 0
C16: Kuljetukset | D16: =Laskentasivu!K186/1000 -> 0 | E16: =Laskentasivu!AF138 -> 0 | I16: Kuljetukset | J16: =E9 -> 0 | K16: =E16 -> 0
C17: Rakentaminen | D17: =Laskentasivu!K187/1000 -> 0 | I17: Rakentaminen
C18: Jätteet | D18: =Laskentasivu!K188/1000 -> 0 | I18: Jätteet
B56: Päästöjen tarkastelu käytetyn laskentaohjeistuksen mukaisesti
D59: Skenaario 1 | H59: Skenaario 2
D60: Päästölähde | E60: Osio | F60: tCO2e | H60: Päästölähde | I60: Osio | J60: tCO2e
D61: Materiaalien päästöt | E61: A1 ja A3 | F61: =SUM(Laskentasivu!N6:N39)/1000 -> 0 | H61: Materiaalien päästöt | I61: A1 ja A3 | J61: =SUM(Laskentasivu!N101:N135)/1000 -> 0
D62: Materiaalien kuljetus | E62: A2 ja A4 | F62: =SUM(Laskentasivu!O6:O39)/1000 -> 0 | H62: Materiaalien kuljetus | I62: A2 ja A4 | J62: =SUM(Laskentasivu!O102:O134)/1000 -> 0
D63: Rakentamisen päästöt | E63: A5 | F63: =SUM(Laskentasivu!M51:O71)/1000 -> 0 | H63: Rakentamisen päästöt | I63: A5 | J63: =SUM(Laskentasivu!M147:O166)/1000 -> 0
D64: Jätteiden käsittely | E64: A5 | F64: =SUM(Laskentasivu!M74:N86)/1000 -> 0 | H64: Jätteiden käsittely | I64: A5 | J64: =SUM(Laskentasivu!M170:N182)/1000 -> 0

Sheet Päästökertoimet
B1: Päästökertoimet
C3: Materiaalit | D3: Päästökerroin/kg | E3: Yksikkö | F3: Tiheys | H3: Päästökerroin/m3 | J3: Lähde | K3: Muuta | M3: Kuljetukset | N3: Päästökerroin | O3: Yksikkö | P3: Lähde | Q3: Muuta | S3: Työkoneet | AA3: Jätteet | AB3: Päästökerroin | AC3: Yksikkö | AD3: Lähde | AF3: Energia | AG3: Päästökerroin (käytön päästöt) | AH3: Yksikkö | AI3: Lähde
B5: Uusiomateriaalit | C5: Valitse uusiomateriaali | M5: Valitse kuljetustapa | O5: - | S5: Valitse työkone | T5: Päästökerroin /h | V5: Päästökerroin/l | X5: Kulutus | AA5: Energiajäte | AB5: 0.012 | AC5: kgCO2e/kg | AD5: Julia 2030- hanke (sis. Jätteen esikäsittelyn - ei kierrätystä tai energiakäyttöä). Kuljetus lasketaan erikseen. | AF5: Polttoöljy | AG5: 2.75857 | AH5: kgCO2e/l | AI5: DEFRA, 2022. Conversion factors 2022. Gas oil.
C6: Asfalttibetoni (50 % uusio/neitseellinen) | D6: 0.05 | E6: kgCO2e/kg | F6: 2500 | G6: kg/m3 | H6: =D6*F6 -> 125 | I6: kgCO2e/m3 | J6: Rakentamisen päästötietokanta, 2021. Asphalt Concrete, & Bizarro et al. 2021. Potential Carbon Footprint Reduction for Reclaimed Asphalt Pavement Innovations: LCA Methodology, Best Available Technology, and Near-Future Reduction Potential | K6: Päästökertoin asfalttibetonille, jossa 50 % neitseellistä raaka-ainetta. Keskimääräinen arvo kahdesta lähteestä. | M6: Maansiirtoauto ilman perävaunua (19 t), diesel | N6: =AVERAGE(40/1000,69/1000) -> 0.0545 | O6: kgCO2e/tkm | P6: VTT Lipasto, 2016. Maansiirtoauto ilman perävaunua. Ka v. 2016. http://lipasto.vtt.fi/yksikkopaastot/tavaraliikenne/tieliikenne/kamaanstie.htm | Q6: Täyden kuorman ja osakuorman keskiarvo | S6: Trukki, diesel | T6: =AVERAGE(866,830)/1000*AVERAGE(33,88) -> 51.304 | U6: kgCO2e/h | V6: =AG$6 -> 2.55784 | W6: kgCO2e/l | X6: =T6/V6 -> 20.057549 | Y6: l/h | AA6: Rakennusjäte | AB6: 0.067 | AC6: kgCO2e/kg | AD6: Julia 2030- hanke (sis. Jätteen esikäsittelyn - ei kierrätystä tai energiakäyttöä). Kuljetus lasketaan erikseen. | AF6: Diesel | AG6: 2.55784 | AH6: kgCO2e/l | AI6: DEFRA, 2022. Conversion factors 2022. Diesel (average biofuel blend)
C7: Asfalttibetoni (30 % uusio) | D7: =60/1000 -> 0.06 | E7: kgCO2e/kg | F7: 2500 | G7: kg/m3 | H7: =D7*F7 -> 150 | I7: kgCO2e/m3 | J7: Bizarro et al. 2021. Potential Carbon Footprint Reduction for Reclaimed Asphalt Pavement Innovations: LCA Methodology, Best Available Technology, and Near-Future Reduction Potential | K7: Keskiarvoisesti Suomessa käytetään asfalttia, joka on 30 % kierrätysasfalttia | M7: Kasettiautoyhdistelmä (45-50 t), diesel | N7: =((558+((761-558)/19*47.5))/AVERAGE(47.5,(47.5/2)))/1000 -> 0.029908772 | O7: kgCO2e/tkm | P7: Laskettu VTT:n Lipaston tietojen mukaan. | Q7: Laskettu Lipaston ohjeiden mukaisesti (Yksikköpäästökertoimet eri osakuormille: http://lipasto.vtt.fi/yksikkopaastot/guide_tie.htm). Laskennan pohja-arvoina käytetty maansiirtoautoa ilman perävaunua. | S7: Puskutraktori, diesel | T7: =821/1000*112 -> 91.952 | U7: kgCO2e/h | V7: =AG$6 -> 2.55784 | W7: kgCO2e/l | X7: =T7/V7 -> 35.949082 | Y7: l/h | AA7: Metalli | AB7: 0 | AC7: kgCO2e/kg | AD7: Julia 2030- hanke (sis. Jätteen esikäsittelyn - ei kierrätystä tai energiakäyttöä). Kuljetus lasketaan erikseen. | AF7: Uusiutuva diesel | AG7: 0.03558 | AH7: kgCO2e/l | AI7: DEFRA, 2022. Conversion factors 2022. Biodiesel HVO
C8: Asfalttijätemurske (uusio) | D8: 0.006 | E8: kgCO2e/kg | F8: 2500 | G8: kg/m3 | H8: =D8*F8 -> 15 | I8: kgCO2e/m3 | J8: Rakentamisen päästötietokanta, 2021. Waste processing, mineral materials | K8: Sis. murskaus | M8: Maansiirtoauto ilman perävaunua (19 t), uusiutuva diesel | N8: =AVERAGE(0.029,0.017)*0 -> 0 | O8: kgCO2e/tkm | P8: VTT Lipasto, 2016. Maansiirtoauto ilman perävaunua. Kulutus [l/tkm]. Ka v. 2016. http://lipasto.vtt.fi/yksikkopaastot/tavaraliikenne/tieliikenne/kamaanstie.htm & Uusiutuvan dieselin päästökerroin polton ajalta = 0 kgCO2e/l | Q8: Täyden kuorman ja osakuorman kulutuksen keskiarvo | S8: Tiehöylä, diesel | T8: =810/1000*149 -> 120.69 | U8: kgCO2e/h | V8: =AG$6 -> 2.55784 | W8: kgCO2e/l | X8: =T8/V8 -> 47.184343 | Y8: l/h | AA8: Kartonki/pahvi | AB8: 0.002 | AC8: kgCO2e/kg | AD8: Julia 2030- hanke (sis. Jätteen esikäsittelyn - ei kierrätystä tai energiakäyttöä). Kuljetus lasketaan erikseen. | AF8: Bensiini | AG8: 2.16185 | AH8: kgCO2e/l | AI8: DEFRA, 2022. Conversion factors 2022. Petrol (average biofuel blend)
C9: Betonijätemurske (uusio) | D9: =0.006 -> 0.006 | E9: kgCO2e/kg | F9: 2400 | G9: kg/m3 | H9: =D9*F9 -> 14.4 | I9: kgCO2e/m3 | J9: Rakentamisen päästötietokanta, 2021. Waste processing, mineral materials | K9: Sis. murskaus | M9: Kasettiautoyhdistelmä (45-50 t), uusiutuva diesel | N9: =(((23.5+((32.1-23.5)/19*47.5))/AVERAGE(47.5,(47.5/2)))/100)*0 -> 0 | O9: kgCO2e/tkm | P9: VTT Lipasto, 2016. Maansiirtoauto ilman perävaunua. Kulutus [l/tkm]. Ka v. 2016. http://lipasto.vtt.fi/yksikkopaastot/tavaraliikenne/tieliikenne/kamaanstie.htm & Uusiutuvan dieselin päästökerroin polton ajalta = 0 kgCO2e/l | Q9: Kasettiauton kulutus laskettu maansiirtoauton kulutuksen kautta suhteutettuna painoon. | S9: Jyrä, diesel | T9: =852/1000*45 -> 38.34 | U9: kgCO2e/h | V9: =AG$6 -> 2.55784 | W9: kgCO2e/l | X9: =T9/V9 -> 14.98921 | Y9: l/h | AA9: Lasi | AB9: 0 | AC9: kgCO2e/kg | AD9: Julia 2030- hanke (sis. Jätteen esikäsittelyn - ei kierrätystä tai energiakäyttöä). Kuljetus lasketaan erikseen. | AF9: LNG | AG9: 2.55917 | AH9: kgCO2e/kg | AI9: DEFRA, 2022. Conversion factors 2022. LNG
C10: Geopolymeeri (uusio) | D10: =AVERAGE(D37,D38,D39)*(1-0.6) -> 0.073333333 | E10: kgCO2e/kg | F10: =F37 -> 2400 | G10: kg/m3 | H10: =D10*F10 -> 176 | I10: kgCO2e/m3 | J10: https://www.ril.fi/fi/rakennustekniikka/betonia-teollisuuden-sivuvirroista.html | K10: 60 % pienempi kuin tavallisen betonin hiilijalanjälki | M10: Vety-maansiirtoauto ilman perävaunua (19 t) | N10: =AVERAGE(0.029,0.017)*0 -> 0 | O10: kgCO2e/tkm | P10: VTT Lipasto, 2016. Maansiirtoauto ilman perävaunua. Kulutus [l/tkm]. Ka v. 2016. http://lipasto.vtt.fi/yksikkopaastot/tavaraliikenne/tieliikenne/kamaanstie.htm & Vedyn päästökerroin arvioitu nollaksi. | Q10: Päästökerroin riippuu vedyn tuotantotavasta. Mikäli vety tuotetaan muuten kuin päästöttömästi, lisää o-sarakkeen kaavaan nollan tilalle päästökertoimeksi arvo yksikössä kgCO2e/l. | S10: Pyöräkuormaaja, diesel | T10: =828/1000*94 -> 77.832 | U10: kgCO2e/h | V10: =AG$6 -> 2.55784 | W10: kgCO2e/l | X10: =T10/V10 -> 30.428799 | Y10: l/h | AA10: Muovi | AB10: 0 | AC10: kgCO2e/kg | AD10: Julia 2030- hanke (sis. Jätteen esikäsittelyn - ei kierrätystä tai energiakäyttöä). Kuljetus lasketaan erikseen. | AF10: Biokaasu | AG10: =1.21919/1000 -> 0.00121919 | AH10: kgCO2e/kg | AI10: DEFRA, 2022. Conversion factors 2022. Biogas
C11: Jätekalkki | D11: 0 | E11: kgCO2e/kg | F11: =AVERAGE(3310,750,1300) -> 1786.6667 | G11: kg/m3 | H11: =D11*F11 -> 0 | I11: kgCO2e/m3 | J11: AFRYn arvio | K11: Käytetään sellaisenaan | M11: Vety-kasettiautoyhdistelmä (45-50 t) | N11: =(((23.5+((32.1-23.5)/19*47.5))/AVERAGE(47.5,(47.5/2)))/100)*0 -> 0 | O11: kgCO2e/tkm | P11: VTT Lipasto, 2016. Maansiirtoauto ilman perävaunua. Kulutus [l/tkm]. Ka v. 2016. http://lipasto.vtt.fi/yksikkopaastot/tavaraliikenne/tieliikenne/kamaanstie.htm & Vedyn päästökerroin arvioitu nollaksi. | Q11: Päästökerroin riippuu vedyn tuotantotavasta. Mikäli vety tuotetaan muuten kuin päästöttömästi, lisää o-sarakkeen kaavaan nollan tilalle päästökertoimeksi arvo yksikössä kgCO2e/l. Kasettiauton kulutus laskettu maansiirtoauton kulutuksen kautta suhteutettuna painoon. | S11: Traktorikaivuri, diesel | T11: =842/1000*74 -> 62.308 | U11: kgCO2e/h | V11: =AG$6 -> 2.55784 | W11: kgCO2e/l | X11: =T11/V11 -> 24.359616 | Y11: l/h | AA11: Puu | AB11: 0.005 | AC11: kgCO2e/kg | AD11: Julia 2030- hanke (sis. Jätteen esikäsittelyn - ei kierrätystä tai energiakäyttöä). Kuljetus lasketaan erikseen. | AF11: Vety | AG11: 0 | AH11: kgCO2/kg | AI11: Vedyn polttaminen itsessään on päästötöntä, mutta päästöjä voi tulla vedyn tuotannossa riippuen tarvittavan sähkön tuotantotavasta.
C12: Jätteenpolton pohjakuona (uusio) | D12: 0 | E12: kgCO2e/kg | F12: =AVERAGE(2000,2650) -> 2325 | G12: kg/m3 | H12: =D12*F12 -> 0 | I12: kgCO2e/m3 | J12: AFRYn arvio | K12: Käytetään sellaisenaan (metallit seulotaan joka tapauksessa) | M12: LBG-maansiirtoauto ilman perävaunua (19 t) | N12: =27.2/100*0/19 -> 0 | O12: kgCO2e/tkm | P12: Kaasun kulutus autossa (27,2 kg/100km): https://www.volvotrucks.fi/fi-fi/news/magazine-online/2020/dec/volvo-fh-lng--taloudellisesti-pienillae-paeaestoeillae.html. Biokaasun päästöt polton aikana nolla (biogeeninen polttoaine). | S12: Minikaivuri, diesel | T12: =857/1000*22 -> 18.854 | U12: kgCO2e/h | V12: =AG$6 -> 2.55784 | W12: kgCO2e/l | X12: =T12/V12 -> 7.3710631 | Y12: l/h | AA12: Vaarallinen jäte | AB12: 0 | AC12: kgCO2e/kg | AD12: Julia 2030- hanke (sis. Jätteen esikäsittelyn - ei kierrätystä tai energiakäyttöä). Kuljetus lasketaan erikseen.
C13: Kierrätyskasvualustat (uusio) | D13: =95/1000 -> 0.095 | E13: kgCO2e/kg | F13: 399 | G13: kg/m3 | H13: =D13*F13 -> 37.905 | I13: kgCO2e/m3 | J13: Ruuskanen T, 2014. Kierrätysmateriaaleja hyödyntävien kasvualustojen tuotantoprosessin ympäristö- ja yhteiskunnallinen kustannus-hyötyanalyysi | K13: Sis. kompostoinnin | M13: LBG-kasettiautoyhdistelmä (45-50 t) | N13: =27.2/100*0/47.5 -> 0 | O13: kgCO2e/tkm | P13: Kaasun kulutus autossa (27,2 kg/100km): https://www.volvotrucks.fi/fi-fi/news/magazine-online/2020/dec/volvo-fh-lng--taloudellisesti-pienillae-paeaestoeillae.html. Biokaasun päästöt polton aikana nolla (biogeeninen polttoaine). | S13: Tela-alusteinen kaivinkone, diesel | T13: =829/1000*104 -> 86.216 | U13: kgCO2e/h | V13: =AG$6 -> 2.55784 | W13: kgCO2e/l | X13: =T13/V13 -> 33.706565 | Y13: l/h | AA13: Sekajäte (poltto) | AB13: 0 | AC13: kgCO2e/kg | AD13: Julia 2030- hanke (sis. Jätteen esikäsittelyn - ei kierrätystä tai energiakäyttöä). Kuljetus lasketaan erikseen.
C14: Lasimurske (uusio) | D14: 0.006 | E14: kgCO2e/kg | F14: =AVERAGE(1120,1850) -> 1485 | G14: kg/m3 | H14: =D14*F14 -> 8.91 | I14: kgCO2e/m3 | J14: Rakentamisen päästötietokanta, 2021. Waste processing, mineral materials | K14: Sis. murskaus | M14: LNG-maansiirtoauto ilman perävaunua (19 t) | N14: =27.2/100*AG9/19 -> 0.036636539 | O14: kgCO2e/tkm | P14: Kaasun kulutus autossa (27,2 kg/100km): https://www.volvotrucks.fi/fi-fi/news/magazine-online/2020/dec/volvo-fh-lng--taloudellisesti-pienillae-paeaestoeillae.html. LNG:n päästöt: Tilastokeskus, Polttoaineluokitus 2022. | Q14: Fossiilista LNG:tä käyttävän kuorma-auton päästökerroin | S14: Pyöräalusteinen kaivinkone, diesel | T14: =834/1000*88 -> 73.392 | U14: kgCO2e/h | V14: =AG$6 -> 2.55784 | W14: kgCO2e/l | X14: =T14/V14 -> 28.69296 | Y14: l/h | AA14: Biojäte | AB14: 0.047 | AC14: kgCO2e/kg | AD14: Julia 2030- hanke (sis. Jätteen esikäsittelyn - ei kierrätystä tai energiakäyttöä). Kuljetus lasketaan erikseen.
C15: Lentotuhka, kattilatuhka (uusio) | D15: 0 | E15: kgCO2e/kg | F15: =AVERAGE(1100,1400) -> 1250 | G15: kg/m3 | H15: =D15*F15 -> 0 | I15: kgCO2e/m3 | J15: AFRYn arvio | K15: Käytetään sellaisenaan. Jos lentotuhka tiivistetään, pitää se ottaa huomioon rakentamisen aikaisissa päästöissä. | M15: LNG-kasettiautoyhdistelmä (45-50 t) | N15: =27.2/100*AG9/47.5 -> 0.014654616 | O15: kgCO2e/tkm | P15: Kaasun kulutus autossa (27,2 kg/100km): https://www.volvotrucks.fi/fi-fi/news/magazine-online/2020/dec/volvo-fh-lng--taloudellisesti-pienillae-paeaestoeillae.html. LNG:n päästöt: Tilastokeskus, Polttoaineluokitus 2021. | Q15: Fossiilista LNG:tä käyttävän kuorma-auton päästökerroin | S15: Kunnossapitotraktori, diesel | T15: =863/1000*62 -> 53.506 | U15: kgCO2e/h | V15: =AG$6 -> 2.55784 | W15: kgCO2e/l | X15: =T15/V15 -> 20.918431 | Y15: l/h | AA15: Paperi | AB15: 0.002 | AC15: kgCO2e/kg | AD15: Julia 2030- hanke (sis. Jätteen esikäsittelyn - ei kierrätystä tai energiakäyttöä). Kuljetus lasketaan erikseen.
C16: Meesa (uusio) | D16: 0 | E16: kgCO2e/kg | F16: =AVERAGE(2.7,2.95)*1000 -> 2825 | G16: kg/m3 | H16: =D16*F16 -> 0 | I16: kgCO2e/m3 | J16: AFRYn arvio | K16: Käytetään sellaisenaan | M16: Sähkö-maansiirtoauto ilman perävaunua (19 t) | N16: =AVERAGE(0.029,0.017)*0 -> 0 | O16: kgCO2e/tkm | P16: VTT Lipasto, 2016. Maansiirtoauto ilman perävaunua. Kulutus [l/tkm]. Ka v. 2016. http://lipasto.vtt.fi/yksikkopaastot/tavaraliikenne/tieliikenne/kamaanstie.htm & Sähkön päästökerroin arvioitu nollaksi. | Q16: Päästökerroin riippuu sähkön tuotantotavasta. Mikäli sähkö tuotetaan muuten kuin päästöttömästi, lisää o-sarakkeen kaavaan nollan tilalle päästökertoimeksi arvo yksikössä kgCO2e/l. | S16: Dumpperi, diesel | T16: =818/1000*153 -> 125.154 | U16: kgCO2e/h | V16: =AG$6 -> 2.55784 | W16: kgCO2e/l | X16: =T16/V16 -> 48.929566 | Y16: l/h
C17: Okto-eriste (uusio) | D17: =284340/130000000 -> 0.0021872308 | E17: kgCO2e/kg | F17: =AVERAGE(1100,1350) -> 1225 | G17: kg/m3 | H17: =D17*F17 -> 2.6793577 | I17: kgCO2e/m3 | J17: Destia, 2020. Perinteisen tierakenteen ja OKTO-tuoterakenteen hiilijalanjälkivertailu | K17: - | M17: Sähkö-kasettiautoyhdistelmä (45-50 t) | N17: =(((23.5+((32.1-23.5)/19*47.5))/AVERAGE(47.5,(47.5/2)))/100)*0 -> 0 | O17: kgCO2e/tkm | P17: VTT Lipasto, 2016. Maansiirtoauto ilman perävaunua. Kulutus [l/tkm]. Ka v. 2016. http://lipasto.vtt.fi/yksikkopaastot/tavaraliikenne/tieliikenne/kamaanstie.htm & Sähkön päästökerroin arvioitu nollaksi. | Q17: Päästökerroin riippuu sähkön tuotantotavasta. Mikäli sähkö tuotetaan muuten kuin päästöttömästi, lisää o-sarakkeen kaavaan nollan tilalle päästökertoimeksi arvo yksikössä kgCO2e/l. | S17: Monitoimikone, diesel | T17: =843/1000*50 -> 42.15 | U17: kgCO2e/h | V17: =AG$6 -> 2.55784 | W17: kgCO2e/l | X17: =T17/V17 -> 16.478748 | Y17: l/h
C18: Okto-murske (uusio) | D18: =284340/130000000 -> 0.0021872308 | E18: kgCO2e/kg | F18: =AVERAGE(1400,1680) -> 1540 | G18: kg/m3 | H18: =D18*F18 -> 3.3683354 | I18: kgCO2e/m3 | J18: Destia, 2020. Perinteisen tierakenteen ja OKTO-tuoterakenteen hiilijalanjälkivertailu | K18: Sis. Rakeistus ja lajittelu | M18: Sekatavarajuna, diesel | N18: =25.5/1000 -> 0.0255 | O18: kgCO2e/tkm | P18: VTT Lipasto, 2016. Dieselkäyttöisen sekatavarajunan päästöt ja energiankäyttö Suomessa vuonna 2016. http://lipasto.vtt.fi/yksikkopaastot/tavaraliikenne/raideliikenne/sekatavaradiesel.htm | Q18: - | S18: Muut ajettavat työkoneet, diesel | T18: =830/1000*89 -> 73.87 | U18: kgCO2e/h | V18: =AG$6 -> 2.55784 | W18: kgCO2e/l | X18: =T18/V18 -> 28.879836 | Y18: l/h
C19: Pohjatuhka, pohjahiekka (uusio) | D19: 0 | E19: kgCO2e/kg | F19: =AVERAGE(1000,1500) -> 1250 | G19: kg/m3 | H19: =D19*F19 -> 0 | I19: kgCO2e/m3 | J19: AFRYn arvio | K19: Käytetään sellaisenaan | M19: Konttijuna, diesel | N19: =18/1000 -> 0.018 | O19: kgCO2e/tkm | P19: VTT Lipasto, 2016. Dieselkäyttöisen konttijunan päästöt ja energiankäyttö Suomessa vuonna 2016. http://lipasto.vtt.fi/yksikkopaastot/tavaraliikenne/raideliikenne/konttidiesel.htm | Q19: - | S19: Muut siirrettävät työkoneet, diesel (esim. generaattorit, täryttimet, kompressorit) | T19: =863/1000*37 -> 31.931 | U19: kgCO2e/h | V19: =AG$6 -> 2.55784 | W19: kgCO2e/l | X19: =T19/V19 -> 12.48358 | Y19: l/h
C20: Rengasleike, kokonaiset renkaat (uusio) | D20: =1.2*0.23241 -> 0.278892 | E20: kgCO2/kg | F20: =AVERAGE(1020,1270) -> 1145 | G20: kg/m3 | H20: =D20*F20 -> 319.33134 | I20: kgCO2e/m3 | J20: Pehlken A. & Roy G., 2006. Identifying LCA-elements in scrap tire recycling. | K20: Renkaiden leikkaus/rouhinta | M20: Sekatavarajuna, sähkö | N20: =0.027*T38 -> 0.0063423 | O20: kgCO2e/tkm | P20: VTT Lipasto, 2016. Sähkökäyttöisen sekatavarajunan energiankäyttö Suomessa vuonna 2016. http://lipasto.vtt.fi/yksikkopaastot/tavaraliikenne/raideliikenne/sekatavarasahko.htm & Energiavirasto, 2022. Jäännösjakauma 2021. https://energiavirasto.fi/documents/11120570/12762067/J%C3%A4%C3%A4nn%C3%B6sjakauma+2020+julkaisu+FI_allekirjoitettu.pdf/8d3b7967-070b-c4e4-66ca-1f842e363efc/J%C3%A4%C3%A4nn%C3%B6sjakauma+2020+julkaisu+FI_allekirjoitettu.pdf?t=1624347965619 | Q20: - | S20: Trukki, bensiini | T20: =1122/1000*30 -> 33.66 | U20: kgCO2e/h | V20: =AG$8 -> 2.16185 | W20: kgCO2e/l | X20: =T20/V20 -> 15.569998 | Y20: l/h
C21: Ruoppausmassa (uusio) | D21: 0 | E21: kgCO2e/kg | F21: =AVERAGE(0.3,0.6,0.5,1.1,1.5,1.8,2,0.75)*1000 -> 1068.75 | G21: kg/m3 | H21: =D21*F21 -> 0 | I21: kgCO2e/m3 | J21: AFRYn arvio | K21: Käytetään sellaisenaan/ei ylimääräistä käsittelyä uusiokäyttöä varten | M21: Konttijuna, sähkö | N21: =0.027*T38 -> 0.0063423 | O21: kgCO2e/tkm | P21: VTT Lipasto, 2016. Sähkökäyttöisen konttijunan energiankäyttö Suomessa vuonna 2016. & Energiavirasto, 2021. Jäännösjakauma 2020. https://energiavirasto.fi/documents/11120570/12762067/J%C3%A4%C3%A4nn%C3%B6sjakauma+2020+julkaisu+FI_allekirjoitettu.pdf/8d3b7967-070b-c4e4-66ca-1f842e363efc/J%C3%A4%C3%A4nn%C3%B6sjakauma+2020+julkaisu+FI_allekirjoitettu.pdf?t=1624347965619 | Q21: - | S21: Muut ajettavat työkoneet, bensiini | T21: =1094/1000*10 -> 10.94 | U21: kgCO2e/h | V21: =AG$8 -> 2.16185 | W21: kgCO2e/l | X21: =T21/V21 -> 5.0604806 | Y21: l/h
C22: Soodasakka (uusio) | D22: 0 | E22: kgCO2e/kg | F22: =2.54*1000 -> 2540 | G22: kg/m3 | H22: =D22*F22 -> 0 | I22: kgCO2e/m3 | J22: AFRYn arvio | K22: Käytetään sellaisenaan | M22: Jäteauto (9 t) | N22: =49/1000 -> 0.049 | O22: kgCO2e/tkm | P22: VTT Lipasto, 2016. Suuri jakelukuorma-auto. Maantieajo. Ka v. 2016. | S22: Muut siirrettävät työkoneet, bensiini (esim. generaattorit, täryttimet) | T22: =1183/1000*3 -> 3.549 | U22: kgCO2e/h | V22: =AG$8 -> 2.16185 | W22: kgCO2e/l | X22: =T22/V22 -> 1.6416495 | Y22: l/h
C23: Tiilijätemurske (uusio) | D23: 0.006 | E23: kgCO2e/kg | F23: =F9 -> 2400 | G23: kg/m3 | H23: =D23*F23 -> 14.4 | I23: kgCO2e/m3 | J23: Rakentamisen päästötietokanta, 2021. Waste processing, mineral materials | K23: Sis. murskaus | M23: Traktori | N23: =5/50*2.746/10 -> 0.02746 | O23: kgCO2e/tkm | P23: VTT Lipasto, 2016. (Työkoneiden keskimääräinen päästö ja energia Suomessa vuonna 2016. Kunnossapitotraktori.) Motiva & MMM, 2011. Traktorin taloudellinen ajotapa (Kuljetusten litrakulutus 5 l/h). | Q23: Arvioitu traktorin nopeudeksi 50 km/h ja kantavuudeksi 10 t. | S23: Muut käsikäyttöiset koneet, bensiini (esim. moottorisahat, trimmerit) | T23: =1732/1000*1 -> 1.732 | U23: kgCO2e/h | V23: =AG$8 -> 2.16185 | W23: kgCO2e/l | X23: =T23/V23 -> 0.80116567 | Y23: l/h
C24: Vaahtolasimurske (uusio) | D24: 0.36 | E24: kgCO2e/kg | F24: 190 | G24: kg/m3 | H24: =D24*F24 -> 68.4 | I24: kgCO2e/m3 | J24: Rakentamisen päästötietokanta, 2021. Foamed glass crushed aggregate | K24: - | S24: Trukki, kaasu | T24: =1106/1000*30 -> 33.18 | U24: kgCO2e/h | V24: 1.55709 | W24: kgCO2e/l | X24: =T24/V24 -> 21.30898 | Y24: l/h
C25: Ylijäämämaat (uusio) | D25: 0 | E25: kgCO2e/kg | F25: =2.65*1000 -> 2650 | G25: kg/m3 | H25: =D25*F25 -> 0 | I25: kgCO2e/m3 | J25: AFRYn arvio | K25: Käytetään sellaisenaan
S32: ^Lisää uusiin työkoneisiin päästökerroin molempiin vaihtoehtoihin, riippumatta siitä tuleeko sille arvoa vai ei.
S33: Lähteet työkoneisiin:
S34: VTT Lipasto, 2016. Työkoneiden keskimääräisen päästö ja energia polttoainelitraa kohden Suomessa vuonna 2016 (kgCO2e/h). DEFRA, 2022. Conversion factors 2022. Diesel, LPG (kgCO2e/l). Tilastokeskus 2022. Polttoaineluokitus 2022. Bensiini (kgCO2e/l)
B35: Neitseelliset materiaalit | C35: Valitse neitseellinen materiaali
C36: Asfalttibetoni (neitseellinen) | D36: =74/1000 -> 0.074 | E36: kgCO2e/kg | F36: 2500 | G36: kg/m3 | H36: =D36*F36 -> 185 | I36: kgCO2e/m3 | J36: Bizarro et al. 2021. Potential Carbon Footprint Reduction for Reclaimed Asphalt Pavement Innovations: LCA Methodology, Best Available Technology, and Near-Future Reduction Potential | K36: Keskiarvoisesti Suomessa käytetään asfalttia, joka on 30 % kierrätysasfalttia | S36: Sähkön käyttö työkoneissa | T36: Päästökerroin | U36: Yksikkö | V36: Lähde:
C37: Betonikaivo (neitseellinen) | D37: 0.18 | E37: kgCO2e/kg | F37: 2400 | G37: kg/m3 | H37: =D37*F37 -> 432 | I37: kgCO2e/m3 | J37: Rakentamisen päästötietokanta, 2021. Concrete well elements | K37: - | S37: Vihreä sähkö | T37: 0 | U37: kgCO2e/kWh | V37: (Vihreän sähkön tuotanto päästötöntä scope 1-2 tasolla)
C38: Betonipaalu (neitseellinen) | D38: 0.18 | E38: kgCO2e/kg | F38: 2400 | G38: kg/m3 | H38: =D38*F38 -> 432 | I38: kgCO2e/m3 | J38: Rakentamisen päästötietokanta, 2021. Concrete piles | K38: - | S38: Kotimaan käytetyn sähkön keskiarvo | T38: =234.9/1000 -> 0.2349 | U38: kgCO2e/kWh | V38: Energiavirasto, 2022. Jäännösjakauma v. 2021.
C39: Betoniputki (neitseellinen) | D39: 0.19 | E39: kgCO2e/kg | F39: 2400 | G39: kg/m3 | H39: =D39*F39 -> 456 | I39: kgCO2e/m3 | J39: Rakentamisen päästötietokanta, 2021. Concrete pipes | K39: - | S39: Oma energiayhtiö | U39: kgCO2e/kWh | V39: (Lisää oman energiayhtiön ilmoittamat ominaispäästöt)
C40: Geotekstiili, PP (neitseellinen) | D40: 1.9 | E40: kgCO2e/kg | F40: 0.2 | G40: kg/m3 | H40: =D40*F40 -> 0.38 | I40: kgCO2e/m3 | J40: Rakentamisen päästötietokanta, 2021. Geotextile, PP-based | K40: -
C41: Kalkki (neitseellinen) | D41: =750/1000 -> 0.75 | E41: kgCO2/kg | F41: =AVERAGE(3310,750,1300) -> 1786.6667 | G41: kg/m3 | H41: =D41*F41 -> 1340 | I41: kgCO2e/m3 | J41: Liikennevirasto, 2011. Tien- ja radanpidon hiilijalanjälki. | K41: -
C42: Kevytbetoni, höyrykarkaistu, raudoitettu (neitseellinen) | D42: 0.48 | E42: kgCO2e/kg | F42: 475 | G42: kg/m3 | H42: =D42*F42 -> 228 | I42: kgCO2e/m3 | J42: Rakentamisen päästötietokanta, 2021. Autoclaved aerated concrete, reinforced | K42: - | S42: Työvaiheisiin perustuvat päästökertoimet (huom. Näiden laskenta perustuu oletuksiin ja niiden kohdalla on jouduttu tekemään paljon arvioita. Näiden päästökertoimien todenmukaisuus on epävarmaa ja tuloksiin on suhtauduttava vain suuntaa-antavasti)
C43: Kevytbetoniharkko, höyrykarkaistu, raudoittamaton (neitseellinen) | D43: 0.41 | E43: kgCO2e/kg | F43: 425 | G43: kg/m3 | H43: =D43*F43 -> 174.25 | I43: kgCO2e/m3 | J43: Rakentamisen päästötietokanta, 2021. Autoclaved aerated concrete, masonry unit, not reinforced | K43: - | S43: Mahdollisia työvaiheita | T43: Sisällytettävä(t) työkone(et) | U43: Aika/t materiaalia * | V43: Osuus työstä | W43: Päästökerroin, kgCO2e/t
C44: Kevytsoramurske (neitseellinen) | D44: 0.4 | E44: kgCO2e/kg | F44: 304 | G44: kg/m3 | H44: =D44*F44 -> 121.6 | I44: kgCO2e/m3 | J44: Rakentamisen päästötietokanta, 2021. Expanded clay crushed aggregate | K44: - | S44: Pintamaan poisto | T44: Kaivinkone | U44: =T61/T62*0.5 -> 0.094339623 | V44: 0.9 | W44: =U44*T13*V44+U44*V45*T18*1 -> 8.0171132
C45: Kivimurske (neitseellinen) | D45: 0.007 | E45: kgCO2e/kg | F45: 1500 | G45: kg/m3 | H45: =D45*F45 -> 10.5 | I45: kgCO2e/m3 | J45: Rakentamisen päästötietokanta, 2021. Crushed rock | K45: - | T45: Maansiirtoauto/kuorma-auto | V45: 0.1
C46: Luonnonkivi, katukivi (neitseellinen) | D46: 0.06 | E46: kgCO2e/kg | F46: 2700 | G46: kg/m3 | H46: =D46*F46 -> 162 | I46: kgCO2e/m3 | J46: Rakentamisen päästötietokanta, 2021. Natural stone, rectangular paving stone | K46: - | S46: Päällysrakenteiden/rakennekerrosten levitys | T46: Kaivinkone | U46: =T64/T65*0.5 -> 0.047169811 | V46: 0.9 | W46: =T13*U46*V46+U46*V47*T18*1 -> 4.0085566
C47: Luonnonkivi, reunakivi (neitseellinen) | D47: 0.12 | E47: kgCO2e/kg | F47: 2700 | G47: kg/m3 | H47: =D47*F47 -> 324 | I47: kgCO2e/m3 | J47: Rakentamisen päästötietokanta, 2021. Natural stone, solid curb stone | K47: - | T47: Maansiirtoauto/kuorma-auto | V47: 0.1
C48: Salaojaputket (neitseellinen) | D48: 2.52 | E48: kgCO2e/kg | F48: =1.05*1000 -> 1050 | G48: kg/m3 | H48: =D48*F48 -> 2646 | I48: kgCO2e/m3 | J48: Environment Agency, 2014. Carbon calculator. | K48: - | S48: Tiivistys | T48: Täryjyrä | U48: =T68/T69*0.5 -> 0.005 | V48: 1 | W48: =T9*U48*V48 -> 0.1917
C49: Sora ja hiekka (neitseellinen) | D49: 0.005 | E49: kgCO2e/kg | F49: 1500 | G49: kg/m3 | H49: =D49*F49 -> 7.5 | I49: kgCO2e/m3 | J49: Rakentamisen päästötietokanta, 2021. Gravel and sand | K49: - | S49: Asfaltointi | T49: Kuorma-auto | V49: 0.1 | W49: =U50*V49*T18*1+U50*V50*T18+U50*V51*T9 -> 29.192846
C50: Tiili, poltettu, punainen (neitseellinen) | D50: 0.22 | E50: kgCO2e/kg | F50: 1300 | G50: kg/m3 | H50: =D50*F50 -> 286 | I50: kgCO2e/m3 | J50: Rakentamisen päästötietokanta, 2021. Brick, red | K50: - | T50: Asfalttilevitin | U50: =T73/T74*0.5 -> 0.5203252 | V50: 0.4
C51: Tiili, poltettu, vaalea (neitseellinen) | D51: 0.28 | E51: kgCO2e/kg | F51: 1300 | G51: kg/m3 | H51: =D51*F51 -> 364 | I51: kgCO2e/m3 | J51: Rakentamisen päästötietokanta, 2021. Brick, light | K51: - | T51: Jyrä | V51: 0.5
S52: Varastointi | T52: Pyöräkuormaaja | U52: =T76/T77*0.5 -> 0.0083333333 | V52: 1 | W52: =T10*U52*V52 -> 0.6486
S53: Murskaus | T53: Murskain | U53: =T80/T81*0.5 -> 0.0025 | V53: 0.75 | W53: =U53*V53*T19+U53*V54*T13 -> 0.11375562
T54: Kaivinkone | V54: 0.25
S55: Seulonta | T55: Seula | U55: =T84/T85*0.5 -> 0.002283105 | V55: 0.75 | W55: =U55*V55*T19+U55*V56*T13 -> 0.10388642
T56: Kaivinkone | V56: 0.25
S57: *Kerroin on puolitettu, sillä koko skenaarion materiaalien massaa ei todennäköisesti käsitellä
S59: Työvaiheiden määreiden lasku | W59: Lähde
S60: Pintamaan poisto | T60: Esim. pientalon maanrakennustöissä 1-3 työpäivää. | W60: https://www.rakennusteollisuus.fi/globalassets/infra/tietoa-ja-tilastoja/ohjeita-ja-opastusta/pientalon_maarakennustyot.pdf
S61: Kuluva aika | T61: =AVERAGE(1*7.5,3*7.5) -> 15 | U61: h
S62: Käsiteltävä massa | T62: =150*0.2*2.65 -> 79.5 | U62: tonnia
S63: Päällysrakenteiden/rakennekerrosten levitys | T63: Esim. pientalon tien maanrakennustöissä n. 1 työpäivä
S64: Kuluva aika | T64: =7.5*1 -> 7.5 | U64: h
S65: Käsiteltävä massa | T65: =50*3*0.2*S89 -> 79.5 | U65: tonnia
S66: Tiivistys
S67: Kapasiteetti | T67: 100 | U67: t/h | W67: https://www.pank.fi/wp-content/uploads/2020/12/tiivistyksen-pikaopas-20130115.pdf
S68: Kuluva aika | T68: =T69/100 -> 0.01 | U68: h
S69: Käsiteltävä massa | T69: 1 | U69: tonnia
S70: Asfaltointi | W70: https://www.pekkaniska.com/site/assets/files/1915/ominaispainotaulukko_nettisivuille.pdf
S71: Asfaltin pinta-ala | T71: 205 | U71: m2 | W71: https://www.theseus.fi/bitstream/handle/10024/125972/Puikkonen_Aki.pdf?sequence=1
S72: Asfaltin tiheys | T72: 1500 | U72: kg/m3
S73: Kuluva aika | T73: 32 | U73: h | W73: https://www.theseus.fi/bitstream/handle/10024/125972/Puikkonen_Aki.pdf?sequence=1
S74: Käsiteltävä massa | T74: =T71*0.1*T72/1000 -> 30.75 | U74: tonnia
S75: Varastointi | W75: https://sr-o.fi/tuotekuvasto/pyorakuormaajat/pyorakuormaajat/
S76: Kuluva aika | T76: =10/60 -> 0.16666667 | U76: h (varastointiin arvioitu kuluvan 10 min)
S77: Käsiteltävä massa | T77: 10 | U77: tonnia (arvio, ka. Kaatokuormasta matalampi)
S78: Murskaus
S79: Kapasiteetti | T79: 200 | U79: t/h | W79: https://www.rocktechnology.sandvik/fi/laitteet/murskaimet-ja-seulat/laitosratkaisuja/fastplant-ratkaisut/murskaus-ja-seulontalaitos-l200-3/
S80: Kuluva aika | T80: =T81/T79 -> 0.005 | U80: h
S81: Käsiteltävä massa | T81: 1 | U81: t
S82: Seulonta
S83: Kapasiteetti | T83: =AVERAGE(38,400) -> 219 | U83: t/h | W83: https://www.theseus.fi/bitstream/handle/10024/41095/Suomalainen_Olli.pdf?sequence=1&isAllowed=y
S84: Kuluva aika | T84: =T85/T83 -> 0.00456621 | U84: t
S85: Käsiteltävä massa | T85: 1 | U85: t
S88: Keskimäärin maalajien tiheyden keskiarvot ja mediaanit lähellä arvoa 2,65 t/m3
S89: 2.65 | T89: t/m3

Sheet Kustannukset
B3: Kustannukset
B14: Uusiomateriaalit | C14: e/kg | E14: e/m3 | G14: Tiheys | J14: AFRYn arvioimat pohja-arvot | K14: e/kg | M14: e/m3 | O14: Tiheys
B15: =Päästökertoimet!C6 -> Asfalttibetoni (50 % uusio/neitseellinen) | C15: =E15/G15 -> 0.027733333 | D15: e/kg | E15: =0.4*(AVERAGE(25,17,10))/0.1 -> 69.333333 | F15: e/m3 | G15: =VLOOKUP(B15,Päästökertoimet!$C$5:$K$60,4,FALSE) -> 2500 | H15: kg/m3 | K15: =M15/O15 -> 0.027733333 | L15: e/kg | M15: =0.4*(AVERAGE(25,17,10))/0.1 -> 69.333333 | N15: e/m3 | O15: 2500 | P15: kg/m3
B16: =Päästökertoimet!C7 -> Asfalttibetoni (30 % uusio) | C16: =E16/G16 -> 0.027733333 | D16: e/kg | E16: =0.4*(AVERAGE(25,17,10))/0.1 -> 69.333333 | F16: e/m3 | G16: =VLOOKUP(B16,Päästökertoimet!$C$5:$K$60,4,FALSE) -> 2500 | H16: kg/m3 | K16: =M16/O16 -> 0.027733333 | L16: e/kg | M16: =0.4*(AVERAGE(25,17,10))/0.1 -> 69.333333 | N16: e/m3 | O16: 2500 | P16: kg/m3
B17: =Päästökertoimet!C8 -> Asfalttijätemurske (uusio) | C17: 0 | D17: e/kg | E17: 0 | F17: e/m3 | G17: =VLOOKUP(B17,Päästökertoimet!$C$5:$K$60,4,FALSE) -> 2500 | H17: kg/m3 | K17: 0 | L17: e/kg | M17: 0 | N17: e/m3 | O17: 2500 | P17: kg/m3
B18: =Päästökertoimet!C9 -> Betonijätemurske (uusio) | C18: 0 | D18: e/kg | E18: 0 | F18: e/m3 | G18: =VLOOKUP(B18,Päästökertoimet!$C$5:$K$60,4,FALSE) -> 2400 | H18: kg/m3 | K18: 0 | L18: e/kg | M18: 0 | N18: e/m3 | O18: 2400 | P18: kg/m3
B19: =Päästökertoimet!C10 -> Geopolymeeri (uusio) | C19: 0 | D19: e/kg | E19: 0 | F19: e/m3 | G19: =VLOOKUP(B19,Päästökertoimet!$C$5:$K$60,4,FALSE) -> 2400 | H19: kg/m3 | K19: 0 | L19: e/kg | M19: 0 | N19: e/m3 | O19: 2400 | P19: kg/m3
B20: =Päästökertoimet!C11 -> Jätekalkki | C20: 0 | D20: e/kg | E20: 0 | F20: e/m3 | G20: =VLOOKUP(B20,Päästökertoimet!$C$5:$K$60,4,FALSE) -> 1786.6667 | H20: kg/m3 | K20: 0 | L20: e/kg | M20: 0 | N20: e/m3 | O20: 1786.6667 | P20: kg/m3
B21: =Päästökertoimet!C12 -> Jätteenpolton pohjakuona (uusio) | C21: 0 | D21: e/kg | E21: 0 | F21: e/m3 | G21: =VLOOKUP(B21,Päästökertoimet!$C$5:$K$60,4,FALSE) -> 2325 | H21: kg/m3 | K21: 0 | L21: e/kg | M21: 0 | N21: e/m3 | O21: 2325 | P21: kg/m3
B22: =Päästökertoimet!C13 -> Kierrätyskasvualustat (uusio) | C22: =E22/G22 -> 0.055200501 | D22: e/kg | E22: =Aputaulukko!$L$88 -> 22.025 | F22: e/m3 | G22: =VLOOKUP(B22,Päästökertoimet!$C$5:$K$60,4,FALSE) -> 399 | H22: kg/m3 | K22: =M22/O22 -> 0.055200501 | L22: e/kg | M22: =Aputaulukko!$L$88 -> 22.025 | N22: e/m3 | O22: 399 | P22: kg/m3
B23: =Päästökertoimet!C14 -> Lasimurske (uusio) | C23: =Aputaulukko!$C$95 -> 1.238 | D23: e/kg | E23: =C23*G23 -> 1838.43 | F23: e/m3 | G23: =VLOOKUP(B23,Päästökertoimet!$C$5:$K$60,4,FALSE) -> 1485 | H23: kg/m3 | K23: =Aputaulukko!$C$95 -> 1.238 | L23: e/kg | M23: =K23*O23 -> 1838.43 | N23: e/m3 | O23: 1485 | P23: kg/m3
B24: =Päästökertoimet!C15 -> Lentotuhka, kattilatuhka (uusio) | C24: 0 | D24: e/kg | E24: 0 | F24: e/m3 | G24: =VLOOKUP(B24,Päästökertoimet!$C$5:$K$60,4,FALSE) -> 1250 | H24: kg/m3 | K24: 0 | L24: e/kg | M24: 0 | N24: e/m3 | O24: 1250 | P24: kg/m3
B25: =Päästökertoimet!C16 -> Meesa (uusio) | C25: 0 | D25: e/kg | E25: 0 | F25: e/m3 | G25: =VLOOKUP(B25,Päästökertoimet!$C$5:$K$60,4,FALSE) -> 2825 | H25: kg/m3 | K25: 0 | L25: e/kg | M25: 0 | N25: e/m3 | O25: 2825 | P25: kg/m3
B26: =Päästökertoimet!C17 -> Okto-eriste (uusio) | C26: =Aputaulukko!$H$95 -> 0.2975 | D26: e/kg | E26: =C26*G26 -> 364.4375 | F26: e/m3 | G26: =VLOOKUP(B26,Päästökertoimet!$C$5:$K$60,4,FALSE) -> 1225 | H26: kg/m3 | K26: =Aputaulukko!$H$95 -> 0.2975 | L26: e/kg | M26: =K26*O26 -> 364.4375 | N26: e/m3 | O26: 1225 | P26: kg/m3
B27: =Päästökertoimet!C18 -> Okto-murske (uusio) | C27: =Aputaulukko!$H$95 -> 0.2975 | D27: e/kg | E27: =C27*G27 -> 458.15 | F27: e/m3 | G27: =VLOOKUP(B27,Päästökertoimet!$C$5:$K$60,4,FALSE) -> 1540 | H27: kg/m3 | K27: =Aputaulukko!$H$95 -> 0.2975 | L27: e/kg | M27: =K27*O27 -> 458.15 | N27: e/m3 | O27: 1540 | P27: kg/m3
B28: =Päästökertoimet!C19 -> Pohjatuhka, pohjahiekka (uusio) | C28: 0 | D28: e/kg | E28: 0 | F28: e/m3 | G28: =VLOOKUP(B28,Päästökertoimet!$C$5:$K$60,4,FALSE) -> 1250 | H28: kg/m3 | K28: 0 | L28: e/kg | M28: 0 | N28: e/m3 | O28: 1250 | P28: kg/m3
B29: =Päästökertoimet!C20 -> Rengasleike, kokonaiset renkaat (uusio) | C29: 0 | D29: e/kg | E29: 0 | F29: e/m3 | G29: =VLOOKUP(B29,Päästökertoimet!$C$5:$K$60,4,FALSE) -> 1145 | H29: kg/m3 | K29: 0 | L29: e/kg | M29: 0 | N29: e/m3 | O29: 1145 | P29: kg/m3
B30: =Päästökertoimet!C21 -> Ruoppausmassa (uusio) | C30: 0 | D30: e/kg | E30: 0 | F30: e/m3 | G30: =VLOOKUP(B30,Päästökertoimet!$C$5:$K$60,4,FALSE) -> 1068.75 | H30: kg/m3 | K30: 0 | L30: e/kg | M30: 0 | N30: e/m3 | O30: 1068.75 | P30: kg/m3
B31: =Päästökertoimet!C22 -> Soodasakka (uusio) | C31: 0 | D31: e/kg | E31: 0 | F31: e/m3 | G31: =VLOOKUP(B31,Päästökertoimet!$C$5:$K$60,4,FALSE) -> 2540 | H31: kg/m3 | K31: 0 | L31: e/kg | M31: 0 | N31: e/m3 | O31: 2540 | P31: kg/m3
B32: =Päästökertoimet!C23 -> Tiilijätemurske (uusio) | C32: 0 | D32: e/kg | E32: 0 | F32: e/m3 | G32: =VLOOKUP(B32,Päästökertoimet!$C$5:$K$60,4,FALSE) -> 2400 | H32: kg/m3 | K32: 0 | L32: e/kg | M32: 0 | N32: e/m3 | O32: 2400 | P32: kg/m3
B33: =Päästökertoimet!C24 -> Vaahtolasimurske (uusio) | C33: =E33/G33 -> 0.94210526 | D33: e/kg | E33: =Aputaulukko!$L$92 -> 179 | F33: e/m3 | G33: 190 | H33: kg/m3 | K33: =M33/O33 -> 0.94210526 | L33: e/kg | M33: =Aputaulukko!$L$92 -> 179 | N33: e/m3 | O33: 190 | P33: kg/m3
B34: =Päästökertoimet!C25 -> Ylijäämämaat (uusio) | C34: 0 | D34: e/kg | E34: 0 | F34: e/m3 | G34: =VLOOKUP(B34,Päästökertoimet!$C$5:$K$60,4,FALSE) -> 2650 | H34: kg/m3 | K34: 0 | L34: e/kg | M34: 0 | N34: e/m3 | O34: 2650 | P34: kg/m3
B35: =IF(Päästökertoimet!C26<>"",Päästökertoimet!C26,"") | D35: e/kg | F35: e/m3 | G35: =IF(Päästökertoimet!F26<>"",Päästökertoimet!F26,"") | H35: kg/m3 | J35: Laskurin käyttäjä voi lisätä näihin kohtiin lisäämiensä materiaalien kustannuksia.
B36: =IF(Päästökertoimet!C27<>"",Päästökertoimet!C27,"") | D36: e/kg | F36: e/m3 | G36: =IF(Päästökertoimet!F27<>"",Päästökertoimet!F27,"") | H36: kg/m3 | J36: Materiaalien lisäys tehdään Päästökertoimet-välilehdellä vihreisiin soluihin.
B37: =IF(Päästökertoimet!C28<>"",Päästökertoimet!C28,"") | D37: e/kg | F37: e/m3 | G37: =IF(Päästökertoimet!F28<>"",Päästökertoimet!F28,"") | H37: kg/m3
B38: =IF(Päästökertoimet!C29<>"",Päästökertoimet!C29,"") | D38: e/kg | F38: e/m3 | G38: =IF(Päästökertoimet!F29<>"",Päästökertoimet!F29,"") | H38: kg/m3
B39: =IF(Päästökertoimet!C30<>"",Päästökertoimet!C30,"") | D39: e/kg | F39: e/m3 | G39: =IF(Päästökertoimet!F30<>"",Päästökertoimet!F30,"") | H39: kg/m3
B40: =IF(Päästökertoimet!C31<>"",Päästökertoimet!C31,"") | D40: e/kg | F40: e/m3 | G40: =IF(Päästökertoimet!F31<>"",Päästökertoimet!F31,"") | H40: kg/m3
B41: =IF(Päästökertoimet!C32<>"",Päästökertoimet!C32,"") | D41: e/kg | F41: e/m3 | G41: =IF(Päästökertoimet!F32<>"",Päästökertoimet!F32,"") | H41: kg/m3
B42: =IF(Päästökertoimet!C33<>"",Päästökertoimet!C33,"") | D42: e/kg | F42: e/m3 | G42: =IF(Päästökertoimet!F33<>"",Päästökertoimet!F33,"") | H42: kg/m3
B43: =IF(Päästökertoimet!C34<>"",Päästökertoimet!C34,"") | D43: e/kg | F43: e/m3 | G43: =IF(Päästökertoimet!F34<>"",Päästökertoimet!F34,"") | H43: kg/m3
B45: Neitseelliset materiaalit
B46: =Päästökertoimet!C36 -> Asfalttibetoni (neitseellinen) | C46: =E46/G46 -> 0.027733333 | D46: e/kg | E46: =0.4*(AVERAGE(25,17,10))/0.1 -> 69.333333 | F46: e/m3 | G46: =VLOOKUP(B46,Päästökertoimet!$C$5:$K$60,4,FALSE) -> 2500 | H46: kg/m3 | K46: =M46/O46 -> 0.027733333 | L46: e/kg | M46: =0.4*(AVERAGE(25,17,10))/0.1 -> 69.333333 | N46: e/m3 | O46: 2500 | P46: kg/m3
B47: =Päästökertoimet!C37 -> Betonikaivo (neitseellinen) | C47: =Aputaulukko!$D$80 -> 0.37376227 | D47: e/kg | E47: =C47*G47 -> 897.02944 | F47: e/m3 | G47: =VLOOKUP(B47,Päästökertoimet!$C$5:$K$60,4,FALSE) -> 2400 | H47: kg/m3 | K47: =Aputaulukko!$D$80 -> 0.37376227 | L47: e/kg | M47: =K47*O47 -> 897.02944 | N47: e/m3 | O47: 2400 | P47: kg/m3
B48: =Päästökertoimet!C38 -> Betonipaalu (neitseellinen) | C48: =AVERAGE(C47,C49) -> 0.31842971 | D48: e/kg | E48: =AVERAGE(E47,E49) -> 764.23131 | F48: e/m3 | G48: =VLOOKUP(B48,Päästökertoimet!$C$5:$K$60,4,FALSE) -> 2400 | H48: kg/m3 | K48: =AVERAGE(K47,K49) -> 0.31842971 | L48: e/kg | M48: =AVERAGE(M47,M49) -> 764.23131 | N48: e/m3 | O48: 2400 | P48: kg/m3
B49: =Päästökertoimet!C39 -> Betoniputki (neitseellinen) | C49: =Aputaulukko!$I$80 -> 0.26309716 | D49: e/kg | E49: =C49*G49 -> 631.43318 | F49: e/m3 | G49: =VLOOKUP(B49,Päästökertoimet!$C$5:$K$60,4,FALSE) -> 2400 | H49: kg/m3 | K49: =Aputaulukko!$I$80 -> 0.26309716 | L49: e/kg | M49: =K49*O49 -> 631.43318 | N49: e/m3 | O49: 2400 | P49: kg/m3
B50: =Päästökertoimet!C40 -> Geotekstiili, PP (neitseellinen) | C50: =Aputaulukko!$L$80 -> 6.7892593 | D50: e/kg | E50: =C50*G50 -> 1.3578519 | F50: e/m3 | G50: =VLOOKUP(B50,Päästökertoimet!$C$5:$K$60,4,FALSE) -> 0.2 | H50: kg/m3 | K50: =Aputaulukko!$L$80 -> 6.7892593 | L50: e/kg | M50: =K50*O50 -> 1.3578519 | N50: e/m3 | O50: 0.2 | P50: kg/m3
B51: =Päästökertoimet!C41 -> Kalkki (neitseellinen) | C51: =Aputaulukko!$D$88 -> 0.39944444 | D51: e/kg | E51: =C51*G51 -> 713.67407 | F51: e/m3 | G51: =VLOOKUP(B51,Päästökertoimet!$C$5:$K$60,4,FALSE) -> 1786.6667 | H51: kg/m3 | K51: =Aputaulukko!$D$88 -> 0.39944444 | L51: e/kg | M51: =K51*O51 -> 713.67407 | N51: e/m3 | O51: 1786.6667 | P51: kg/m3
B52: =Päästökertoimet!C42 -> Kevytbetoni, höyrykarkaistu, raudoitettu (neitseellinen) | C52: =C53 -> 0.97245 | D52: =D53 -> e/kg | E52: =E53 -> 413.29125 | F52: =F53 -> e/m3 | G52: =VLOOKUP(B52,Päästökertoimet!$C$5:$K$60,4,FALSE) -> 475 | H52: kg/m3 | K52: =K53 -> 0.97245 | L52: e/kg | M52: =M53 -> 413.29125 | N52: e/m3 | O52: 475 | P52: kg/m3
B53: =Päästökertoimet!C43 -> Kevytbetoniharkko, höyrykarkaistu, raudoittamaton (neitseellinen) | C53: =Aputaulukko!$H$88 -> 0.97245 | D53: e/kg | E53: =C53*G53 -> 413.29125 | F53: e/m3 | G53: =VLOOKUP(B53,Päästökertoimet!$C$5:$K$60,4,FALSE) -> 425 | H53: kg/m3 | K53: =Aputaulukko!$H$88 -> 0.97245 | L53: e/kg | M53: =K53*O53 -> 413.29125 | N53: e/m3 | O53: 425 | P53: kg/m3
B54: Kevytsoramurske (neitseellinen) | C54: =Aputaulukko!D102 -> 0.81876096 | D54: e/kg | E54: =C54*G54 -> 248.90333 | F54: e/m3 | G54: =VLOOKUP(B54,Päästökertoimet!$C$5:$K$60,4,FALSE) -> 304 | H54: kg/m3 | K54: 0.81876096 | L54: e/kg | M54: 248.90333 | N54: e/m3 | O54: 304 | P54: kg/m3
B55: Kivimurske (neitseellinen) | C55: =Aputaulukko!G102 -> 0.008225 | D55: e/kg | E55: =C55*G55 -> 12.3375 | F55: e/m3 | G55: =VLOOKUP(B55,Päästökertoimet!$C$5:$K$60,4,FALSE) -> 1500 | H55: kg/m3 | K55: 0.008225 | L55: e/kg | M55: 12.3375 | N55: e/m3 | O55: 1500 | P55: kg/m3
B56: Luonnonkivi, katukivi (neitseellinen) | C56: =Aputaulukko!N102 -> 0.12728163 | D56: e/kg | E56: =C56*G56 -> 343.6604 | F56: e/m3 | G56: =VLOOKUP(B56,Päästökertoimet!$C$5:$K$60,4,FALSE) -> 2700 | H56: kg/m3 | K56: 0.12728163 | L56: e/kg | M56: 343.6604 | N56: e/m3 | O56: 2700 | P56: kg/m3
B57: Luonnonkivi, reunakivi (neitseellinen) | C57: =Aputaulukko!D109 -> 0.3702877 | D57: e/kg | E57: =C57*G57 -> 999.77679 | F57: e/m3 | G57: =VLOOKUP(B57,Päästökertoimet!$C$5:$K$60,4,FALSE) -> 2700 | H57: kg/m3 | K57: 0.3702877 | L57: e/kg | M57: 999.77679 | N57: e/m3 | O57: 2700 | P57: kg/m3
B58: Salaojaputket (neitseellinen) | C58: =Aputaulukko!I109 -> 8.9479448 | D58: e/kg | E58: =C58*G58 -> 9395.342 | F58: e/m3 | G58: =VLOOKUP(B58,Päästökertoimet!$C$5:$K$60,4,FALSE) -> 1050 | H58: kg/m3 | K58: 8.9479448 | L58: e/kg | M58: 9395.342 | N58: e/m3 | O58: 1050 | P58: kg/m3
B59: Sora ja hiekka (neitseellinen) | C59: =Aputaulukko!L109 -> 0.007035 | D59: e/kg | E59: =C59*G59 -> 10.5525 | F59: e/m3 | G59: =VLOOKUP(B59,Päästökertoimet!$C$5:$K$60,4,FALSE) -> 1500 | H59: kg/m3 | K59: 0.007035 | L59: e/kg | M59: 10.5525 | N59: e/m3 | O59: 1500 | P59: kg/m3
B60: Tiili, poltettu, punainen (neitseellinen) | C60: =Aputaulukko!D116 -> 0.43452381 | D60: e/kg | E60: =C60*G60 -> 564.88095 | F60: e/m3 | G60: =VLOOKUP(B60,Päästökertoimet!$C$5:$K$60,4,FALSE) -> 1300 | H60: kg/m3 | K60: 0.43452381 | L60: e/kg | M60: 564.88095 | N60: e/m3 | O60: 1300 | P60: kg/m3
B61: Tiili, poltettu, vaalea (neitseellinen) | C61: =$C$60 -> 0.43452381 | D61: e/kg | E61: =C61*G61 -> 564.88095 | F61: e/m3 | G61: =VLOOKUP(B61,Päästökertoimet!$C$5:$K$60,4,FALSE) -> 1300 | H61: kg/m3 | K61: 0.43452381 | L61: e/kg | M61: 564.88095 | N61: e/m3 | O61: 1300 | P61: kg/m3
B62: =IF(Päästökertoimet!C52<>"",Päästökertoimet!C52,"") | D62: e/kg | F62: e/m3 | G62: =IF(Päästökertoimet!F52<>"",Päästökertoimet!F52,"") | H62: kg/m3 | J62: Laskurin käyttäjä voi lisätä näihin kohtiin lisäämiensä materiaalien kustannuksia.
B63: =IF(Päästökertoimet!C53<>"",Päästökertoimet!C53,"") | D63: e/kg | F63: e/m3 | G63: =IF(Päästökertoimet!F53<>"",Päästökertoimet!F53,"") | H63: kg/m3 | J63: Materiaalien lisäys tehdään Päästökertoimet-välilehdellä vihreisiin soluihin.
B64: =IF(Päästökertoimet!C54<>"",Päästökertoimet!C54,"") | D64: e/kg | F64: e/m3 | G64: =IF(Päästökertoimet!F54<>"",Päästökertoimet!F54,"") | H64: kg/m3
B65: =IF(Päästökertoimet!C55<>"",Päästökertoimet!C55,"") | D65: e/kg | F65: e/m3 | G65: =IF(Päästökertoimet!F55<>"",Päästökertoimet!F55,"") | H65: kg/m3
B66: =IF(Päästökertoimet!C56<>"",Päästökertoimet!C56,"") | D66: e/kg | F66: e/m3 | G66: =IF(Päästökertoimet!F56<>"",Päästökertoimet!F56,"") | H66: kg/m3
D67: e/kg | F67: e/m3 | H67: kg/m3
B68: =IF(Päästökertoimet!C57<>"",Päästökertoimet!C57,"") | D68: e/kg | F68: e/m3 | G68: =IF(Päästökertoimet!F57<>"",Päästökertoimet!F57,"") | H68: kg/m3
B69: =IF(Päästökertoimet!C58<>"",Päästökertoimet!C58,"") | D69: e/kg | F69: e/m3 | G69: =IF(Päästökertoimet!F58<>"",Päästökertoimet!F58,"") | H69: kg/m3
B70: =IF(Päästökertoimet!C59<>"",Päästökertoimet!C59,"") | D70: e/kg | F70: e/m3 | G70: =IF(Päästökertoimet!F59<>"",Päästökertoimet!F59,"") | H70: kg/m3
B76: Kuljetuksien kustannukset (hinta riippuu kuljetusetäisyydestä, kuormakoosta, kuljetettavasta määrästä /vuosi)
B77: Ajoneuvo | C77: kustannus | D77: yksikkö | E77: Kuljetettava matka | F77: yksikkö | G77: Kuljetettava määrä | H77: yksikkö | J77: Kuormakoko | K77: yksikkö | L77: Lähde: | P77: Ohje kuljetuskustannuslaskennan pävittämiseen uusilla tarjouksilla
B79: Maansiirtoauto ilman perävaunua (19 t), diesel | C79: 4.7 | D79: e/km | E79: 30 | F79: km | G79: 30000 | H79: t/vuosi | J79: 19 | K79: t | L79: Alueella toimivan toimittajan hinta-arvio 1.2022 | P79: 1) Pyydä tarjous €/t muodossa ja mainitse pyynnössäsi jokin karkea arvio vuosittain kuljetettavasta tonnimäärästä sekä kuljetuksien nouto ja toimituspaikat
B80: Maansiirtoauto ilman perävaunua (19 t), diesel | C80: 4 | D80: e/km | E80: 60 | F80: km | G80: 30000 | H80: t/vuosi | J80: 19 | K80: t | L80: Alueella toimivan toimittajan hinta-arvio 1.2022 | P80: ja jos mahdollista, mainitse myös toimituksien frekvenssi esim. kerran viikossa, kuukaudessa tms. (hinnat voi samalla pyytää myös useampaan tonnimäärä-arvioon, esim. sekä 30 000 t ja 60 000 t vuodessa).
B81: Maansiirtoauto ilman perävaunua (19 t), diesel | C81: 5.4 | D81: e/km | E81: 30 | F81: km | G81: 60000 | H81: t/vuosi | J81: 19 | K81: t | L81: Alueella toimivan toimittajan hinta-arvio 1.2022 | P81: Kysy pyynnössä myös minkälaisella kalustolla kuljetukset tapahtuisi.
B82: Maansiirtoauto ilman perävaunua (19 t), diesel | C82: 2.7 | D82: e/km | E82: 60 | F82: km | G82: 60000 | H82: t/vuosi | J82: 19 | K82: t | L82: Alueella toimivan toimittajan hinta-arvio 1.2022
B83: Kasettiautoyhdistelmä (45-50 t), diesel | C83: 6.8 | D83: e/km | E83: 30 | F83: km | G83: 30000 | H83: t/vuosi | J83: 50 | K83: t | L83: Alueella toimivan toimittajan hinta-arvio 1.2022 | P83: 2) Toimittajan €/t tarjouksen saa muunnettua laskuriin €/km muotoon laskennalla : €/km = (tarjottu €/t hinta * kuljetettava t määrä) / kuljetettava km etäisyys.
B84: Kasettiautoyhdistelmä (45-50 t), diesel | C84: 5.2 | D84: e/km | E84: 60 | F84: km | G84: 30000 | H84: t/vuosi | J84: 50 | K84: t | L84: Alueella toimivan toimittajan hinta-arvio 1.2022
B85: Kasettiautoyhdistelmä (45-50 t), diesel | C85: 7.5 | D85: e/km | E85: 30 | F85: km | G85: 60000 | H85: t/vuosi | J85: 50 | K85: t | L85: Alueella toimivan toimittajan hinta-arvio 1.2022 | P85: 3) Lisää €/km hinta kustannuslaskuriin.
B86: Kasettiautoyhdistelmä (45-50 t), diesel | C86: 3.7 | D86: e/km | E86: 60 | F86: km | G86: 60000 | H86: t/vuosi | J86: 50 | K86: t | L86: Alueella toimivan toimittajan hinta-arvio 1.2022
D87: e/km | F87: km | H87: t/vuosi | K87: t | P87: *Huom. jos tarjous on muodossa €/t/km : tarjouksen saa muunnettua laskuriin €/km muotoon laskennalla : €/km = (tarjottu €/t/km hinta * kuljetettava t määrä * kuljetettava km etäisyys ) / kuljetettava km etäisyys.
D88: e/km | F88: km | H88: t/vuosi | K88: t
D89: e/km | F89: km | H89: t/vuosi | K89: t
D90: e/km | F90: km | H90: t/vuosi | K90: t
D91: e/km | F91: km | H91: t/vuosi | K91: t
D92: e/km | F92: km | H92: t/vuosi | K92: t

Sheet Aputaulukko
B2: Aputaulukko
B8: Liukuvalikot | N8: Kustannuslaskenta
F9: Materiaali | H9: Kuljetus | J9: Työkoneet | L9: Valitse työvaihe | N9: Kuljetussäde | P9: Kuljetettava määrä vuodessa
B10: Materiaalin yksikkö | D10: Työkoneen yksikkö | F10: Kustannuksen yksikkö | H10: Kustannuksen yksikkö | J10: Kustannuksen yksikkö | L10: Pintamaan poisto | N10: {=_xlfn.UNIQUE(Kustannukset!E79:E92,FALSE)} -> 30 | P10: {=_xlfn.UNIQUE(Kustannukset!G79:G92,FALSE)} -> 30000
B11: kg | D11: h | F11: e/kg | H11: e/km | J11: e/h | L11: Päällysrakenteiden/rakennekerrosten levitys | N11: 60 | P11: 60000
B12: m3 | D12: l | F12: e/m3 | H12: e/t | J12: e/l | L12: Tiivistys | N12: 0 | P12: 0
H13: e/m3 | L13: Asfaltointi
L14: Varastointi
L15: Murskaus
L16: Seulonta
B22: Työvaiheiden päästölaskenta
A23: Skenaario 1 | B23: kiloa materiaaleja | C23: Yhteensä materiaaleja | E23: Skenaario 2 | F23: kiloa materiaaleja | G23: Yhteensä materiaaleja
B24: {=IF(Laskentasivu!H6:H38="m3",Laskentasivu!G6:G38*VLOOKUP(Laskentasivu!F6:F38,Päästökertoimet!C5:I59,4,FALSE))} -> FALSE | C24: =SUM(_xlfn.ANCHORARRAY(Aputaulukko!B24)) -> 0 | F24: {=IF(Laskentasivu!H102:H134="m3",Laskentasivu!G102:G134*VLOOKUP(Laskentasivu!F102:F134,Päästökertoimet!C5:I59,4,FALSE))} -> FALSE | G24: =SUM(_xlfn.ANCHORARRAY(F24)) -> 0
B25: FALSE | F25: FALSE
B26: FALSE | F26: FALSE
B27: FALSE | F27: FALSE
B28: FALSE | F28: FALSE
B29: FALSE | F29: FALSE
B30: FALSE | F30: FALSE
B31: FALSE | F31: FALSE
B32: FALSE | F32: FALSE
B33: FALSE | F33: FALSE
B34: FALSE | F34: FALSE
B35: FALSE | F35: FALSE
B36: FALSE | F36: FALSE
... B56: FALSE | F56: FALSE
B62: Kustannukset
B63: Betonikaivot | G63: Betoniputket | L63: Geotekstiili
B64: kg/kpl | C64: e/kpl | D64: e/kg | E64: Lähde: | G64: kg/kpl | H64: e/kpl | I64: e/kg | J64: Lähde:
B65: 211 | C65: 87 | D65: =C65/B65 -> 0.41232227 | G65: 3880 | H65: 993 | I65: =H65/G65 -> 0.25592784 | L65: 653.4 | M65: e/kpl
B66: 316 | C66: 107 | D66: =C66/B66 -> 0.33860759 | G66: 3880 | H66: 1050 | I66: =H66/G66 -> 0.27061856 | L66: 99 | M66: kg/kpl | N66: Netrauta.fi, Suodatinkangas N2/Geo PP 2NG 08 6x110m=660m2
B67: 421 | C67: 126 | D67: =C67/B67 -> 0.29928741 | G67: 125 | H67: 42 | I67: =H67/G67 -> 0.336 | L67: =L65/L66 -> 6.6 | M67: e/kg | N67: https://www.netrauta.fi/suodatinkangas-n2-geo-pp-2ng-08-6x110m-660m-sup2
B68: 526 | C68: 151 | D68: =C68/B68 -> 0.28707224 | G68: 600 | H68: 184 | I68: =H68/G68 -> 0.30666667
B69: 951 | C69: 506 | D69: =C69/B69 -> 0.5320715 | G69: 535 | H69: 115 | I69: =H69/G69 -> 0.21495327 | L69: 882 | M69: e/kpl
B70: 1423 | C70: 600 | D70: =C70/B70 -> 0.42164441 | E70: Ruskon betoni Oy, Tuote- ja palveluhinnasto | G70: 535 | H70: 183 | I70: =H70/G70 -> 0.34205607 | J70: Rudus, EK-putket pyöreät | L70: 113.4 | M70: kg/kpl | N70: Stark, Suodatinkangas N2 5,25x160 m 840 m² 130g/m²
B71: 1897 | C71: 693 | D71: =C71/B71 -> 0.36531365 | E71: https://www.rbinfra.fi/wp-content/uploads/2019/05/rb_esite_2019_netti.pdf | G71: 6500 | H71: 1764 | I71: =H71/G71 -> 0.27138462 | J71: https://www.rudus.fi/Download/23924/Betoniputket%20ja%20-kaivot%20tuoteluettelo%20ja%20hinnasto.pdf | L71: =L69/L70 -> 7.7777778 | M71: e/kg | N71: https://www.stark-suomi.fi/fi/suodatinkangas-n2-5-25x160-m-840-m%C2%B2-130g-m%C2%B2
B73: 500 | C73: 154 | D73: =C73/B73 -> 0.308 | E73: Taloon.com. https://www.taloon.com/kaivonrengas-pohjalla-1000x500-mm-uurreliitoksella | G73: 725 | H73: 158 | I73: =H73/G73 -> 0.21793103 | L73: 29.95 | M73: e/kpl
G74: 748 | H74: 208 | I74: =H74/G74 -> 0.27807487 | L74: 5 | M74: kg/kpl | N74: Byggmax, Suodatinkangas
B75: 800 | C75: 409 | D75: =C75/B75 -> 0.51125 | G75: 980 | H75: 198 | I75: =H75/G75 -> 0.20204082 | L75: =L73/L74 -> 5.99 | M75: e/kg | N75: https://www.byggmax.fi/suodatinkangas-p21032
B76: 1560 | C76: 514 | D76: =C76/B76 -> 0.32948718 | G76: 1013 | H76: 268 | I76: =H76/G76 -> 0.26456071
B77: 1100 | C77: 417 | D77: =C77/B77 -> 0.37909091 | E77: Rudus, Pohjallinen UL-kaivonrengas | G77: 1950 | H77: 425 | I77: =H77/G77 -> 0.21794872 | J77: Ruskon betoni, EK-putket, pyöreät
B78: 2000 | C78: 602 | D78: =C78/B78 -> 0.301 | E78: https://www.rudus.fi/tuotteet/kaivot-ja-putket/ul-renkaat-ja-kannet/1657/pohjalliset-ul-kaivonrenkaat | G78: 1962 | H78: 475 | I78: =H78/G78 -> 0.2420999 | J78: https://www.rbinfra.fi/wp-content/uploads/2019/05/rb_esite_2019_netti.pdf
D80: =AVERAGE(D65:D78) -> 0.37376227 | E80: e/kg | I80: =AVERAGE(I65:I78) -> 0.26309716 | J80: e/kg | L80: =AVERAGE(L67,L71,L75) -> 6.7892593 | M80: e/kg
B82: Kalkki | G82: Kevytbetoni | L82: Kierrätyskasvualusta
B83: e/kpl | C83: kg/kpl | D83: e/kg | E83: Lähde: | G83: e/kpl | H83: e/kg | I83: Lähde: | L83: e/m3
B84: 179 | C84: 600 | D84: =B84/C84 -> 0.29833333 | E84: Lakkapää, Kalkki Calciprill 600kg Liitukalkkisäkki. https://www.lakkapaa.com/fi/maatalous-ja-konekauppa/kalkki-calciprill-600kg-liitukalkkisakki-(s)-kalkki-nopeaan-phn-nostoon/p/55510001/#description | G84: 301.94 | H84: =G84/600 -> 0.50323333 | I84: Interbauen, Kevytbetoni LC18 15/600 kg. https://interbauen.fi/kevytbetoni-lc18-15-600-kg/ | L84: 21.7 | M84: Pihamaa, Laskuri, nurmimaamulta. https://www.pihamaa.fi/Tuotteet/
D85: 0.24 | E85: Hankkija, Juuan hieno Puutarhakalkki. https://www.hankkija.fi/Piha_ja_puutarha/puutarhan-hoito/puutarhalannoitteet/ia-juuan-hieno-puutarhakalkki-25-kg-2004599/ | G85: 25.95 | H85: =G85/18 -> 1.4416667 | I85: Byggmax, EPS-kevytbetoni. https://www.byggmax.fi/eps-kevytbetoni-p01209 | L85: 22.35 | M85: Pihamaa, Laskuri, pihamaamulta. https://www.pihamaa.fi/Tuotteet/
D86: 0.66 | E86: Stark, Sammutettu kalkki Nordkalk SL 10 kg. https://www.stark-suomi.fi/fi/sammutettu-kalkki-nordkalk-sl-10kg
D88: =AVERAGE(D84:D86) -> 0.39944444 | E88: e/kg | H88: =AVERAGE(H84:H85) -> 0.97245 | I88: e/kg | L88: =AVERAGE(L84:L85) -> 22.025 | M88: e/m3
B90: Lasi | G90: Oktomurske | L90: Vaahtolasimurske
B91: e/kpl | C91: e/kg | D91: Lähde: | G91: e/kpl | H91: e/kg | I91: Lähde: | L91: e/m3 | M91: Lähde:
B92: =34.9 -> 34.9 | C92: =B92/25 -> 1.396 | D92: IKH, Lasimurska 0,2-0,5 mm 25 kg. https://www.ikh.fi/fi/lasimurska-0-2-0-5mm-25kg-lasi025 | G92: 199 | H92: =G92/1000 -> 0.199 | I92: IKH, Puhallus- ja saumarae okto 0,1-0,5mm 1000kg. https://www.ikh.fi/fi/puhallus--ja-saumausrae-okto-0-1-0-5mm-1000kg-wki006 | L92: 179 | M92: Hartman, Vaahtolasimurske Foamit 20p 1m3/sk. https://www.hartman.fi/fi/vaahtolasimurske-foamit-20-p-1m3-sk-sy65
B93: 27 | C93: =B93/25 -> 1.08 | D93: Jumeva, Lasimurska 200-300 mikrogrammaa 25 kg. https://jumeva.fi/product/183/lasimurska-200-300m-25kg | G93: 9.9 | H93: =G93/25 -> 0.396 | I93: IKH, Puhallus- ja saumarae okto 0,1-0,5mm 25kg. https://www.ikh.fi/fi/puhallus--ja-saumausrae-okto-0-5-1-5mm-25kg-wki005
C95: =AVERAGE(C92:C93) -> 1.238 | D95: e/kg | H95: =AVERAGE(H92,H93) -> 0.2975 | I95: e/kg | L95: =L92 -> 179 | M95: e/m3
B97: Kevytsoramurske | G97: Kivimurske | L97: Luonnonkivi (katukivi)
B98: e/kpl | C98: kg/kpl | D98: e/kg | E98: Lähde: | G98: e/kg | H98: Lähde: | L98: e/m2 | M98: kg/m2 | N98: e/kg | O98: Lähde:
B99: 307 | C99: 333 | D99: =B99/C99 -> 0.92192192 | E99: Stark, Kevytsora Leca KS410 1000L. https://www.stark-suomi.fi/fi/kevytsora-leca-ks410-1000-l | G99: =9.05/1000 -> 0.00905 | H99: Porvoon sora ja multa. Murske 0/32 mm. https://porvoonsorajamulta.fi/sorakauppa/murske-0-32-mm/ | L99: 23.5 | M99: 185 | N99: =L99/M99 -> 0.12702703 | O99: Taloon.com, Pihakivi Lakka Katukivi 80 278 x 138 mm harmaa. https://www.taloon.com/pihakivi-lakka-katukivi-80-278x138x80-mm-harmaa
B100: 178.9 | C100: 250 | D100: =B100/C100 -> 0.7156 | E100: Taloon.com, Leca sora KS 420KAP/1000 4-20 mm 1000 l suursäkki. https://www.taloon.com/leca-sora-ks-420kap-1000-4-20-mm-1000-l-suursakki | G100: =7.4/1000 -> 0.0074 | H100: Kalliomursketta.fi. Murske 0-32 mm. http://www.kalliomursketta.fi/389674365 | L100: 17.6 | M100: 138 | N100: =L100/M100 -> 0.12753623 | O100: Rudus, Pihakivi 60. https://www.rudus.fi/tuotteet/pihakivet-ja-maisematuotteet/betonikivet/78/pihakivi
D102: =AVERAGE(D99:D100) -> 0.81876096 | G102: =AVERAGE(G99:G100) -> 0.008225 | N102: =AVERAGE(N99:N100) -> 0.12728163
B104: Luonnonkivi (reunakivi) | G104: Salaojaputki | L104: Sora ja hiekka
B105: e/kpl | C105: kg/kpl | D105: e/kg | E105: Lähde: | G105: e/kpl | H105: kg/kpl | I105: e/kg | J105: Lähde: | L105: e/kg | M105: Lähde:
B106: 5 | C106: 12.6 | D106: =B106/C106 -> 0.3968254 | E106: Rudus, Betonireunakivi l=500. https://www.rudus.fi/tuotteet/pihakivet-ja-maisematuotteet/betoniset-reunakivet/148/reunakivi-140-mm | G106: 20.9 | H106: 2.3 | I106: =G106/H106 -> 9.0869565 | J106: K-rauta, Salaojaputki Uponor 100 5m PVC valkoinen. https://www.k-rauta.fi/tuote/salaojaputki-uponor-100-5m-pvc-valkoinen/6414903020326 | L106: =AVERAGE(6.2,9.3)/1000 -> 0.00775 | M106: Multalan sora. Seulottuhiekka ja soramurske. keskiarvo. http://www.multalansora.fi/hinnasto/
B107: 5.5 | C107: 16 | D107: =B107/C107 -> 0.34375 | E107: Taloon.com, Nurmikon reunakivi Lakka 600x135x80 mm harmaa, https://www.taloon.com/nurmikon-reunakivi-600x135x80-mm-harmaa | G107: 35.5 | H107: 4.03 | I107: =G107/H107 -> 8.808933 | J107: Netrauta, SV-putki Meltex, 110/95mmx6m, SN8, tiivisteellä. https://www.netrauta.fi/sv-putki-meltex-110-95mm-x-6m-sn8-tiivisteella | L107: =6.32/1000 -> 0.00632 | M107: Porvoon sora ja multa. Täytehiekka.
D109: =AVERAGE(D106:D107) -> 0.3702877 | I109: =AVERAGE(I106:I107) -> 8.9479448 | L109: =AVERAGE(L106:L107) -> 0.007035
B111: Tiili (punainen)
B112: e/kpl | C112: kg/kpl | D112: e/kg
B113: 1.3 | C113: 3.9 | D113: =B113/C113 -> 0.33333333 | E113: K-rauta, Tiili Terca PT punainen harjattu. https://www.k-rauta.fi/tuote/tiili-terca-pt-punainen-harjattu-257x123x57mm/6419140120389 | J113: Stark, väliseinätiili Kahi. https://www.stark-suomi.fi/fi/v%C3%A4lisein%C3%A4tiili-kahi-nkh-270x130x75-mm
B114: 1.5 | C114: 2.8 | D114: =B114/C114 -> 0.53571429 | E114: Stark, Tiili PRT punainen. https://www.stark-suomi.fi/fi/tiili-prt-257x123x57-mm-punainen | J114: Netrauta, julkisivutiili Wienerberger MRT 75. https://www.netrauta.fi/julkisivutiili-wienerberger-mrt-75-285x85x75mm-tuohi-karhea
D116: =AVERAGE(D113:D114) -> 0.43452381
